BEGIN:VCALENDAR
VERSION:2.0
PRODID:-//Unity Atlanta Church - ECPv6.15.20//NONSGML v1.0//EN
CALSCALE:GREGORIAN
METHOD:PUBLISH
X-WR-CALNAME:Unity Atlanta Church
X-ORIGINAL-URL:https://unityatl.org
X-WR-CALDESC:Events for Unity Atlanta Church
REFRESH-INTERVAL;VALUE=DURATION:PT1H
X-Robots-Tag:noindex
X-PUBLISHED-TTL:PT1H
BEGIN:VTIMEZONE
TZID:America/New_York
BEGIN:DAYLIGHT
TZOFFSETFROM:-0500
TZOFFSETTO:-0400
TZNAME:EDT
DTSTART:20240310T070000
END:DAYLIGHT
BEGIN:STANDARD
TZOFFSETFROM:-0400
TZOFFSETTO:-0500
TZNAME:EST
DTSTART:20241103T060000
END:STANDARD
BEGIN:DAYLIGHT
TZOFFSETFROM:-0500
TZOFFSETTO:-0400
TZNAME:EDT
DTSTART:20250309T070000
END:DAYLIGHT
BEGIN:STANDARD
TZOFFSETFROM:-0400
TZOFFSETTO:-0500
TZNAME:EST
DTSTART:20251102T060000
END:STANDARD
BEGIN:DAYLIGHT
TZOFFSETFROM:-0500
TZOFFSETTO:-0400
TZNAME:EDT
DTSTART:20260308T070000
END:DAYLIGHT
BEGIN:STANDARD
TZOFFSETFROM:-0400
TZOFFSETTO:-0500
TZNAME:EST
DTSTART:20261101T060000
END:STANDARD
END:VTIMEZONE
BEGIN:VEVENT
DTSTART;TZID=America/New_York:20250831T084500
DTEND;TZID=America/New_York:20250831T094500
DTSTAMP:20260421T105943
CREATED:20240416T151420Z
LAST-MODIFIED:20240416T151420Z
UID:10002880-1756629900-1756633500@unityatl.org
SUMMARY:Practicing the Presence—A Course in Miracles with Michael Wilkinson–via Zoom
DESCRIPTION:Practicing the Presence—A Course in Miracles Weekly Group Study Over Zoom\n \nA Course in Miracles aims at removing the blocks to the awareness of love’s presence. As the Introduction explains: “The opposite of love is fear\, but what is all-encompassing can have no opposite. This course can therefore be summed up very simply in this way: Nothing real can be threatened. Nothing unreal exists. Herein lies the peace of God.“ \nFacilitator: Michael Wilkinson  Sunday’s 9:00 – 10:30 AM\, EST (Optional meditation at 8:45) \nThis is an open and ongoing class.  All are welcome.  Drop-in any time.\nBooks can be ordered through The Wisdom Well-Unity Atlanta’s bookstore. \nNew people are very welcome to join!  If you are interested\, please email MWilkinson@leadstrat.com in order to receive the Zoom log-in information. 
URL:https://unityatl.org/events/practicing-the-presence-a-course-in-miracles-with-michael-wilkinson-via-zoom-2-2/2025-08-31/
LOCATION:Unity Atlanta\, 3597 Parkway Lane\, Norcross\, 30092\, United States
GEO:33.9597203;-84.231198
X-APPLE-STRUCTURED-LOCATION;VALUE=URI;X-ADDRESS=Unity Atlanta 3597 Parkway Lane Norcross 30092 United States;X-APPLE-RADIUS=500;X-TITLE=3597 Parkway Lane:geo:-84.231198,33.9597203
END:VEVENT
BEGIN:VEVENT
DTSTART;TZID=America/New_York:20250831T084500
DTEND;TZID=America/New_York:20250831T103000
DTSTAMP:20260421T105943
CREATED:20260106T162342Z
LAST-MODIFIED:20260106T162349Z
UID:10004561-1756629900-1756636200@unityatl.org
SUMMARY:Practicing the Presence—A Course in Miracles with Michael Wilkinson–via Zoom
DESCRIPTION:Practicing the Presence—A Course in Miracles Weekly Group Study Over Zoom\n \nA Course in Miracles aims at removing the blocks to the awareness of love’s presence. As the Introduction explains: “The opposite of love is fear\, but what is all-encompassing can have no opposite. This course can therefore be summed up very simply in this way: Nothing real can be threatened. Nothing unreal exists. Herein lies the peace of God.“ \nFacilitator: Michael Wilkinson  Sunday’s 9:00 – 10:30 AM\, EST (Optional meditation at 8:45) \nThis is an open and ongoing class.  All are welcome.  Drop-in any time.\nBooks can be ordered through The Wisdom Well-Unity Atlanta’s bookstore. \nNew people are very welcome to join!  If you are interested\, please email MWilkinson@leadstrat.com in order to receive the Zoom log-in information. 
URL:https://unityatl.org/events/practicing-the-presence-a-course-in-miracles-with-michael-wilkinson-via-zoom-2-2-2/2025-08-31/
LOCATION:Unity Atlanta\, 3597 Parkway Lane\, Norcross\, 30092\, United States
GEO:33.9597203;-84.231198
X-APPLE-STRUCTURED-LOCATION;VALUE=URI;X-ADDRESS=Unity Atlanta 3597 Parkway Lane Norcross 30092 United States;X-APPLE-RADIUS=500;X-TITLE=3597 Parkway Lane:geo:-84.231198,33.9597203
END:VEVENT
BEGIN:VEVENT
DTSTART;TZID=America/New_York:20250831T084500
DTEND;TZID=America/New_York:20250831T103000
DTSTAMP:20260421T105943
CREATED:20260219T162845Z
LAST-MODIFIED:20260219T162846Z
UID:10005159-1756629900-1756636200@unityatl.org
SUMMARY:Practicing the Presence—A Course in Miracles with Michael Wilkinson–via Zoom
DESCRIPTION:Practicing the Presence—A Course in Miracles Weekly Group Study Over Zoom\n \nA Course in Miracles aims at removing the blocks to the awareness of love’s presence. As the Introduction explains: “The opposite of love is fear\, but what is all-encompassing can have no opposite. This course can therefore be summed up very simply in this way: Nothing real can be threatened. Nothing unreal exists. Herein lies the peace of God.“ \nFacilitator: Michael Wilkinson  Sunday’s 9:00 – 10:30 AM\, EST (Optional meditation at 8:45) \nThis is an open and ongoing class.  All are welcome.  Drop-in any time.\nBooks can be ordered through The Wisdom Well-Unity Atlanta’s bookstore. \nNew people are very welcome to join!  If you are interested\, please email MWilkinson@leadstrat.com in order to receive the Zoom log-in information. 
URL:https://unityatl.org/events/practicing-the-presence-a-course-in-miracles-with-michael-wilkinson-via-zoom-2-2-2-2/2025-08-31/
LOCATION:Unity Atlanta\, 3597 Parkway Lane\, Norcross\, 30092\, United States
GEO:33.9597203;-84.231198
X-APPLE-STRUCTURED-LOCATION;VALUE=URI;X-ADDRESS=Unity Atlanta 3597 Parkway Lane Norcross 30092 United States;X-APPLE-RADIUS=500;X-TITLE=3597 Parkway Lane:geo:-84.231198,33.9597203
END:VEVENT
BEGIN:VEVENT
DTSTART;TZID=America/New_York:20250831T100000
DTEND;TZID=America/New_York:20250831T105000
DTSTAMP:20260421T105943
CREATED:20250403T210046Z
LAST-MODIFIED:20250403T210047Z
UID:10004042-1756634400-1756637400@unityatl.org
SUMMARY:Energy Healing Sessions
DESCRIPTION:Welcome to Unity Atlanta Church Healing Room!\nAll Are Welcome!  Our team provides energy healing sessions most Sundays from 10:00 to 10:50 A.M.\n \n \nDate:  Most Sundays\, 10:00 – 10:50am\nLocation: Room 105 off of the Lobby \nWe offer relaxing energy treatments and chakra balancing.  These are fully-clothed sessions with sturdy massage tables available.  Our energy work is performed by quality\, certified practitioners for love-offerings which go directly to help fund the work of Unity Atlanta Church. \nPlease sign in at the small table in the Healing Room.  For more information\, please “text” Elisha Fields at 678-491-4332 \nFeel free to stop by and say “Hello”\nWe are located on the left side of the front lobby next to the Bookstore.  And\, we have comfortable chairs available when waiting for a treatment or visiting our healers. \n\nAbout our Energy Healing Team:   \nSimone Jennings: \n \nSimone is a seasoned spiritual coach and energy practitioner with over 15 years of experience guiding clients through processes of awareness and alignment of mind\, body\, and spirit. \nAs a certified Life Skills coach\, Angel Practitioner\, and Reiki Master\, she seamlessly integrates a wide range of techniques to empower individuals in releasing blockages\, realigning energies\, and reclaiming their true essence. \nDeeply passionate about serving others and leading with compassion\, Simone is dedicated to helping her clients achieve profound transformation and lasting well-being \nCynthia Wittman: \n \nCynthia has practiced yoga and been a recipient of various energy healing modalities for several years. Living a more peaceful and abundant life\, Cynthia understands the benefits of sharing the universal life force with others. Cynthia began studying Reiki in early 2024 and is a Level 1 certificate holder with plans to complete all four levels to achieve Master. \nAs a registered interior designer\, Cynthia discovered one of her divine gifts and developed it into a profession. She designs spaces for others to live and work\, pursue their own purpose and passion\, heal and even perhaps transition. \n  \nElisha Fields:\nElisha is a Mystic\, Energy Worker\, and Master Teacher of Magnified Healing\, energy work which originated in China. When Magnified Healing was channeled by Quan Yin to two Reiki Masters in 1993\, Elisha studied with them at that time. \nElisha is also a certified hypnotherapist. She used hypnotherapy in 1993 to develop a pain relief system which is particularly successful with migraine headaches and localized pain.\nIn our healing room\, her session is designed to remove energy blocks and balance chakras. \n  \n  \n  \n  \n 
URL:https://unityatl.org/events/energy-healing-sessions-2-3/2025-08-31/
LOCATION:Unity Atlanta\, 3597 Parkway Lane\, Norcross\, 30092\, United States
GEO:33.9597203;-84.231198
X-APPLE-STRUCTURED-LOCATION;VALUE=URI;X-ADDRESS=Unity Atlanta 3597 Parkway Lane Norcross 30092 United States;X-APPLE-RADIUS=500;X-TITLE=3597 Parkway Lane:geo:-84.231198,33.9597203
END:VEVENT
BEGIN:VEVENT
DTSTART;TZID=America/New_York:20250831T100000
DTEND;TZID=America/New_York:20250831T105000
DTSTAMP:20260421T105943
CREATED:20260319T160009Z
LAST-MODIFIED:20260319T160010Z
UID:10005275-1756634400-1756637400@unityatl.org
SUMMARY:Energy Healing Sessions
DESCRIPTION:Come Enjoy Our NEW Healing Room!!\nAll Are Welcome!  Our team provides energy healing sessions most Sundays from 10:00 to 10:50 A.M.\n \nDate:  Most Sundays\, 10:00 – 10:50am\nLocation: Room 123 in the Youth Wing  (New Healing Room!)\nContact Person: Elisha Fields  Elisha@RoyalPath.info or text 678-491-4332 \nWe offer relaxing energy treatments and chakra balancing.  These are fully-clothed sessions with sturdy massage tables available.  Our energy work is performed by quality\, certified practitioners for love-offerings which go directly to help fund the work of Unity Atlanta Church. \nPlease sign in at the small table in the Healing Room. \nTo learn about private sessions with our Healing Team Members\, please go to https://unityatl.org/healing-congregational-care/ and into the “Meet Our Healing Team” section.  \nAbout our Energy Healing Team:   \nSimone Jennings: \nSimone is a seasoned spiritual coach and energy practitioner with over 15 years of experience guiding clients through processes of awareness and alignment of mind\, body\, and spirit. \nAs a certified Life Skills coach\, Angel Practitioner\, and Reiki Master\, she seamlessly integrates a wide range of techniques to empower individuals in releasing blockages\, realigning energies\, and reclaiming their true essence. \nDeeply passionate about serving others and leading with compassion\, Simone is dedicated to helping her clients achieve profound transformation and lasting well-being. \nCynthia Wittman: \nCynthia has practiced yoga and been a recipient of various energy healing modalities for several years. Living a more peaceful and abundant life\, Cynthia understands the benefits of sharing the universal life force with others. Cynthia began studying Reiki in early 2024 and is a Level 1 certificate holder with plans to complete all four levels to achieve Master. \nAs a registered interior designer\, Cynthia discovered one of her divine gifts and developed it into a profession. She designs spaces for others to live and work\, pursue their own purpose and passion\, heal and even perhaps transition. \nElisha Fields:\nElisha is a Mystic\, Energy Worker\, and Master Teacher of Magnified Healing\, energy work which originated in China. When Magnified Healing was channeled by Quan Yin to two Reiki Masters in 1993\, Elisha studied with them at that time. \nElisha is also a certified hypnotherapist. She used hypnotherapy in 1993 to develop a pain relief system which is particularly successful with migraine headaches and localized pain.\nIn our healing room\, her session is designed to remove energy blocks and balance chakras. \n  \n  \n  \n  \n 
URL:https://unityatl.org/events/energy-healing-sessions-2-3-5/2025-08-31/
LOCATION:Unity Atlanta\, 3597 Parkway Lane\, Norcross\, 30092\, United States
GEO:33.9597203;-84.231198
X-APPLE-STRUCTURED-LOCATION;VALUE=URI;X-ADDRESS=Unity Atlanta 3597 Parkway Lane Norcross 30092 United States;X-APPLE-RADIUS=500;X-TITLE=3597 Parkway Lane:geo:-84.231198,33.9597203
END:VEVENT
BEGIN:VEVENT
DTSTART;TZID=America/New_York:20250831T100000
DTEND;TZID=America/New_York:20250831T105000
DTSTAMP:20260421T105943
CREATED:20260324T163642Z
LAST-MODIFIED:20260324T163744Z
UID:10005326-1756634400-1756637400@unityatl.org
SUMMARY:Energy Healing Sessions
DESCRIPTION:Come Enjoy Our NEW Healing Room!!\nAll Are Welcome!  Our team provides energy healing sessions most Sundays from 10:00 to 10:50 A.M.\n \nDate:  Most Sundays\, 10:00 – 10:50am\nLocation: Room 123 in the Youth Wing  (New Healing Room!)\nContact Person: Elisha Fields  Elisha@RoyalPath.info or text 678-491-4332 \nWe offer relaxing energy treatments and chakra balancing.  These are fully-clothed sessions with sturdy massage tables available.  Our energy work is performed by quality\, certified practitioners for love-offerings which go directly to help fund the work of Unity Atlanta Church. \nPlease sign in at the small table in the Healing Room. \nTo learn about private sessions with our Healing Team Members\, please go to https://unityatl.org/healing-congregational-care/ and into the “Meet Our Healing Team” section.  \nAbout our Energy Healing Team:   \nSimone Jennings: \nSimone is a seasoned spiritual coach and energy practitioner with over 15 years of experience guiding clients through processes of awareness and alignment of mind\, body\, and spirit. \nAs a certified Life Skills coach\, Angel Practitioner\, and Reiki Master\, she seamlessly integrates a wide range of techniques to empower individuals in releasing blockages\, realigning energies\, and reclaiming their true essence.  Deeply passionate about serving others and leading with compassion\, Simone is dedicated to helping her clients achieve profound transformation and lasting well-being. \nCynthia Wittman: \nCynthia has practiced yoga and been a recipient of various energy healing modalities for several years. Living a more peaceful and abundant life\, Cynthia understands the benefits of sharing the universal life force with others. Cynthia began studying Reiki in early 2024 and is a Level 1 certificate holder with plans to complete all four levels to achieve Master. \nAs a registered interior designer\, Cynthia discovered one of her divine gifts and developed it into a profession. She designs spaces for others to live and work\, pursue their own purpose and passion\, heal and even perhaps transition. \nElisha Fields:\n \nElisha is an Energy Worker and Master Teacher of Magnified Healing.  She formulated a pain relief technique in 1993 which has been very successful with headaches including some migraines.  She teaches meditation\, metaphysics\, the power of thought\, imagery and visualization. \nElisha is available at Unity Atlanta Church on Wednesday evenings\, May through October\, for classes and some Sunday mornings for short healing sessions. \n  \nTo learn about private sessions with our Healing Team Members\, please go to https://unityatl.org/healing-congregational-care/ and into the “Meet Our Healing Team” section.  \n 
URL:https://unityatl.org/events/energy-healing-sessions-2-3-5-2/2025-08-31/
LOCATION:Unity Atlanta\, 3597 Parkway Lane\, Norcross\, 30092\, United States
GEO:33.9597203;-84.231198
X-APPLE-STRUCTURED-LOCATION;VALUE=URI;X-ADDRESS=Unity Atlanta 3597 Parkway Lane Norcross 30092 United States;X-APPLE-RADIUS=500;X-TITLE=3597 Parkway Lane:geo:-84.231198,33.9597203
END:VEVENT
BEGIN:VEVENT
DTSTART;TZID=America/New_York:20250831T100000
DTEND;TZID=America/New_York:20250831T105000
DTSTAMP:20260421T105943
CREATED:20260402T180648Z
LAST-MODIFIED:20260402T180648Z
UID:10005402-1756634400-1756637400@unityatl.org
SUMMARY:Energy Healing Sessions
DESCRIPTION:Come Enjoy Our NEW Healing Room!!\nAll Are Welcome!  Our team provides energy healing sessions most Sundays from 10:00 to 10:50 A.M.\n \nDate:  Most Sundays\, 10:00 – 10:50am\nLocation: Room 123 in the Youth Wing  (New Healing Room!)\nContact Person: Elisha Fields  Elisha@RoyalPath.info or text 678-491-4332 \nWe offer relaxing energy treatments and chakra balancing.  These are fully-clothed sessions with sturdy massage tables available.  Our energy work is performed by quality\, certified practitioners for love-offerings which go directly to help fund the work of Unity Atlanta Church. \nPlease sign in at the small table in the Healing Room. \nTo learn about private sessions with our Healing Team Members\, please go to https://unityatl.org/healing-congregational-care/ and into the “Meet Our Healing Team” section.  \nAbout our Energy Healing Team:   \nSimone Jennings: \nSimone is a seasoned spiritual coach and energy practitioner with over 15 years of experience guiding clients through processes of awareness and alignment of mind\, body\, and spirit. \nAs a certified Life Skills coach\, Angel Practitioner\, and Reiki Master\, she seamlessly integrates a wide range of techniques to empower individuals in releasing blockages\, realigning energies\, and reclaiming their true essence.  Deeply passionate about serving others and leading with compassion\, Simone is dedicated to helping her clients achieve profound transformation and lasting well-being. \nCynthia Wittman: \nCynthia has practiced yoga and been a recipient of various energy healing modalities for several years. Living a more peaceful and abundant life\, Cynthia understands the benefits of sharing the universal life force with others. Cynthia began studying Reiki in early 2024 and is a Level 1 certificate holder with plans to complete all four levels to achieve Master. \nAs a registered interior designer\, Cynthia discovered one of her divine gifts and developed it into a profession. She designs spaces for others to live and work\, pursue their own purpose and passion\, heal and even perhaps transition. \nElisha Fields:\n \nElisha is a Master Teacher of Magnified Healing\, teacher of metaphysics\, artist\, writer and third generation mystic.  In 1993\, Elisha developed a pain relief system which is successful with many headaches\, as well as\, some migraines.  She is available in the healing room for questions most Sundays before the 11:00 AM service. \nElisha is available at Unity Atlanta Church on Wednesday evenings\, May through October\, for classes and may also be reached at RoyalPath.info \n  \nTo learn about private sessions with our Healing Team Members\, please go to https://unityatl.org/healing-congregational-care/ and into the “Meet Our Healing Team” section.  \n 
URL:https://unityatl.org/events/energy-healing-sessions-2-3-5-2-3/2025-08-31/
LOCATION:Unity Atlanta\, 3597 Parkway Lane\, Norcross\, 30092\, United States
GEO:33.9597203;-84.231198
X-APPLE-STRUCTURED-LOCATION;VALUE=URI;X-ADDRESS=Unity Atlanta 3597 Parkway Lane Norcross 30092 United States;X-APPLE-RADIUS=500;X-TITLE=3597 Parkway Lane:geo:-84.231198,33.9597203
END:VEVENT
BEGIN:VEVENT
DTSTART;TZID=America/New_York:20250831T100000
DTEND;TZID=America/New_York:20250831T130000
DTSTAMP:20260421T105943
CREATED:20240425T210846Z
LAST-MODIFIED:20240425T210847Z
UID:10003161-1756634400-1756645200@unityatl.org
SUMMARY:Wisdom Well Bookstore
DESCRIPTION:The Wisdom Well Bookstore\n\n \nOur metaphysical bookstore reflects the heart of Unity Atlanta Church. It offers a collection of new thought\, spiritual\, and self-help books. We know you’ll be inspired with the large selection of gift items. The bookstore also supports our  Adult Education classes with a supply of teaching materials and textbooks. Our volunteer Bookstore Angels are always eager to introduce a new book or reacquaint us with an old classic. \nWisdom Well Store Hours:  Sundays\, 10:00 AM – 1:00 PM \nLooking for a book in particular? \nTo contact:  unitywisdomwell@gmail.com  or call the church office: 770-441-0585 \n\nWe have books for diverse interests:                                                                                  We also have many gifts including:            \nSpirituality                                                                                                                                Bimonthly issues of Unity Magazine\nBibles & Bible Reference Books                                                                                              Bimonthly issues of Daily Word\nPrayer & Meditation                                                                                                                 Greeting Cards\nInspiration & Motivation                                                                                                           Affirmation and 12 power stones\nRelationships                                                                                                                          Candles\nHealth & Healing                                                                                                                     Meditative scents\nTransitioning & Grieving                                                                                                          Notepads\nAngels                                                                                                                                     T-shirts\nBooks for children                                                                                                                   Bookmarks \n  \n 
URL:https://unityatl.org/events/wisdom-well-bookstore-2/2025-08-31/
LOCATION:Unity Atlanta\, 3597 Parkway Lane\, Norcross\, 30092\, United States
GEO:33.9597203;-84.231198
X-APPLE-STRUCTURED-LOCATION;VALUE=URI;X-ADDRESS=Unity Atlanta 3597 Parkway Lane Norcross 30092 United States;X-APPLE-RADIUS=500;X-TITLE=3597 Parkway Lane:geo:-84.231198,33.9597203
END:VEVENT
BEGIN:VEVENT
DTSTART;TZID=America/New_York:20250831T110000
DTEND;TZID=America/New_York:20250831T120000
DTSTAMP:20260421T105943
CREATED:20250730T203423Z
LAST-MODIFIED:20250806T131810Z
UID:10004362-1756638000-1756641600@unityatl.org
SUMMARY:Sunday Message with Guest Speaker and Musician Eddie Watkins Jr.
DESCRIPTION:Join us as we welcome “The Man from Motown with a Message” bassist\, vocalist\, songwriter\, and speaker Eddie Watkins Jr. this Sunday!\n \nDate: Sunday\, August 31\nTime: 11:00am \nMessage: “We Are Awakening” – Eddie Watkins Jr.\, Guest Speaker and Musician \n  \nMore about Eddie Watkins Jr. \n“The Man from Motown with a Message“\nCopyright Michael Conner \n“My music is an expression of all the experiences in my life.” \nGrowing up in the ghettos of Detroit\, at 17 years old playing bass guitar on recordings with the Temptations and Marvin Gaye\, being mentored by the Motown greats\, becoming a studio musician\, making lots of money\, moving to LA with Motown\, substance abuse and recovery\, led to a spiritual search. \nWhen Eddie became involved in the new thought ancient / wisdom movement in 2007 songs woke him up pouring out of him. His first CD was conceived\, recorded\, produced and selling within six months. To this date Eddie has written\, produced and recorded seven spiritual inspirational CDs. \nEddie has served as a musical director for the: \nCenter for Spiritual Living Las Vegas\nCenter for Spiritual Living Seattle\nUnity Center For Creative Living Saint John Florida\nCenter for Spiritual Living in Saint Augustine Florida\nand currently serving at Unity of Central Florida. \nEddie has recorded with Marvin Gaye\, Barbra Streisand\, Quincy Jones\, James Brown\, Santana\, Cher\, Diana Ross\, Herbie Hancock\, Patti LaBelle\, the Pointer Sisters\, Peter Frampton\, Gato Barbieri\, The Temptations\, Phyllis Hyman\, Norman Connors\, Thelma Houston\, Nancy Wilson and the list goes on and on. \n“I know what my life‘s purpose is\, to share this music with the world“ \n~Eddie
URL:https://unityatl.org/events/sunday-message-with-guest-speaker-and-musician-eddie-watkins-jr/
LOCATION:Unity Atlanta\, 3597 Parkway Lane\, Norcross\, 30092\, United States
GEO:33.9597203;-84.231198
X-APPLE-STRUCTURED-LOCATION;VALUE=URI;X-ADDRESS=Unity Atlanta 3597 Parkway Lane Norcross 30092 United States;X-APPLE-RADIUS=500;X-TITLE=3597 Parkway Lane:geo:-84.231198,33.9597203
END:VEVENT
BEGIN:VEVENT
DTSTART;TZID=America/New_York:20250831T123000
DTEND;TZID=America/New_York:20250831T133000
DTSTAMP:20260421T105943
CREATED:20250618T151014Z
LAST-MODIFIED:20251016T161117Z
UID:10004328-1756643400-1756647000@unityatl.org
SUMMARY:Spiritual Aging Well Monthly Discussion Group
DESCRIPTION:Monthly Discussion Group Discussing Articles from the Unity Village booklet “Spiritual Keys to Aging Well.”\n \nDates: Last Sunday of the Month\nTime: 12:30pm\nLocation: Board Room\, Rm 109 \nThis group discusses articles from the June of 2024 Unity Village booklet on “Spiritual Keys to Aging Well.”   If you did not pick one up at that time\, one will be provided for you.  We meet on the last Sundays\, April through December. \nAll are welcome\, No RSVP necessary. \nDates for 2025:  \nApril 27\nMay 25\nJune 29\nJuly 27\nAugust 31\nSept 28\nOct 26\nNov. 30\nDec. 28 \n 
URL:https://unityatl.org/events/spiritual-keys-to-aging-well-monthly-discussion-group-3-2-3/2025-08-31/
LOCATION:Unity Atlanta\, 3597 Parkway Lane\, Norcross\, 30092\, United States
GEO:33.9597203;-84.231198
X-APPLE-STRUCTURED-LOCATION;VALUE=URI;X-ADDRESS=Unity Atlanta 3597 Parkway Lane Norcross 30092 United States;X-APPLE-RADIUS=500;X-TITLE=3597 Parkway Lane:geo:-84.231198,33.9597203
END:VEVENT
BEGIN:VEVENT
DTSTART;TZID=America/New_York:20250904T193000
DTEND;TZID=America/New_York:20250904T210000
DTSTAMP:20260421T105943
CREATED:20230322T183041Z
LAST-MODIFIED:20241031T174435Z
UID:10002207-1757014200-1757019600@unityatl.org
SUMMARY:Unity Atlanta Men's Group
DESCRIPTION:Unity Atlanta Men’s Group \nThe men’s group meets onsite at the church the 1st – 3rd Thursdays of the month.  The 4th (and if applicable\, the 5th) Thursday is often a Game Night\, or one of a number of various activities. \n \nFor any questions\, including the logistics for the 4th and 5th Thursdays\, please TEXT Steve Peck at 770-639-5242 or email him at speck3053@comcast.net   \nLocation:  Unity Atlanta Room 108   Time: 7:30 – 9:00 PM \nFor any questions\,  please TEXT Steve Peck at 770-639-5242 or email him at speck3053@comcast.net/      \nThe Unity Atlanta Men’s Group Meetings begin with a brief 1-2 minute check-in during which each member shares how his week went\, what’s gong on in his life\, and any success or challenges he may be experiencing. \nWe then move on to a topic\, which either arises during the check-in or has been prepared in advance by one of the members.  Topics\, week from week\, have a wide range of subjects.  We share from our own experience rather than giving opinions or advice or telling stories.  Through this sharing\, a sense of brotherhood develops with the individual members while retaining an openness that is welcoming to all. \nOccasionally\, we also conduct public outreach\, and each fall we sponsor a men only retreat. \nMission Statement: \n\nWe are a self-supporting\, self-facilitating\, spiritually-based group\nWe remind each other that we are all connected and learn from our collective wisdom\nWe promote spirituality\, growth\, learning and community\nWe support each other and remind each other to live “in faith”\nWe share our lives\, our joy\, and our abundance to become like-minded brothers\nWe radiate our spirituality to our families\, friends and the world\nWe express our feelings and emotions through healthy communication\nRegardless of our means and circumstances\, we are friends and equals\nWe are here–join us!
URL:https://unityatl.org/events/unity-atlanta-mens-group-18/2025-09-04/
LOCATION:Unity Atlanta\, 3597 Parkway Lane\, Norcross\, 30092\, United States
GEO:33.9597203;-84.231198
X-APPLE-STRUCTURED-LOCATION;VALUE=URI;X-ADDRESS=Unity Atlanta 3597 Parkway Lane Norcross 30092 United States;X-APPLE-RADIUS=500;X-TITLE=3597 Parkway Lane:geo:-84.231198,33.9597203
END:VEVENT
END:VCALENDAR