BEGIN:VCALENDAR
VERSION:2.0
PRODID:-//Unity Atlanta Church - ECPv6.15.20//NONSGML v1.0//EN
CALSCALE:GREGORIAN
METHOD:PUBLISH
X-ORIGINAL-URL:https://unityatl.org
X-WR-CALDESC:Events for Unity Atlanta Church
REFRESH-INTERVAL;VALUE=DURATION:PT1H
X-Robots-Tag:noindex
X-PUBLISHED-TTL:PT1H
BEGIN:VTIMEZONE
TZID:America/New_York
BEGIN:DAYLIGHT
TZOFFSETFROM:-0500
TZOFFSETTO:-0400
TZNAME:EDT
DTSTART:20240310T070000
END:DAYLIGHT
BEGIN:STANDARD
TZOFFSETFROM:-0400
TZOFFSETTO:-0500
TZNAME:EST
DTSTART:20241103T060000
END:STANDARD
BEGIN:DAYLIGHT
TZOFFSETFROM:-0500
TZOFFSETTO:-0400
TZNAME:EDT
DTSTART:20250309T070000
END:DAYLIGHT
BEGIN:STANDARD
TZOFFSETFROM:-0400
TZOFFSETTO:-0500
TZNAME:EST
DTSTART:20251102T060000
END:STANDARD
BEGIN:DAYLIGHT
TZOFFSETFROM:-0500
TZOFFSETTO:-0400
TZNAME:EDT
DTSTART:20260308T070000
END:DAYLIGHT
BEGIN:STANDARD
TZOFFSETFROM:-0400
TZOFFSETTO:-0500
TZNAME:EST
DTSTART:20261101T060000
END:STANDARD
END:VTIMEZONE
BEGIN:VEVENT
DTSTART;TZID=America/New_York:20250323T084500
DTEND;TZID=America/New_York:20250323T094500
DTSTAMP:20260422T053736
CREATED:20240416T151420Z
LAST-MODIFIED:20240416T151420Z
UID:10002857-1742719500-1742723100@unityatl.org
SUMMARY:Practicing the Presence—A Course in Miracles with Michael Wilkinson–via Zoom
DESCRIPTION:Practicing the Presence—A Course in Miracles Weekly Group Study Over Zoom\n \nA Course in Miracles aims at removing the blocks to the awareness of love’s presence. As the Introduction explains: “The opposite of love is fear\, but what is all-encompassing can have no opposite. This course can therefore be summed up very simply in this way: Nothing real can be threatened. Nothing unreal exists. Herein lies the peace of God.“ \nFacilitator: Michael Wilkinson  Sunday’s 9:00 – 10:30 AM\, EST (Optional meditation at 8:45) \nThis is an open and ongoing class.  All are welcome.  Drop-in any time.\nBooks can be ordered through The Wisdom Well-Unity Atlanta’s bookstore. \nNew people are very welcome to join!  If you are interested\, please email MWilkinson@leadstrat.com in order to receive the Zoom log-in information. 
URL:https://unityatl.org/events/practicing-the-presence-a-course-in-miracles-with-michael-wilkinson-via-zoom-2-2/2025-03-23/
LOCATION:Unity Atlanta\, 3597 Parkway Lane\, Norcross\, 30092\, United States
GEO:33.9597203;-84.231198
X-APPLE-STRUCTURED-LOCATION;VALUE=URI;X-ADDRESS=Unity Atlanta 3597 Parkway Lane Norcross 30092 United States;X-APPLE-RADIUS=500;X-TITLE=3597 Parkway Lane:geo:-84.231198,33.9597203
END:VEVENT
BEGIN:VEVENT
DTSTART;TZID=America/New_York:20250323T084500
DTEND;TZID=America/New_York:20250323T103000
DTSTAMP:20260422T053736
CREATED:20260106T162342Z
LAST-MODIFIED:20260106T162349Z
UID:10004538-1742719500-1742725800@unityatl.org
SUMMARY:Practicing the Presence—A Course in Miracles with Michael Wilkinson–via Zoom
DESCRIPTION:Practicing the Presence—A Course in Miracles Weekly Group Study Over Zoom\n \nA Course in Miracles aims at removing the blocks to the awareness of love’s presence. As the Introduction explains: “The opposite of love is fear\, but what is all-encompassing can have no opposite. This course can therefore be summed up very simply in this way: Nothing real can be threatened. Nothing unreal exists. Herein lies the peace of God.“ \nFacilitator: Michael Wilkinson  Sunday’s 9:00 – 10:30 AM\, EST (Optional meditation at 8:45) \nThis is an open and ongoing class.  All are welcome.  Drop-in any time.\nBooks can be ordered through The Wisdom Well-Unity Atlanta’s bookstore. \nNew people are very welcome to join!  If you are interested\, please email MWilkinson@leadstrat.com in order to receive the Zoom log-in information. 
URL:https://unityatl.org/events/practicing-the-presence-a-course-in-miracles-with-michael-wilkinson-via-zoom-2-2-2/2025-03-23/
LOCATION:Unity Atlanta\, 3597 Parkway Lane\, Norcross\, 30092\, United States
GEO:33.9597203;-84.231198
X-APPLE-STRUCTURED-LOCATION;VALUE=URI;X-ADDRESS=Unity Atlanta 3597 Parkway Lane Norcross 30092 United States;X-APPLE-RADIUS=500;X-TITLE=3597 Parkway Lane:geo:-84.231198,33.9597203
END:VEVENT
BEGIN:VEVENT
DTSTART;TZID=America/New_York:20250323T084500
DTEND;TZID=America/New_York:20250323T103000
DTSTAMP:20260422T053736
CREATED:20260219T162845Z
LAST-MODIFIED:20260219T162846Z
UID:10005136-1742719500-1742725800@unityatl.org
SUMMARY:Practicing the Presence—A Course in Miracles with Michael Wilkinson–via Zoom
DESCRIPTION:Practicing the Presence—A Course in Miracles Weekly Group Study Over Zoom\n \nA Course in Miracles aims at removing the blocks to the awareness of love’s presence. As the Introduction explains: “The opposite of love is fear\, but what is all-encompassing can have no opposite. This course can therefore be summed up very simply in this way: Nothing real can be threatened. Nothing unreal exists. Herein lies the peace of God.“ \nFacilitator: Michael Wilkinson  Sunday’s 9:00 – 10:30 AM\, EST (Optional meditation at 8:45) \nThis is an open and ongoing class.  All are welcome.  Drop-in any time.\nBooks can be ordered through The Wisdom Well-Unity Atlanta’s bookstore. \nNew people are very welcome to join!  If you are interested\, please email MWilkinson@leadstrat.com in order to receive the Zoom log-in information. 
URL:https://unityatl.org/events/practicing-the-presence-a-course-in-miracles-with-michael-wilkinson-via-zoom-2-2-2-2/2025-03-23/
LOCATION:Unity Atlanta\, 3597 Parkway Lane\, Norcross\, 30092\, United States
GEO:33.9597203;-84.231198
X-APPLE-STRUCTURED-LOCATION;VALUE=URI;X-ADDRESS=Unity Atlanta 3597 Parkway Lane Norcross 30092 United States;X-APPLE-RADIUS=500;X-TITLE=3597 Parkway Lane:geo:-84.231198,33.9597203
END:VEVENT
BEGIN:VEVENT
DTSTART;TZID=America/New_York:20250323T100000
DTEND;TZID=America/New_York:20250323T130000
DTSTAMP:20260422T053736
CREATED:20240425T210846Z
LAST-MODIFIED:20240425T210847Z
UID:10003138-1742724000-1742734800@unityatl.org
SUMMARY:Wisdom Well Bookstore
DESCRIPTION:The Wisdom Well Bookstore\n\n \nOur metaphysical bookstore reflects the heart of Unity Atlanta Church. It offers a collection of new thought\, spiritual\, and self-help books. We know you’ll be inspired with the large selection of gift items. The bookstore also supports our  Adult Education classes with a supply of teaching materials and textbooks. Our volunteer Bookstore Angels are always eager to introduce a new book or reacquaint us with an old classic. \nWisdom Well Store Hours:  Sundays\, 10:00 AM – 1:00 PM \nLooking for a book in particular? \nTo contact:  unitywisdomwell@gmail.com  or call the church office: 770-441-0585 \n\nWe have books for diverse interests:                                                                                  We also have many gifts including:            \nSpirituality                                                                                                                                Bimonthly issues of Unity Magazine\nBibles & Bible Reference Books                                                                                              Bimonthly issues of Daily Word\nPrayer & Meditation                                                                                                                 Greeting Cards\nInspiration & Motivation                                                                                                           Affirmation and 12 power stones\nRelationships                                                                                                                          Candles\nHealth & Healing                                                                                                                     Meditative scents\nTransitioning & Grieving                                                                                                          Notepads\nAngels                                                                                                                                     T-shirts\nBooks for children                                                                                                                   Bookmarks \n  \n 
URL:https://unityatl.org/events/wisdom-well-bookstore-2/2025-03-23/
LOCATION:Unity Atlanta\, 3597 Parkway Lane\, Norcross\, 30092\, United States
GEO:33.9597203;-84.231198
X-APPLE-STRUCTURED-LOCATION;VALUE=URI;X-ADDRESS=Unity Atlanta 3597 Parkway Lane Norcross 30092 United States;X-APPLE-RADIUS=500;X-TITLE=3597 Parkway Lane:geo:-84.231198,33.9597203
END:VEVENT
BEGIN:VEVENT
DTSTART;TZID=America/New_York:20250323T103000
DTEND;TZID=America/New_York:20250323T110000
DTSTAMP:20260422T053736
CREATED:20241017T153735Z
LAST-MODIFIED:20241017T153736Z
UID:10003408-1742725800-1742727600@unityatl.org
SUMMARY:Energy Healing Sessions
DESCRIPTION:Welcome to Unity Atlanta Church Healing Room!\nAll Are Welcome!  Our team provides energy healing sessions most Sundays from 10:30 to 11:00 A.M.\n \n \nDate:  Most Sundays\, 10:30 – 11:00am\nLocation: Room 105 off of the Lobby \nWe offer relaxing energy treatments and chakra balancing.  These are fully-clothed sessions with sturdy massage tables available.  Our energy work is performed by quality\, certified practitioners for love-offerings which go directly to help fund the work of Unity Atlanta Church. \nPlease sign in at the small table in the Healing Room.  For more information\, please “text” Elisha Fields at 678-491-4332 \nFeel free to stop by and say “Hello”\nWe are located on the left side of the front lobby next to the Bookstore.  And\, we have comfortable chairs available when waiting for a treatment or visiting our healers. \n\nAbout our Energy Healing Team:   \nSimone Jennings: \n \nSimone is a seasoned spiritual coach and energy practitioner with over 15 years of experience guiding clients through processes of awareness and alignment of mind\, body\, and spirit. \nAs a certified Life Skills coach\, Angel Practitioner\, and Reiki Master\, she seamlessly integrates a wide range of techniques to empower individuals in releasing blockages\, realigning energies\, and reclaiming their true essence. \nDeeply passionate about serving others and leading with compassion\, Simone is dedicated to helping her clients achieve profound transformation and lasting well-being \nCynthia Wittman: \n \nCynthia has practiced yoga and been a recipient of various energy healing modalities for several years. Living a more peaceful and abundant life\, Cynthia understands the benefits of sharing the universal life force with others. Cynthia began studying Reiki in early 2024 and is a Level 1 certificate holder with plans to complete all four levels to achieve Master. \nAs a registered interior designer\, Cynthia discovered one of her divine gifts and developed it into a profession. She designs spaces for others to live and work\, pursue their own purpose and passion\, heal and even perhaps transition. \n  \nElisha Fields:\nElisha is a Mystic\, Energy Worker\, and Master Teacher of Magnified Healing\, energy work which originated in China. When Magnified Healing was channeled by Quan Yin to two Reiki Masters in 1993\, Elisha studied with them at that time. \nElisha is also a certified hypnotherapist. She used hypnotherapy in 1993 to develop a pain relief system which is particularly successful with migraine headaches and localized pain.\nIn our healing room\, her session is designed to remove energy blocks and balance chakras. \n  \n  \n  \n  \n 
URL:https://unityatl.org/events/energy-healing-sessions/2025-03-23/
LOCATION:Unity Atlanta\, 3597 Parkway Lane\, Norcross\, 30092\, United States
GEO:33.9597203;-84.231198
X-APPLE-STRUCTURED-LOCATION;VALUE=URI;X-ADDRESS=Unity Atlanta 3597 Parkway Lane Norcross 30092 United States;X-APPLE-RADIUS=500;X-TITLE=3597 Parkway Lane:geo:-84.231198,33.9597203
END:VEVENT
BEGIN:VEVENT
DTSTART;TZID=America/New_York:20250323T110000
DTEND;TZID=America/New_York:20250323T120000
DTSTAMP:20260422T053736
CREATED:20250214T203818Z
LAST-MODIFIED:20250320T165049Z
UID:10003975-1742727600-1742731200@unityatl.org
SUMMARY:Sunday Message: "To Have or Have Not"--Rev. Mark Hicks\, Guest Speaker with Rev. Jenn
DESCRIPTION:Lent Series 2025\nWhy Not Be Rich? Open Yourself – Body\, Mind\, and Soul – to Abundance Everywhere\nJoin us as we welcome Rev. Mark Hicks\, sharing the pulpit with Rev. Jenn\, as our guest speaker. \n \nDate: Sunday\, March 23\nTime: 11:00am ET\nMessage: “To Have or Have Not”–Rev. Mark Hicks\, Guest Speaker on the pulpit with Rev. Jenn\nTheme: Words\, thoughts\, and beliefs shape your world.  Use them to demonstrate what you need in your life now. \n\nSunday Messages for Lent 2025: Why Not Be Rich?  \nProsperity is spiritual.  Spirituality prospers.  And you can prosper now! \nFeeling prosperous and having more than enough to meet your every need is a spiritual practice.  Divine universal law teaches that God (Higher Power\, Supreme Being\, Divine Life Energy) always provides abundantly because that is God’s nature. \nJesus explained this by saying: “It is God’s great pleasure to give you the kingdom.” (Luke 12:32) \nNothing is ever lacking in God\, although sometimes you may believe in lack and limitation.  Yet\, as Unity Master Teacher Rev. Martha Giudici taught: “God can never withhold.  God is the great affirmative\, the great flow of the Universe.” \nThrough Rev. Martha’s timeless wisdom in this six-week Sunday message series\, you can discover how to: \n\nuse positive affirmations\, affirmative prayer\, and creative expression in all you think and say.\ndevelop a healthy\, peaceful mindset (consciousness) about life; finances; relationships; employment; and emotional\, mental\, and physical wellbeing.\nremove self-imposed roadblocks\, such as lack\, disharmony\, and clutter.\nforgive the past\, so you can love yourself and others.\nclarify your needs and desires\, and act to allow their fulfillment.\nlive in the continual flow of giving and receiving.\n\nJoin us on Sunday mornings at 11 am in person or via livestream for our uplifting services\, which include prayer\, music\, message\, and guided meditation. \nAll messages\, with Rev Martha’s original titles\, are delivered by Rev Jenn\, unless otherwise noted. \nSee All Messages in this Series. \nAbout Rev. Mark Hicks: \nMark Hicks is the founder of TruthUnity\, a ministry that engages culture with Fillmore teachings. He is the developer of Fillmore.Faith\, offering a variety of free resources\, such as Martha Guidici’s (Joo-duh-see) prosperity program\, Why Not Be Rich? \nMark collaborated with six other scholars in producing the Fillmore Study Bible\, a New Testament with annotations from Charles Fillmore and his students. \nHe is presently collaborating with Cora Alexander\, LUT\, in developing Fillmore Wings\, a program of 18 lessons [best representing what Charles Fillmore considered authentic Unity teaching]. \nThese lessons propelled Unity’s tremendous growth from 1909\, when Charles Fillmore wrote the first lesson\, until the mid-1970’s when the concept of “distance learning” by correspondence fell out of fashion. \nIn 2011\, he founded the Unity Church of Georgetown\, Texas\, and recently served as the minister in Baltimore\, Maryland. Married for 45 years\, he and his wife Marika have two grown daughters.\nMark and Marika moved to Baltimore in 2018 to dote on grandkids. \nAll Unity Atlanta Church services include a guided meditation and time for reflection. \nTo Live Stream the 11:00 AM Service:\nLive Stream https://unityatl.org/live-stream/\nFace Book https://www.facebook.com/UnityAtlanta
URL:https://unityatl.org/events/sunday-message-to-have-and-have-not-rev-mark-hicks-guest-speaker/
LOCATION:Unity Atlanta\, 3597 Parkway Lane\, Norcross\, 30092\, United States
GEO:33.9597203;-84.231198
X-APPLE-STRUCTURED-LOCATION;VALUE=URI;X-ADDRESS=Unity Atlanta 3597 Parkway Lane Norcross 30092 United States;X-APPLE-RADIUS=500;X-TITLE=3597 Parkway Lane:geo:-84.231198,33.9597203
END:VEVENT
BEGIN:VEVENT
DTSTART;TZID=America/New_York:20250323T123000
DTEND;TZID=America/New_York:20250323T134500
DTSTAMP:20260422T053736
CREATED:20250214T204958Z
LAST-MODIFIED:20250305T163323Z
UID:10003981-1742733000-1742737500@unityatl.org
SUMMARY:Why Not Be Rich: Brown Bag Workshop with Rev. Jenn
DESCRIPTION:Why Not Be Rich? Brown Bag Workshop with Rev. Jenn\nBased on the teachings of Rev. Martha Giudici \n \nDates: Sundays March 9 – April 13\nTime: 12:30 – 1:45pm\nLocation: The Chapel \nAre you ready to deepen your prosperity practice?  Are you ready to be and feel rich?  Do you want to experience healing\, better relationships\, and more fulfillment in your life? \nThen bring your lunch and join Rev. Jenn for a 6-week Brown Bag Workshop as we learn together how to apply the dynamic Why Not Be Rich? practical\, spiritual principles into our lives. \nThis workshop includes prayer\, sacred conversation\, handouts\, and recordings of Rev. Martha Giudici’s original lessons. \nChildcare will be provided during the workshop. \nIf you’re a new Unity Atlanta Church member\, want to become a member\, or want to enhance your understanding of Unity/New Thought principles\, this is the class for you!
URL:https://unityatl.org/events/why-not-be-rich-brown-bag-workshop-with-rev-jenn/2025-03-23/
LOCATION:Unity Atlanta\, 3597 Parkway Lane\, Norcross\, 30092\, United States
GEO:33.9597203;-84.231198
X-APPLE-STRUCTURED-LOCATION;VALUE=URI;X-ADDRESS=Unity Atlanta 3597 Parkway Lane Norcross 30092 United States;X-APPLE-RADIUS=500;X-TITLE=3597 Parkway Lane:geo:-84.231198,33.9597203
END:VEVENT
BEGIN:VEVENT
DTSTART;TZID=America/New_York:20250324T183000
DTEND;TZID=America/New_York:20250324T200000
DTSTAMP:20260422T053736
CREATED:20250117T184717Z
LAST-MODIFIED:20250117T184717Z
UID:10003917-1742841000-1742846400@unityatl.org
SUMMARY:Toastmasters
DESCRIPTION:Looking for an opportunity to work on your speaking and public presentation skills? We are happy to have Toastmasters meet here at the church.\n \nDates:  2nd\, 3rd\, and 4th Mondays   (No meeting the weeks of Memorial Day\, Thanksgiving\, Christmas)\nTime: 6:30 – 8:00pm\nLocation: Fellowship Hall \nGuests are always welcome! \nFor more information please contact:  Ajaye Hopper 678-622-2225 info@topshelftm.com \nUnity Atlanta Church rents space to Toastmasters but is not affiliated with them.  We post this on our calendar as an event that some of our congregants may find useful. 
URL:https://unityatl.org/events/toastmasters-19/2025-03-24/
LOCATION:Unity Atlanta\, 3597 Parkway Lane\, Norcross\, 30092\, United States
GEO:33.9597203;-84.231198
X-APPLE-STRUCTURED-LOCATION;VALUE=URI;X-ADDRESS=Unity Atlanta 3597 Parkway Lane Norcross 30092 United States;X-APPLE-RADIUS=500;X-TITLE=3597 Parkway Lane:geo:-84.231198,33.9597203
END:VEVENT
BEGIN:VEVENT
DTSTART;TZID=America/New_York:20250327T193000
DTEND;TZID=America/New_York:20250327T210000
DTSTAMP:20260422T053736
CREATED:20230322T183041Z
LAST-MODIFIED:20241031T174435Z
UID:10002184-1743103800-1743109200@unityatl.org
SUMMARY:Unity Atlanta Men's Group
DESCRIPTION:Unity Atlanta Men’s Group \nThe men’s group meets onsite at the church the 1st – 3rd Thursdays of the month.  The 4th (and if applicable\, the 5th) Thursday is often a Game Night\, or one of a number of various activities. \n \nFor any questions\, including the logistics for the 4th and 5th Thursdays\, please TEXT Steve Peck at 770-639-5242 or email him at speck3053@comcast.net   \nLocation:  Unity Atlanta Room 108   Time: 7:30 – 9:00 PM \nFor any questions\,  please TEXT Steve Peck at 770-639-5242 or email him at speck3053@comcast.net/      \nThe Unity Atlanta Men’s Group Meetings begin with a brief 1-2 minute check-in during which each member shares how his week went\, what’s gong on in his life\, and any success or challenges he may be experiencing. \nWe then move on to a topic\, which either arises during the check-in or has been prepared in advance by one of the members.  Topics\, week from week\, have a wide range of subjects.  We share from our own experience rather than giving opinions or advice or telling stories.  Through this sharing\, a sense of brotherhood develops with the individual members while retaining an openness that is welcoming to all. \nOccasionally\, we also conduct public outreach\, and each fall we sponsor a men only retreat. \nMission Statement: \n\nWe are a self-supporting\, self-facilitating\, spiritually-based group\nWe remind each other that we are all connected and learn from our collective wisdom\nWe promote spirituality\, growth\, learning and community\nWe support each other and remind each other to live “in faith”\nWe share our lives\, our joy\, and our abundance to become like-minded brothers\nWe radiate our spirituality to our families\, friends and the world\nWe express our feelings and emotions through healthy communication\nRegardless of our means and circumstances\, we are friends and equals\nWe are here–join us!
URL:https://unityatl.org/events/unity-atlanta-mens-group-18/2025-03-27/
LOCATION:Unity Atlanta\, 3597 Parkway Lane\, Norcross\, 30092\, United States
GEO:33.9597203;-84.231198
X-APPLE-STRUCTURED-LOCATION;VALUE=URI;X-ADDRESS=Unity Atlanta 3597 Parkway Lane Norcross 30092 United States;X-APPLE-RADIUS=500;X-TITLE=3597 Parkway Lane:geo:-84.231198,33.9597203
END:VEVENT
END:VCALENDAR