BEGIN:VCALENDAR
VERSION:2.0
PRODID:-//Unity Atlanta Church - ECPv6.15.20//NONSGML v1.0//EN
CALSCALE:GREGORIAN
METHOD:PUBLISH
X-WR-CALNAME:Unity Atlanta Church
X-ORIGINAL-URL:https://unityatl.org
X-WR-CALDESC:Events for Unity Atlanta Church
REFRESH-INTERVAL;VALUE=DURATION:PT1H
X-Robots-Tag:noindex
X-PUBLISHED-TTL:PT1H
BEGIN:VTIMEZONE
TZID:America/New_York
BEGIN:DAYLIGHT
TZOFFSETFROM:-0500
TZOFFSETTO:-0400
TZNAME:EDT
DTSTART:20240310T070000
END:DAYLIGHT
BEGIN:STANDARD
TZOFFSETFROM:-0400
TZOFFSETTO:-0500
TZNAME:EST
DTSTART:20241103T060000
END:STANDARD
BEGIN:DAYLIGHT
TZOFFSETFROM:-0500
TZOFFSETTO:-0400
TZNAME:EDT
DTSTART:20250309T070000
END:DAYLIGHT
BEGIN:STANDARD
TZOFFSETFROM:-0400
TZOFFSETTO:-0500
TZNAME:EST
DTSTART:20251102T060000
END:STANDARD
BEGIN:DAYLIGHT
TZOFFSETFROM:-0500
TZOFFSETTO:-0400
TZNAME:EDT
DTSTART:20260308T070000
END:DAYLIGHT
BEGIN:STANDARD
TZOFFSETFROM:-0400
TZOFFSETTO:-0500
TZNAME:EST
DTSTART:20261101T060000
END:STANDARD
END:VTIMEZONE
BEGIN:VEVENT
DTSTART;TZID=America/New_York:20250126T084500
DTEND;TZID=America/New_York:20250126T094500
DTSTAMP:20260422T074049
CREATED:20240416T151420Z
LAST-MODIFIED:20240416T151420Z
UID:10002849-1737881100-1737884700@unityatl.org
SUMMARY:Practicing the Presence—A Course in Miracles with Michael Wilkinson–via Zoom
DESCRIPTION:Practicing the Presence—A Course in Miracles Weekly Group Study Over Zoom\n \nA Course in Miracles aims at removing the blocks to the awareness of love’s presence. As the Introduction explains: “The opposite of love is fear\, but what is all-encompassing can have no opposite. This course can therefore be summed up very simply in this way: Nothing real can be threatened. Nothing unreal exists. Herein lies the peace of God.“ \nFacilitator: Michael Wilkinson  Sunday’s 9:00 – 10:30 AM\, EST (Optional meditation at 8:45) \nThis is an open and ongoing class.  All are welcome.  Drop-in any time.\nBooks can be ordered through The Wisdom Well-Unity Atlanta’s bookstore. \nNew people are very welcome to join!  If you are interested\, please email MWilkinson@leadstrat.com in order to receive the Zoom log-in information. 
URL:https://unityatl.org/events/practicing-the-presence-a-course-in-miracles-with-michael-wilkinson-via-zoom-2-2/2025-01-26/
LOCATION:Unity Atlanta\, 3597 Parkway Lane\, Norcross\, 30092\, United States
GEO:33.9597203;-84.231198
X-APPLE-STRUCTURED-LOCATION;VALUE=URI;X-ADDRESS=Unity Atlanta 3597 Parkway Lane Norcross 30092 United States;X-APPLE-RADIUS=500;X-TITLE=3597 Parkway Lane:geo:-84.231198,33.9597203
END:VEVENT
BEGIN:VEVENT
DTSTART;TZID=America/New_York:20250126T084500
DTEND;TZID=America/New_York:20250126T103000
DTSTAMP:20260422T074049
CREATED:20260106T162342Z
LAST-MODIFIED:20260106T162349Z
UID:10004530-1737881100-1737887400@unityatl.org
SUMMARY:Practicing the Presence—A Course in Miracles with Michael Wilkinson–via Zoom
DESCRIPTION:Practicing the Presence—A Course in Miracles Weekly Group Study Over Zoom\n \nA Course in Miracles aims at removing the blocks to the awareness of love’s presence. As the Introduction explains: “The opposite of love is fear\, but what is all-encompassing can have no opposite. This course can therefore be summed up very simply in this way: Nothing real can be threatened. Nothing unreal exists. Herein lies the peace of God.“ \nFacilitator: Michael Wilkinson  Sunday’s 9:00 – 10:30 AM\, EST (Optional meditation at 8:45) \nThis is an open and ongoing class.  All are welcome.  Drop-in any time.\nBooks can be ordered through The Wisdom Well-Unity Atlanta’s bookstore. \nNew people are very welcome to join!  If you are interested\, please email MWilkinson@leadstrat.com in order to receive the Zoom log-in information. 
URL:https://unityatl.org/events/practicing-the-presence-a-course-in-miracles-with-michael-wilkinson-via-zoom-2-2-2/2025-01-26/
LOCATION:Unity Atlanta\, 3597 Parkway Lane\, Norcross\, 30092\, United States
GEO:33.9597203;-84.231198
X-APPLE-STRUCTURED-LOCATION;VALUE=URI;X-ADDRESS=Unity Atlanta 3597 Parkway Lane Norcross 30092 United States;X-APPLE-RADIUS=500;X-TITLE=3597 Parkway Lane:geo:-84.231198,33.9597203
END:VEVENT
BEGIN:VEVENT
DTSTART;TZID=America/New_York:20250126T084500
DTEND;TZID=America/New_York:20250126T103000
DTSTAMP:20260422T074049
CREATED:20260219T162845Z
LAST-MODIFIED:20260219T162846Z
UID:10005128-1737881100-1737887400@unityatl.org
SUMMARY:Practicing the Presence—A Course in Miracles with Michael Wilkinson–via Zoom
DESCRIPTION:Practicing the Presence—A Course in Miracles Weekly Group Study Over Zoom\n \nA Course in Miracles aims at removing the blocks to the awareness of love’s presence. As the Introduction explains: “The opposite of love is fear\, but what is all-encompassing can have no opposite. This course can therefore be summed up very simply in this way: Nothing real can be threatened. Nothing unreal exists. Herein lies the peace of God.“ \nFacilitator: Michael Wilkinson  Sunday’s 9:00 – 10:30 AM\, EST (Optional meditation at 8:45) \nThis is an open and ongoing class.  All are welcome.  Drop-in any time.\nBooks can be ordered through The Wisdom Well-Unity Atlanta’s bookstore. \nNew people are very welcome to join!  If you are interested\, please email MWilkinson@leadstrat.com in order to receive the Zoom log-in information. 
URL:https://unityatl.org/events/practicing-the-presence-a-course-in-miracles-with-michael-wilkinson-via-zoom-2-2-2-2/2025-01-26/
LOCATION:Unity Atlanta\, 3597 Parkway Lane\, Norcross\, 30092\, United States
GEO:33.9597203;-84.231198
X-APPLE-STRUCTURED-LOCATION;VALUE=URI;X-ADDRESS=Unity Atlanta 3597 Parkway Lane Norcross 30092 United States;X-APPLE-RADIUS=500;X-TITLE=3597 Parkway Lane:geo:-84.231198,33.9597203
END:VEVENT
BEGIN:VEVENT
DTSTART;TZID=America/New_York:20250126T100000
DTEND;TZID=America/New_York:20250126T130000
DTSTAMP:20260422T074049
CREATED:20240425T210846Z
LAST-MODIFIED:20240425T210847Z
UID:10003130-1737885600-1737896400@unityatl.org
SUMMARY:Wisdom Well Bookstore
DESCRIPTION:The Wisdom Well Bookstore\n\n \nOur metaphysical bookstore reflects the heart of Unity Atlanta Church. It offers a collection of new thought\, spiritual\, and self-help books. We know you’ll be inspired with the large selection of gift items. The bookstore also supports our  Adult Education classes with a supply of teaching materials and textbooks. Our volunteer Bookstore Angels are always eager to introduce a new book or reacquaint us with an old classic. \nWisdom Well Store Hours:  Sundays\, 10:00 AM – 1:00 PM \nLooking for a book in particular? \nTo contact:  unitywisdomwell@gmail.com  or call the church office: 770-441-0585 \n\nWe have books for diverse interests:                                                                                  We also have many gifts including:            \nSpirituality                                                                                                                                Bimonthly issues of Unity Magazine\nBibles & Bible Reference Books                                                                                              Bimonthly issues of Daily Word\nPrayer & Meditation                                                                                                                 Greeting Cards\nInspiration & Motivation                                                                                                           Affirmation and 12 power stones\nRelationships                                                                                                                          Candles\nHealth & Healing                                                                                                                     Meditative scents\nTransitioning & Grieving                                                                                                          Notepads\nAngels                                                                                                                                     T-shirts\nBooks for children                                                                                                                   Bookmarks \n  \n 
URL:https://unityatl.org/events/wisdom-well-bookstore-2/2025-01-26/
LOCATION:Unity Atlanta\, 3597 Parkway Lane\, Norcross\, 30092\, United States
GEO:33.9597203;-84.231198
X-APPLE-STRUCTURED-LOCATION;VALUE=URI;X-ADDRESS=Unity Atlanta 3597 Parkway Lane Norcross 30092 United States;X-APPLE-RADIUS=500;X-TITLE=3597 Parkway Lane:geo:-84.231198,33.9597203
END:VEVENT
BEGIN:VEVENT
DTSTART;TZID=America/New_York:20250126T103000
DTEND;TZID=America/New_York:20250126T110000
DTSTAMP:20260422T074049
CREATED:20241017T153735Z
LAST-MODIFIED:20241017T153736Z
UID:10003400-1737887400-1737889200@unityatl.org
SUMMARY:Energy Healing Sessions
DESCRIPTION:Welcome to Unity Atlanta Church Healing Room!\nAll Are Welcome!  Our team provides energy healing sessions most Sundays from 10:30 to 11:00 A.M.\n \n \nDate:  Most Sundays\, 10:30 – 11:00am\nLocation: Room 105 off of the Lobby \nWe offer relaxing energy treatments and chakra balancing.  These are fully-clothed sessions with sturdy massage tables available.  Our energy work is performed by quality\, certified practitioners for love-offerings which go directly to help fund the work of Unity Atlanta Church. \nPlease sign in at the small table in the Healing Room.  For more information\, please “text” Elisha Fields at 678-491-4332 \nFeel free to stop by and say “Hello”\nWe are located on the left side of the front lobby next to the Bookstore.  And\, we have comfortable chairs available when waiting for a treatment or visiting our healers. \n\nAbout our Energy Healing Team:   \nSimone Jennings: \n \nSimone is a seasoned spiritual coach and energy practitioner with over 15 years of experience guiding clients through processes of awareness and alignment of mind\, body\, and spirit. \nAs a certified Life Skills coach\, Angel Practitioner\, and Reiki Master\, she seamlessly integrates a wide range of techniques to empower individuals in releasing blockages\, realigning energies\, and reclaiming their true essence. \nDeeply passionate about serving others and leading with compassion\, Simone is dedicated to helping her clients achieve profound transformation and lasting well-being \nCynthia Wittman: \n \nCynthia has practiced yoga and been a recipient of various energy healing modalities for several years. Living a more peaceful and abundant life\, Cynthia understands the benefits of sharing the universal life force with others. Cynthia began studying Reiki in early 2024 and is a Level 1 certificate holder with plans to complete all four levels to achieve Master. \nAs a registered interior designer\, Cynthia discovered one of her divine gifts and developed it into a profession. She designs spaces for others to live and work\, pursue their own purpose and passion\, heal and even perhaps transition. \n  \nElisha Fields:\nElisha is a Mystic\, Energy Worker\, and Master Teacher of Magnified Healing\, energy work which originated in China. When Magnified Healing was channeled by Quan Yin to two Reiki Masters in 1993\, Elisha studied with them at that time. \nElisha is also a certified hypnotherapist. She used hypnotherapy in 1993 to develop a pain relief system which is particularly successful with migraine headaches and localized pain.\nIn our healing room\, her session is designed to remove energy blocks and balance chakras. \n  \n  \n  \n  \n 
URL:https://unityatl.org/events/energy-healing-sessions/2025-01-26/
LOCATION:Unity Atlanta\, 3597 Parkway Lane\, Norcross\, 30092\, United States
GEO:33.9597203;-84.231198
X-APPLE-STRUCTURED-LOCATION;VALUE=URI;X-ADDRESS=Unity Atlanta 3597 Parkway Lane Norcross 30092 United States;X-APPLE-RADIUS=500;X-TITLE=3597 Parkway Lane:geo:-84.231198,33.9597203
END:VEVENT
BEGIN:VEVENT
DTSTART;TZID=America/New_York:20250126T110000
DTEND;TZID=America/New_York:20250126T120000
DTSTAMP:20260422T074049
CREATED:20241218T185330Z
LAST-MODIFIED:20241219T191309Z
UID:10003835-1737889200-1737892800@unityatl.org
SUMMARY:Sunday Message: "God Inspires"
DESCRIPTION:Timeless Wisdom for Traveling New Roads—-Sunday Messages for Winter 2025\n \nDate: Sunday\, January 26\nTime: 11:00am ET \nMessage: “God Inspires”–Rev. Jenn\nTheme: 1st Unity Principle: God Is\nGod is revealed to you and through you\, based on your understanding. \n  \nSunday Messages for Winter 2025: Timeless Wisdom for Traveling New Roads \nSpiritual growth is a process\, a sometimes moment-by-moment experience.  The focus of your intentions and how you direct your energy means everything! \nAncient wisdom says that God’s spirit is poured into everyone—no matter who they are\, where they live\, how they look\, how they identify\, or who they love.  Ancient wisdom assures you that you can do great works. \nTo live by this wisdom\, timeless and enduring\, you must set your intention to live from Spirit first\, then discern what is yours to do. \nBecause\, even though life can be uncertain\, you are always a divine spiritual being\, with a radiant soul\, living in a sacred body temple\, having human experiences.  And no matter what may have occurred in your life before this moment\, you can begin again\, and travel new roads of healing\, peace\, and prosperity. \nJoin us at 11:00 am\, ET\, in person or via livestream\, to embrace the power of a new year and a new you.  All Messages by Rev Jenn\, unless otherwise noted. \nSee All Messages in this Series. \nAll Unity Atlanta Church services include a guided meditation and time for reflection.\nTo Live Stream the 11:00 AM Service:\nLive Stream https://unityatl.org/live-stream/\nFace Book https://www.facebook.com/UnityAtlanta
URL:https://unityatl.org/events/sunday-message-god-inspires/
LOCATION:Unity Atlanta\, 3597 Parkway Lane\, Norcross\, 30092\, United States
GEO:33.9597203;-84.231198
X-APPLE-STRUCTURED-LOCATION;VALUE=URI;X-ADDRESS=Unity Atlanta 3597 Parkway Lane Norcross 30092 United States;X-APPLE-RADIUS=500;X-TITLE=3597 Parkway Lane:geo:-84.231198,33.9597203
END:VEVENT
BEGIN:VEVENT
DTSTART;TZID=America/New_York:20250126T123000
DTEND;TZID=America/New_York:20250126T133000
DTSTAMP:20260422T074049
CREATED:20250108T183022Z
LAST-MODIFIED:20250108T183022Z
UID:10003875-1737894600-1737898200@unityatl.org
SUMMARY:Celebration for Freda Steward\, Licensed Unity Teacher
DESCRIPTION:Join us as we celebrate Freda Steward’s becoming an official Licensed Unity Teacher!\nBecoming a Licensed Unity Teacher takes a lot of hard work\, dedication\, and a desire to serve.  It is a huge accomplishment and we are delighted to invite the congregation to celebrate Freda’s completion. \n \nDate: Sunday\, January 26\nTime: 12:30pm\nLocation: Fellowship Hall\nBring:  Yourself and your love!  In honor of Freda\, feel free to wear her favorite colors:  Blue\, Purple\, Lavender\, Ocean Blue. \nFood will be provided and all you need to do is join in the celebration!
URL:https://unityatl.org/events/celebration-for-freda-steward-licensed-unity-teacher/
LOCATION:Unity Atlanta\, 3597 Parkway Lane\, Norcross\, 30092\, United States
GEO:33.9597203;-84.231198
X-APPLE-STRUCTURED-LOCATION;VALUE=URI;X-ADDRESS=Unity Atlanta 3597 Parkway Lane Norcross 30092 United States;X-APPLE-RADIUS=500;X-TITLE=3597 Parkway Lane:geo:-84.231198,33.9597203
END:VEVENT
BEGIN:VEVENT
DTSTART;TZID=America/New_York:20250127T183000
DTEND;TZID=America/New_York:20250127T200000
DTSTAMP:20260422T074049
CREATED:20250117T184137Z
LAST-MODIFIED:20250117T184137Z
UID:10003911-1738002600-1738008000@unityatl.org
SUMMARY:Toastmasters
DESCRIPTION:Looking for an opportunity to work on your speaking and public presentation skills? We are happy to have Toastmasters meet here at the church.\n \nDates:  2nd\, 3rd\, and 4th Mondays   (No meeting the weeks of Memorial Day\, Thanksgiving\, Christmas\, or New Years)\nTime: 6:30 – 8:00pm\nLocation: Fellowship Hall \nGuests are always welcome! \nFor more information please contact:  Ajaye Hopper 678-622-2225 info@topshelftm.com \nUnity Atlanta Church rents space to Toastmasters but is not affiliated with them.  We post this on our calendar as an event that some of our congregants may find useful. 
URL:https://unityatl.org/events/toastmasters-17/2025-01-27/
LOCATION:Unity Atlanta\, 3597 Parkway Lane\, Norcross\, 30092\, United States
GEO:33.9597203;-84.231198
X-APPLE-STRUCTURED-LOCATION;VALUE=URI;X-ADDRESS=Unity Atlanta 3597 Parkway Lane Norcross 30092 United States;X-APPLE-RADIUS=500;X-TITLE=3597 Parkway Lane:geo:-84.231198,33.9597203
END:VEVENT
BEGIN:VEVENT
DTSTART;TZID=America/New_York:20250128T200000
DTEND;TZID=America/New_York:20250128T210000
DTSTAMP:20260422T074049
CREATED:20241230T173935Z
LAST-MODIFIED:20241230T173935Z
UID:10003852-1738094400-1738098000@unityatl.org
SUMMARY:Conexión Divina – Grupo de Estudio y Oración (Divine Connection – Prayer and Study Group)
DESCRIPTION:Conexión Divina – Grupo de Estudio y Oración   (Divine Connection Prayer and Study Group)\n \nÚnete al encuentro espiritual que realizamos vía Zoom los martes de 8 a 9pm con la Rev. Xiomara\, donde compartimos temas interesantes para apoyar nuestro desarrollo personal y espiritual. \nLibro “Una Nueva Tierra”–Un despertar al propósito de su vida\, por Eckhart Tolle. Ofrece herramientas para enseñarnos cómo despertar a un nuevo estado de conciencia y seguir el camino hacia una existencia verdaderamente plena. \nEnero 7\, 14\, 21\, 28\, febrero 4\,11\, 18\, 25\, marzo 4\, 11 y 18. \n Libro “Economía Espiritual” por Eric Butterworth. \nOfrece herramientas para desarrollar una actitud próspera sobre el dinero\, la salud y el amor. \nAbril 8\, 15\, 22\, 29\, 12\, mayo 6\, 13\, 20\, 27\, junio 3\, 10 y 17. \nPara solicitar enlace Zoom\, envía email a xioma735@gmail.com \n\nDivine Connection -Prayer and Study Group\nJoin the spiritual gathering we hold via Zoom on Tuesdays from 8 to 9pm with Rev. Xiomara\, where we share interesting topics to support our personal and spiritual development. \nBook “A New Earth”-Awakening to your life’s purpose by Eckhart Tolle. \nThis book offers tools to teach us how to awaken to a new state of consciousness and follow the path to a truly fulfilling existence. \nJanuary 7\, 14\, 21\, 28\, February 4\,11\, 18\, 25\, March 4\, 11 y 18. \nBook “Spiritual Economics” by Eric Butterworth. Offers tools to develop a prosperous attitude about money\, health and love. \nApril 8\, 15\, 22\, 29\, May 6\, 13\, 20\, 27\, June 3\,10 y 17. \nTo request Zoom link\, send email to xioma735@gmail.com
URL:https://unityatl.org/events/conexion-divina-grupo-de-estudio-y-oracion-divine-connection-prayer-and-study-group-2/2025-01-28/
LOCATION:Unity Atlanta\, 3597 Parkway Lane\, Norcross\, 30092\, United States
GEO:33.9597203;-84.231198
X-APPLE-STRUCTURED-LOCATION;VALUE=URI;X-ADDRESS=Unity Atlanta 3597 Parkway Lane Norcross 30092 United States;X-APPLE-RADIUS=500;X-TITLE=3597 Parkway Lane:geo:-84.231198,33.9597203
END:VEVENT
BEGIN:VEVENT
DTSTART;TZID=America/New_York:20250130T190000
DTEND;TZID=America/New_York:20250130T200000
DTSTAMP:20260422T074049
CREATED:20250123T154529Z
LAST-MODIFIED:20250123T154529Z
UID:10003956-1738263600-1738267200@unityatl.org
SUMMARY:NEW DATE: January Sound Bath with Raye Andrews
DESCRIPTION:Rescheduled From Last Week\n \nDate: Thursday\, January 30\nTime: 7:00pm EST\nLocation: The Chapel\nBring: Dress comfortably\, bring pillows\, blankets etc. in order to get comfortable \nJoin Raye Andrews for a beautiful symphony of vibrational sound that will allow for an easement into balance with the flow of the season as we move deeper into winter and the new year. \nPlease bring whatever will assist you in being comfortable and cozy. Yoga mats\, blankets\, pillows\, eye covers and water to drink on your ride home. \nWe ask for a suggested love offering of $20- $40\, or whatever you can give in support. Everyone is lovingly welcomed. \nLove offerings can be made in person or online: https://unityatl.org/donate-online/ \nAbout Raye Andrews: \n \nRaye Andrews is a Certified Vibrational Sound Therapist\, Master Level Reiki Practitioner and Guided Meditation Practitioner. She is a crystal energy empath and an intuitive spirit guide. Raye grows and works with many herbs used in her healing practice and is the creatress of wonderfully tasty healing teas.
URL:https://unityatl.org/events/new-date-january-sound-bath-with-raye-andrews/
LOCATION:Unity Atlanta\, 3597 Parkway Lane\, Norcross\, 30092\, United States
GEO:33.9597203;-84.231198
X-APPLE-STRUCTURED-LOCATION;VALUE=URI;X-ADDRESS=Unity Atlanta 3597 Parkway Lane Norcross 30092 United States;X-APPLE-RADIUS=500;X-TITLE=3597 Parkway Lane:geo:-84.231198,33.9597203
END:VEVENT
BEGIN:VEVENT
DTSTART;TZID=America/New_York:20250130T193000
DTEND;TZID=America/New_York:20250130T210000
DTSTAMP:20260422T074049
CREATED:20230322T183041Z
LAST-MODIFIED:20241031T174435Z
UID:10002176-1738265400-1738270800@unityatl.org
SUMMARY:Unity Atlanta Men's Group
DESCRIPTION:Unity Atlanta Men’s Group \nThe men’s group meets onsite at the church the 1st – 3rd Thursdays of the month.  The 4th (and if applicable\, the 5th) Thursday is often a Game Night\, or one of a number of various activities. \n \nFor any questions\, including the logistics for the 4th and 5th Thursdays\, please TEXT Steve Peck at 770-639-5242 or email him at speck3053@comcast.net   \nLocation:  Unity Atlanta Room 108   Time: 7:30 – 9:00 PM \nFor any questions\,  please TEXT Steve Peck at 770-639-5242 or email him at speck3053@comcast.net/      \nThe Unity Atlanta Men’s Group Meetings begin with a brief 1-2 minute check-in during which each member shares how his week went\, what’s gong on in his life\, and any success or challenges he may be experiencing. \nWe then move on to a topic\, which either arises during the check-in or has been prepared in advance by one of the members.  Topics\, week from week\, have a wide range of subjects.  We share from our own experience rather than giving opinions or advice or telling stories.  Through this sharing\, a sense of brotherhood develops with the individual members while retaining an openness that is welcoming to all. \nOccasionally\, we also conduct public outreach\, and each fall we sponsor a men only retreat. \nMission Statement: \n\nWe are a self-supporting\, self-facilitating\, spiritually-based group\nWe remind each other that we are all connected and learn from our collective wisdom\nWe promote spirituality\, growth\, learning and community\nWe support each other and remind each other to live “in faith”\nWe share our lives\, our joy\, and our abundance to become like-minded brothers\nWe radiate our spirituality to our families\, friends and the world\nWe express our feelings and emotions through healthy communication\nRegardless of our means and circumstances\, we are friends and equals\nWe are here–join us!
URL:https://unityatl.org/events/unity-atlanta-mens-group-18/2025-01-30/
LOCATION:Unity Atlanta\, 3597 Parkway Lane\, Norcross\, 30092\, United States
GEO:33.9597203;-84.231198
X-APPLE-STRUCTURED-LOCATION;VALUE=URI;X-ADDRESS=Unity Atlanta 3597 Parkway Lane Norcross 30092 United States;X-APPLE-RADIUS=500;X-TITLE=3597 Parkway Lane:geo:-84.231198,33.9597203
END:VEVENT
END:VCALENDAR