BEGIN:VCALENDAR
VERSION:2.0
PRODID:-//Unity Atlanta Church - ECPv6.15.20//NONSGML v1.0//EN
CALSCALE:GREGORIAN
METHOD:PUBLISH
X-WR-CALNAME:Unity Atlanta Church
X-ORIGINAL-URL:https://unityatl.org
X-WR-CALDESC:Events for Unity Atlanta Church
REFRESH-INTERVAL;VALUE=DURATION:PT1H
X-Robots-Tag:noindex
X-PUBLISHED-TTL:PT1H
BEGIN:VTIMEZONE
TZID:America/New_York
BEGIN:DAYLIGHT
TZOFFSETFROM:-0500
TZOFFSETTO:-0400
TZNAME:EDT
DTSTART:20240310T070000
END:DAYLIGHT
BEGIN:STANDARD
TZOFFSETFROM:-0400
TZOFFSETTO:-0500
TZNAME:EST
DTSTART:20241103T060000
END:STANDARD
BEGIN:DAYLIGHT
TZOFFSETFROM:-0500
TZOFFSETTO:-0400
TZNAME:EDT
DTSTART:20250309T070000
END:DAYLIGHT
BEGIN:STANDARD
TZOFFSETFROM:-0400
TZOFFSETTO:-0500
TZNAME:EST
DTSTART:20251102T060000
END:STANDARD
BEGIN:DAYLIGHT
TZOFFSETFROM:-0500
TZOFFSETTO:-0400
TZNAME:EDT
DTSTART:20260308T070000
END:DAYLIGHT
BEGIN:STANDARD
TZOFFSETFROM:-0400
TZOFFSETTO:-0500
TZNAME:EST
DTSTART:20261101T060000
END:STANDARD
END:VTIMEZONE
BEGIN:VEVENT
DTSTART;TZID=America/New_York:20250119T084500
DTEND;TZID=America/New_York:20250119T094500
DTSTAMP:20260422T091522
CREATED:20240416T151420Z
LAST-MODIFIED:20240416T151420Z
UID:10002848-1737276300-1737279900@unityatl.org
SUMMARY:Practicing the Presence—A Course in Miracles with Michael Wilkinson–via Zoom
DESCRIPTION:Practicing the Presence—A Course in Miracles Weekly Group Study Over Zoom\n \nA Course in Miracles aims at removing the blocks to the awareness of love’s presence. As the Introduction explains: “The opposite of love is fear\, but what is all-encompassing can have no opposite. This course can therefore be summed up very simply in this way: Nothing real can be threatened. Nothing unreal exists. Herein lies the peace of God.“ \nFacilitator: Michael Wilkinson  Sunday’s 9:00 – 10:30 AM\, EST (Optional meditation at 8:45) \nThis is an open and ongoing class.  All are welcome.  Drop-in any time.\nBooks can be ordered through The Wisdom Well-Unity Atlanta’s bookstore. \nNew people are very welcome to join!  If you are interested\, please email MWilkinson@leadstrat.com in order to receive the Zoom log-in information. 
URL:https://unityatl.org/events/practicing-the-presence-a-course-in-miracles-with-michael-wilkinson-via-zoom-2-2/2025-01-19/
LOCATION:Unity Atlanta\, 3597 Parkway Lane\, Norcross\, 30092\, United States
GEO:33.9597203;-84.231198
X-APPLE-STRUCTURED-LOCATION;VALUE=URI;X-ADDRESS=Unity Atlanta 3597 Parkway Lane Norcross 30092 United States;X-APPLE-RADIUS=500;X-TITLE=3597 Parkway Lane:geo:-84.231198,33.9597203
END:VEVENT
BEGIN:VEVENT
DTSTART;TZID=America/New_York:20250119T084500
DTEND;TZID=America/New_York:20250119T103000
DTSTAMP:20260422T091522
CREATED:20260106T162342Z
LAST-MODIFIED:20260106T162349Z
UID:10004529-1737276300-1737282600@unityatl.org
SUMMARY:Practicing the Presence—A Course in Miracles with Michael Wilkinson–via Zoom
DESCRIPTION:Practicing the Presence—A Course in Miracles Weekly Group Study Over Zoom\n \nA Course in Miracles aims at removing the blocks to the awareness of love’s presence. As the Introduction explains: “The opposite of love is fear\, but what is all-encompassing can have no opposite. This course can therefore be summed up very simply in this way: Nothing real can be threatened. Nothing unreal exists. Herein lies the peace of God.“ \nFacilitator: Michael Wilkinson  Sunday’s 9:00 – 10:30 AM\, EST (Optional meditation at 8:45) \nThis is an open and ongoing class.  All are welcome.  Drop-in any time.\nBooks can be ordered through The Wisdom Well-Unity Atlanta’s bookstore. \nNew people are very welcome to join!  If you are interested\, please email MWilkinson@leadstrat.com in order to receive the Zoom log-in information. 
URL:https://unityatl.org/events/practicing-the-presence-a-course-in-miracles-with-michael-wilkinson-via-zoom-2-2-2/2025-01-19/
LOCATION:Unity Atlanta\, 3597 Parkway Lane\, Norcross\, 30092\, United States
GEO:33.9597203;-84.231198
X-APPLE-STRUCTURED-LOCATION;VALUE=URI;X-ADDRESS=Unity Atlanta 3597 Parkway Lane Norcross 30092 United States;X-APPLE-RADIUS=500;X-TITLE=3597 Parkway Lane:geo:-84.231198,33.9597203
END:VEVENT
BEGIN:VEVENT
DTSTART;TZID=America/New_York:20250119T084500
DTEND;TZID=America/New_York:20250119T103000
DTSTAMP:20260422T091522
CREATED:20260219T162845Z
LAST-MODIFIED:20260219T162846Z
UID:10005127-1737276300-1737282600@unityatl.org
SUMMARY:Practicing the Presence—A Course in Miracles with Michael Wilkinson–via Zoom
DESCRIPTION:Practicing the Presence—A Course in Miracles Weekly Group Study Over Zoom\n \nA Course in Miracles aims at removing the blocks to the awareness of love’s presence. As the Introduction explains: “The opposite of love is fear\, but what is all-encompassing can have no opposite. This course can therefore be summed up very simply in this way: Nothing real can be threatened. Nothing unreal exists. Herein lies the peace of God.“ \nFacilitator: Michael Wilkinson  Sunday’s 9:00 – 10:30 AM\, EST (Optional meditation at 8:45) \nThis is an open and ongoing class.  All are welcome.  Drop-in any time.\nBooks can be ordered through The Wisdom Well-Unity Atlanta’s bookstore. \nNew people are very welcome to join!  If you are interested\, please email MWilkinson@leadstrat.com in order to receive the Zoom log-in information. 
URL:https://unityatl.org/events/practicing-the-presence-a-course-in-miracles-with-michael-wilkinson-via-zoom-2-2-2-2/2025-01-19/
LOCATION:Unity Atlanta\, 3597 Parkway Lane\, Norcross\, 30092\, United States
GEO:33.9597203;-84.231198
X-APPLE-STRUCTURED-LOCATION;VALUE=URI;X-ADDRESS=Unity Atlanta 3597 Parkway Lane Norcross 30092 United States;X-APPLE-RADIUS=500;X-TITLE=3597 Parkway Lane:geo:-84.231198,33.9597203
END:VEVENT
BEGIN:VEVENT
DTSTART;TZID=America/New_York:20250119T100000
DTEND;TZID=America/New_York:20250119T130000
DTSTAMP:20260422T091522
CREATED:20240425T210846Z
LAST-MODIFIED:20240425T210847Z
UID:10003129-1737280800-1737291600@unityatl.org
SUMMARY:Wisdom Well Bookstore
DESCRIPTION:The Wisdom Well Bookstore\n\n \nOur metaphysical bookstore reflects the heart of Unity Atlanta Church. It offers a collection of new thought\, spiritual\, and self-help books. We know you’ll be inspired with the large selection of gift items. The bookstore also supports our  Adult Education classes with a supply of teaching materials and textbooks. Our volunteer Bookstore Angels are always eager to introduce a new book or reacquaint us with an old classic. \nWisdom Well Store Hours:  Sundays\, 10:00 AM – 1:00 PM \nLooking for a book in particular? \nTo contact:  unitywisdomwell@gmail.com  or call the church office: 770-441-0585 \n\nWe have books for diverse interests:                                                                                  We also have many gifts including:            \nSpirituality                                                                                                                                Bimonthly issues of Unity Magazine\nBibles & Bible Reference Books                                                                                              Bimonthly issues of Daily Word\nPrayer & Meditation                                                                                                                 Greeting Cards\nInspiration & Motivation                                                                                                           Affirmation and 12 power stones\nRelationships                                                                                                                          Candles\nHealth & Healing                                                                                                                     Meditative scents\nTransitioning & Grieving                                                                                                          Notepads\nAngels                                                                                                                                     T-shirts\nBooks for children                                                                                                                   Bookmarks \n  \n 
URL:https://unityatl.org/events/wisdom-well-bookstore-2/2025-01-19/
LOCATION:Unity Atlanta\, 3597 Parkway Lane\, Norcross\, 30092\, United States
GEO:33.9597203;-84.231198
X-APPLE-STRUCTURED-LOCATION;VALUE=URI;X-ADDRESS=Unity Atlanta 3597 Parkway Lane Norcross 30092 United States;X-APPLE-RADIUS=500;X-TITLE=3597 Parkway Lane:geo:-84.231198,33.9597203
END:VEVENT
BEGIN:VEVENT
DTSTART;TZID=America/New_York:20250119T103000
DTEND;TZID=America/New_York:20250119T110000
DTSTAMP:20260422T091522
CREATED:20241017T153735Z
LAST-MODIFIED:20241017T153736Z
UID:10003399-1737282600-1737284400@unityatl.org
SUMMARY:Energy Healing Sessions
DESCRIPTION:Welcome to Unity Atlanta Church Healing Room!\nAll Are Welcome!  Our team provides energy healing sessions most Sundays from 10:30 to 11:00 A.M.\n \n \nDate:  Most Sundays\, 10:30 – 11:00am\nLocation: Room 105 off of the Lobby \nWe offer relaxing energy treatments and chakra balancing.  These are fully-clothed sessions with sturdy massage tables available.  Our energy work is performed by quality\, certified practitioners for love-offerings which go directly to help fund the work of Unity Atlanta Church. \nPlease sign in at the small table in the Healing Room.  For more information\, please “text” Elisha Fields at 678-491-4332 \nFeel free to stop by and say “Hello”\nWe are located on the left side of the front lobby next to the Bookstore.  And\, we have comfortable chairs available when waiting for a treatment or visiting our healers. \n\nAbout our Energy Healing Team:   \nSimone Jennings: \n \nSimone is a seasoned spiritual coach and energy practitioner with over 15 years of experience guiding clients through processes of awareness and alignment of mind\, body\, and spirit. \nAs a certified Life Skills coach\, Angel Practitioner\, and Reiki Master\, she seamlessly integrates a wide range of techniques to empower individuals in releasing blockages\, realigning energies\, and reclaiming their true essence. \nDeeply passionate about serving others and leading with compassion\, Simone is dedicated to helping her clients achieve profound transformation and lasting well-being \nCynthia Wittman: \n \nCynthia has practiced yoga and been a recipient of various energy healing modalities for several years. Living a more peaceful and abundant life\, Cynthia understands the benefits of sharing the universal life force with others. Cynthia began studying Reiki in early 2024 and is a Level 1 certificate holder with plans to complete all four levels to achieve Master. \nAs a registered interior designer\, Cynthia discovered one of her divine gifts and developed it into a profession. She designs spaces for others to live and work\, pursue their own purpose and passion\, heal and even perhaps transition. \n  \nElisha Fields:\nElisha is a Mystic\, Energy Worker\, and Master Teacher of Magnified Healing\, energy work which originated in China. When Magnified Healing was channeled by Quan Yin to two Reiki Masters in 1993\, Elisha studied with them at that time. \nElisha is also a certified hypnotherapist. She used hypnotherapy in 1993 to develop a pain relief system which is particularly successful with migraine headaches and localized pain.\nIn our healing room\, her session is designed to remove energy blocks and balance chakras. \n  \n  \n  \n  \n 
URL:https://unityatl.org/events/energy-healing-sessions/2025-01-19/
LOCATION:Unity Atlanta\, 3597 Parkway Lane\, Norcross\, 30092\, United States
GEO:33.9597203;-84.231198
X-APPLE-STRUCTURED-LOCATION;VALUE=URI;X-ADDRESS=Unity Atlanta 3597 Parkway Lane Norcross 30092 United States;X-APPLE-RADIUS=500;X-TITLE=3597 Parkway Lane:geo:-84.231198,33.9597203
END:VEVENT
BEGIN:VEVENT
DTSTART;TZID=America/New_York:20250119T110000
DTEND;TZID=America/New_York:20250119T120000
DTSTAMP:20260422T091522
CREATED:20241218T185103Z
LAST-MODIFIED:20241218T185103Z
UID:10003834-1737284400-1737288000@unityatl.org
SUMMARY:
DESCRIPTION:Timeless Wisdom for Traveling New Roads—-Sunday Messages for Winter 2025\n  \nDate: Sunday\, January 19 – MLK Sunday\nTime: 11:00am ET \nMessage: “TBD”–Rev. (Dr.) Sedrick Gardner\, Guest Speaker with Rev. Jenn — MLK Sunday\nTheme: TBD \nSunday Messages for Winter 2025: Timeless Wisdom for Traveling New Roads \nSpiritual growth is a process\, a sometimes moment-by-moment experience.  The focus of your intentions and how you direct your energy means everything! \nAncient wisdom says that God’s spirit is poured into everyone—no matter who they are\, where they live\, how they look\, how they identify\, or who they love.  Ancient wisdom assures you that you can do great works. \nTo live by this wisdom\, timeless and enduring\, you must set your intention to live from Spirit first\, then discern what is yours to do. \nBecause\, even though life can be uncertain\, you are always a divine spiritual being\, with a radiant soul\, living in a sacred body temple\, having human experiences.  And no matter what may have occurred in your life before this moment\, you can begin again\, and travel new roads of healing\, peace\, and prosperity. \nJoin us at 11:00 am\, ET\, in person or via livestream\, to embrace the power of a new year and a new you. \nAll Messages by Rev Jenn\, unless otherwise noted. \nAll Unity Atlanta Church services include a guided meditation and time for reflection.\nTo Live Stream the 11:00 AM Service:\nLive Stream https://unityatl.org/live-stream/\nFace Book https://www.facebook.com/UnityAtlanta
URL:https://unityatl.org/events/40407/
LOCATION:Unity Atlanta\, 3597 Parkway Lane\, Norcross\, 30092\, United States
GEO:33.9597203;-84.231198
X-APPLE-STRUCTURED-LOCATION;VALUE=URI;X-ADDRESS=Unity Atlanta 3597 Parkway Lane Norcross 30092 United States;X-APPLE-RADIUS=500;X-TITLE=3597 Parkway Lane:geo:-84.231198,33.9597203
END:VEVENT
BEGIN:VEVENT
DTSTART;TZID=America/New_York:20250119T110000
DTEND;TZID=America/New_York:20250119T120000
DTSTAMP:20260422T091522
CREATED:20241218T185657Z
LAST-MODIFIED:20250107T180832Z
UID:10003836-1737284400-1737288000@unityatl.org
SUMMARY:Sunday Message: Guest Speaker Rev. (Dr.) Sedrick Gardner with Rev. Jenn
DESCRIPTION:Timeless Wisdom for Traveling New Roads—-Sunday Messages for Winter 2025\n \nDate: Sunday\, January 19 — MLK Sunday\nTime: 11:00am ET \nMessage: “The Beloved Community: When Love uses its Power to enact Justice”– Rev. (Dr.) Sedrick Gardner\, Guest Speaker\, with Rev. Jenn \nTheme: The Beloved Community as MLK espoused is when people will take their spiritual awareness into the world to be examples of love and compassion in action. Bernice King\, Dr. King’s daughter who runs the King Center says its time to walk our talk; we pontificated about it and now its time just to BE IT. To BE LOVE! \nAbout Rev. Dr. Sedrick Gardner \nRev. Dr. Sedrick is a native Atlantan who has worked in public health\, corporate marketing\, and ministry. He is currently an Associate Minister at Hillside International Truth Center and Dean of The Barbara King School of Ministry. \nHe has degrees in: \n\nEconomics and Psychology from Duke University\nTeaching and Ministerial Studies from Emory School of Medicine and\nMaster of Divinity and Doctor of Divinity from the College of Metaphysical Studies.\n\nRev. Dr. Sedrick is a Certified Master Life Coach from the Transcendent Life Coaching Institute and received an additional Master of Divinity from the Theological Institute for Transpersonal Psychology. \nRev. Dr. Sedrick is also President of Innovative Access Marketing\, Incorporated\, a group that provides Health and Marketing consultancy to companies like AT&T\, the CDC\, and Emory Hospital Transplant clinic. \nHe travels the World on spiritual peace missions with The White Rose Foundation\, whose goal is to bring all the major religions together as different spokes of the One Wheel of God. \nRev. Dr. Sedrick is particularly excited at being here at Unity Atlanta Church for Martin Luther King Jr. weekend because he began his New Thought journey at Atlanta Unity Church at our previous location on Chamblee Dunwoody Road at the age of 21\, when Jay Dishman was our Senior Minister. \nSunday Messages for Winter 2025: Timeless Wisdom for Traveling New Roads \nSpiritual growth is a process\, a sometimes moment-by-moment experience.  The focus of your intentions and how you direct your energy means everything! \nAncient wisdom says that God’s spirit is poured into everyone—no matter who they are\, where they live\, how they look\, how they identify\, or who they love.  Ancient wisdom assures you that you can do great works. \nTo live by this wisdom\, timeless and enduring\, you must set your intention to live from Spirit first\, then discern what is yours to do. \nBecause\, even though life can be uncertain\, you are always a divine spiritual being\, with a radiant soul\, living in a sacred body temple\, having human experiences.  And no matter what may have occurred in your life before this moment\, you can begin again\, and travel new roads of healing\, peace\, and prosperity. \nJoin us at 11:00 am\, ET\, in person or via livestream\, to embrace the power of a new year and a new you. All Messages by Rev Jenn\, unless otherwise noted. \nSee All Messages in this Series. \nAll Unity Atlanta Church services include a guided meditation and time for reflection.\nTo Live Stream the 11:00 AM Service:\nLive Stream https://unityatl.org/live-stream/\nFace Book https://www.facebook.com/UnityAtlanta
URL:https://unityatl.org/events/sunday-message-guest-speaker-rev-dr-sedrick-gardner-with-rev-jenn/
LOCATION:Unity Atlanta\, 3597 Parkway Lane\, Norcross\, 30092\, United States
GEO:33.9597203;-84.231198
X-APPLE-STRUCTURED-LOCATION;VALUE=URI;X-ADDRESS=Unity Atlanta 3597 Parkway Lane Norcross 30092 United States;X-APPLE-RADIUS=500;X-TITLE=3597 Parkway Lane:geo:-84.231198,33.9597203
END:VEVENT
BEGIN:VEVENT
DTSTART;TZID=America/New_York:20250120T120000
DTEND;TZID=America/New_York:20250120T130000
DTSTAMP:20260422T091522
CREATED:20241223T223434Z
LAST-MODIFIED:20241223T223434Z
UID:10003846-1737374400-1737378000@unityatl.org
SUMMARY:Sacred Circle Prayer and Healing
DESCRIPTION:Join us for a sacred circle of prayer and healing this MLK Day.\n \nDate: Monday\, January 20\nTime: 12:00 noon    Our Healing Room will be open from 11:00-11:50am\nLocation: In the Sanctuary \nJoin us for a time of healing\, reflection\, and music as we honor the memory of Rev. Dr. Martin Luther King\, Jr\, and affirm the healing and wholeness he envisioned for our world. \nOur Healing Room will be open from 11:00 am to 11:50 am. \nOur Prayer Circle begins at Noon in the Sanctuary. \n  \n 
URL:https://unityatl.org/events/sacred-circle-prayer-and-healing/
LOCATION:Unity Atlanta\, 3597 Parkway Lane\, Norcross\, 30092\, United States
GEO:33.9597203;-84.231198
X-APPLE-STRUCTURED-LOCATION;VALUE=URI;X-ADDRESS=Unity Atlanta 3597 Parkway Lane Norcross 30092 United States;X-APPLE-RADIUS=500;X-TITLE=3597 Parkway Lane:geo:-84.231198,33.9597203
END:VEVENT
BEGIN:VEVENT
DTSTART;TZID=America/New_York:20250120T183000
DTEND;TZID=America/New_York:20250120T200000
DTSTAMP:20260422T091522
CREATED:20250117T184137Z
LAST-MODIFIED:20250117T184137Z
UID:10003910-1737397800-1737403200@unityatl.org
SUMMARY:Toastmasters
DESCRIPTION:Looking for an opportunity to work on your speaking and public presentation skills? We are happy to have Toastmasters meet here at the church.\n \nDates:  2nd\, 3rd\, and 4th Mondays   (No meeting the weeks of Memorial Day\, Thanksgiving\, Christmas\, or New Years)\nTime: 6:30 – 8:00pm\nLocation: Fellowship Hall \nGuests are always welcome! \nFor more information please contact:  Ajaye Hopper 678-622-2225 info@topshelftm.com \nUnity Atlanta Church rents space to Toastmasters but is not affiliated with them.  We post this on our calendar as an event that some of our congregants may find useful. 
URL:https://unityatl.org/events/toastmasters-17/2025-01-20/
LOCATION:Unity Atlanta\, 3597 Parkway Lane\, Norcross\, 30092\, United States
GEO:33.9597203;-84.231198
X-APPLE-STRUCTURED-LOCATION;VALUE=URI;X-ADDRESS=Unity Atlanta 3597 Parkway Lane Norcross 30092 United States;X-APPLE-RADIUS=500;X-TITLE=3597 Parkway Lane:geo:-84.231198,33.9597203
END:VEVENT
BEGIN:VEVENT
DTSTART;TZID=America/New_York:20250121T200000
DTEND;TZID=America/New_York:20250121T210000
DTSTAMP:20260422T091522
CREATED:20241230T173935Z
LAST-MODIFIED:20241230T173935Z
UID:10003851-1737489600-1737493200@unityatl.org
SUMMARY:Conexión Divina – Grupo de Estudio y Oración (Divine Connection – Prayer and Study Group)
DESCRIPTION:Conexión Divina – Grupo de Estudio y Oración   (Divine Connection Prayer and Study Group)\n \nÚnete al encuentro espiritual que realizamos vía Zoom los martes de 8 a 9pm con la Rev. Xiomara\, donde compartimos temas interesantes para apoyar nuestro desarrollo personal y espiritual. \nLibro “Una Nueva Tierra”–Un despertar al propósito de su vida\, por Eckhart Tolle. Ofrece herramientas para enseñarnos cómo despertar a un nuevo estado de conciencia y seguir el camino hacia una existencia verdaderamente plena. \nEnero 7\, 14\, 21\, 28\, febrero 4\,11\, 18\, 25\, marzo 4\, 11 y 18. \n Libro “Economía Espiritual” por Eric Butterworth. \nOfrece herramientas para desarrollar una actitud próspera sobre el dinero\, la salud y el amor. \nAbril 8\, 15\, 22\, 29\, 12\, mayo 6\, 13\, 20\, 27\, junio 3\, 10 y 17. \nPara solicitar enlace Zoom\, envía email a xioma735@gmail.com \n\nDivine Connection -Prayer and Study Group\nJoin the spiritual gathering we hold via Zoom on Tuesdays from 8 to 9pm with Rev. Xiomara\, where we share interesting topics to support our personal and spiritual development. \nBook “A New Earth”-Awakening to your life’s purpose by Eckhart Tolle. \nThis book offers tools to teach us how to awaken to a new state of consciousness and follow the path to a truly fulfilling existence. \nJanuary 7\, 14\, 21\, 28\, February 4\,11\, 18\, 25\, March 4\, 11 y 18. \nBook “Spiritual Economics” by Eric Butterworth. Offers tools to develop a prosperous attitude about money\, health and love. \nApril 8\, 15\, 22\, 29\, May 6\, 13\, 20\, 27\, June 3\,10 y 17. \nTo request Zoom link\, send email to xioma735@gmail.com
URL:https://unityatl.org/events/conexion-divina-grupo-de-estudio-y-oracion-divine-connection-prayer-and-study-group-2/2025-01-21/
LOCATION:Unity Atlanta\, 3597 Parkway Lane\, Norcross\, 30092\, United States
GEO:33.9597203;-84.231198
X-APPLE-STRUCTURED-LOCATION;VALUE=URI;X-ADDRESS=Unity Atlanta 3597 Parkway Lane Norcross 30092 United States;X-APPLE-RADIUS=500;X-TITLE=3597 Parkway Lane:geo:-84.231198,33.9597203
END:VEVENT
BEGIN:VEVENT
DTSTART;TZID=America/New_York:20250123T190000
DTEND;TZID=America/New_York:20250123T200000
DTSTAMP:20260422T091522
CREATED:20241205T164137Z
LAST-MODIFIED:20250123T153943Z
UID:10003830-1737658800-1737662400@unityatl.org
SUMMARY:RESCHEDULED TO NEXT WEEK DUE TO WEATHER January Sound Bath with Raye Andrews
DESCRIPTION:RESCHEDULED DUE TO WEATHER TO NEXT THURSDAY JAN. 30\n \nDate: RESCHEDULED DUE TO WEATHER TO NEXT THURSDAY JAN. 30
URL:https://unityatl.org/events/january-sound-bath-with-raye-andrews-2/
LOCATION:Unity Atlanta\, 3597 Parkway Lane\, Norcross\, 30092\, United States
GEO:33.9597203;-84.231198
X-APPLE-STRUCTURED-LOCATION;VALUE=URI;X-ADDRESS=Unity Atlanta 3597 Parkway Lane Norcross 30092 United States;X-APPLE-RADIUS=500;X-TITLE=3597 Parkway Lane:geo:-84.231198,33.9597203
END:VEVENT
BEGIN:VEVENT
DTSTART;TZID=America/New_York:20250123T193000
DTEND;TZID=America/New_York:20250123T210000
DTSTAMP:20260422T091522
CREATED:20230322T183041Z
LAST-MODIFIED:20241031T174435Z
UID:10002175-1737660600-1737666000@unityatl.org
SUMMARY:Unity Atlanta Men's Group
DESCRIPTION:Unity Atlanta Men’s Group \nThe men’s group meets onsite at the church the 1st – 3rd Thursdays of the month.  The 4th (and if applicable\, the 5th) Thursday is often a Game Night\, or one of a number of various activities. \n \nFor any questions\, including the logistics for the 4th and 5th Thursdays\, please TEXT Steve Peck at 770-639-5242 or email him at speck3053@comcast.net   \nLocation:  Unity Atlanta Room 108   Time: 7:30 – 9:00 PM \nFor any questions\,  please TEXT Steve Peck at 770-639-5242 or email him at speck3053@comcast.net/      \nThe Unity Atlanta Men’s Group Meetings begin with a brief 1-2 minute check-in during which each member shares how his week went\, what’s gong on in his life\, and any success or challenges he may be experiencing. \nWe then move on to a topic\, which either arises during the check-in or has been prepared in advance by one of the members.  Topics\, week from week\, have a wide range of subjects.  We share from our own experience rather than giving opinions or advice or telling stories.  Through this sharing\, a sense of brotherhood develops with the individual members while retaining an openness that is welcoming to all. \nOccasionally\, we also conduct public outreach\, and each fall we sponsor a men only retreat. \nMission Statement: \n\nWe are a self-supporting\, self-facilitating\, spiritually-based group\nWe remind each other that we are all connected and learn from our collective wisdom\nWe promote spirituality\, growth\, learning and community\nWe support each other and remind each other to live “in faith”\nWe share our lives\, our joy\, and our abundance to become like-minded brothers\nWe radiate our spirituality to our families\, friends and the world\nWe express our feelings and emotions through healthy communication\nRegardless of our means and circumstances\, we are friends and equals\nWe are here–join us!
URL:https://unityatl.org/events/unity-atlanta-mens-group-18/2025-01-23/
LOCATION:Unity Atlanta\, 3597 Parkway Lane\, Norcross\, 30092\, United States
GEO:33.9597203;-84.231198
X-APPLE-STRUCTURED-LOCATION;VALUE=URI;X-ADDRESS=Unity Atlanta 3597 Parkway Lane Norcross 30092 United States;X-APPLE-RADIUS=500;X-TITLE=3597 Parkway Lane:geo:-84.231198,33.9597203
END:VEVENT
BEGIN:VEVENT
DTSTART;TZID=America/New_York:20250125T090000
DTEND;TZID=America/New_York:20250125T100000
DTSTAMP:20260422T091522
CREATED:20250108T164923Z
LAST-MODIFIED:20250108T165614Z
UID:10003874-1737795600-1737799200@unityatl.org
SUMMARY:Run/Walk Club: Lilburn City Park Trail
DESCRIPTION:Start the New Year with our Run/Walk Club at Lilburn City Park Trail\n \nDate: Saturday\, January 25\nTime: 9:00am\nLocation: Lilburn City Park Trail   76 Main Street\, Lilburn GA \nWe will meet at 9am and each person will run or walk their chosen distance. \nRemember to bring your fluids: water\, Powerade\, etc. \nWe’ll meet back at the start in about an hour. \nAnyone who can\, please join us for breakfast after the event. \nIf you plan to participate or if you have any questions\, please call or text Chuck Speight at 770-842-4150 or email at cesdisc@yahoo.com
URL:https://unityatl.org/events/run-walk-club-lilburn-city-park-trail/
LOCATION:Unity Atlanta\, 3597 Parkway Lane\, Norcross\, 30092\, United States
GEO:33.9597203;-84.231198
X-APPLE-STRUCTURED-LOCATION;VALUE=URI;X-ADDRESS=Unity Atlanta 3597 Parkway Lane Norcross 30092 United States;X-APPLE-RADIUS=500;X-TITLE=3597 Parkway Lane:geo:-84.231198,33.9597203
END:VEVENT
END:VCALENDAR