BEGIN:VCALENDAR
VERSION:2.0
PRODID:-//Unity Atlanta Church - ECPv6.15.20//NONSGML v1.0//EN
CALSCALE:GREGORIAN
METHOD:PUBLISH
X-ORIGINAL-URL:https://unityatl.org
X-WR-CALDESC:Events for Unity Atlanta Church
REFRESH-INTERVAL;VALUE=DURATION:PT1H
X-Robots-Tag:noindex
X-PUBLISHED-TTL:PT1H
BEGIN:VTIMEZONE
TZID:America/New_York
BEGIN:DAYLIGHT
TZOFFSETFROM:-0500
TZOFFSETTO:-0400
TZNAME:EDT
DTSTART:20230312T070000
END:DAYLIGHT
BEGIN:STANDARD
TZOFFSETFROM:-0400
TZOFFSETTO:-0500
TZNAME:EST
DTSTART:20231105T060000
END:STANDARD
BEGIN:DAYLIGHT
TZOFFSETFROM:-0500
TZOFFSETTO:-0400
TZNAME:EDT
DTSTART:20240310T070000
END:DAYLIGHT
BEGIN:STANDARD
TZOFFSETFROM:-0400
TZOFFSETTO:-0500
TZNAME:EST
DTSTART:20241103T060000
END:STANDARD
BEGIN:DAYLIGHT
TZOFFSETFROM:-0500
TZOFFSETTO:-0400
TZNAME:EDT
DTSTART:20250309T070000
END:DAYLIGHT
BEGIN:STANDARD
TZOFFSETFROM:-0400
TZOFFSETTO:-0500
TZNAME:EST
DTSTART:20251102T060000
END:STANDARD
BEGIN:DAYLIGHT
TZOFFSETFROM:-0500
TZOFFSETTO:-0400
TZNAME:EDT
DTSTART:20260308T070000
END:DAYLIGHT
BEGIN:STANDARD
TZOFFSETFROM:-0400
TZOFFSETTO:-0500
TZNAME:EST
DTSTART:20261101T060000
END:STANDARD
END:VTIMEZONE
BEGIN:VEVENT
DTSTART;TZID=America/New_York:20241229T084500
DTEND;TZID=America/New_York:20241229T094500
DTSTAMP:20260422T131722
CREATED:20240416T151420Z
LAST-MODIFIED:20240416T151420Z
UID:10002845-1735461900-1735465500@unityatl.org
SUMMARY:Practicing the Presence—A Course in Miracles with Michael Wilkinson–via Zoom
DESCRIPTION:Practicing the Presence—A Course in Miracles Weekly Group Study Over Zoom\n \nA Course in Miracles aims at removing the blocks to the awareness of love’s presence. As the Introduction explains: “The opposite of love is fear\, but what is all-encompassing can have no opposite. This course can therefore be summed up very simply in this way: Nothing real can be threatened. Nothing unreal exists. Herein lies the peace of God.“ \nFacilitator: Michael Wilkinson  Sunday’s 9:00 – 10:30 AM\, EST (Optional meditation at 8:45) \nThis is an open and ongoing class.  All are welcome.  Drop-in any time.\nBooks can be ordered through The Wisdom Well-Unity Atlanta’s bookstore. \nNew people are very welcome to join!  If you are interested\, please email MWilkinson@leadstrat.com in order to receive the Zoom log-in information. 
URL:https://unityatl.org/events/practicing-the-presence-a-course-in-miracles-with-michael-wilkinson-via-zoom-2-2/2024-12-29/
LOCATION:Unity Atlanta\, 3597 Parkway Lane\, Norcross\, 30092\, United States
GEO:33.9597203;-84.231198
X-APPLE-STRUCTURED-LOCATION;VALUE=URI;X-ADDRESS=Unity Atlanta 3597 Parkway Lane Norcross 30092 United States;X-APPLE-RADIUS=500;X-TITLE=3597 Parkway Lane:geo:-84.231198,33.9597203
END:VEVENT
BEGIN:VEVENT
DTSTART;TZID=America/New_York:20241229T084500
DTEND;TZID=America/New_York:20241229T103000
DTSTAMP:20260422T131722
CREATED:20260106T162342Z
LAST-MODIFIED:20260106T162349Z
UID:10004526-1735461900-1735468200@unityatl.org
SUMMARY:Practicing the Presence—A Course in Miracles with Michael Wilkinson–via Zoom
DESCRIPTION:Practicing the Presence—A Course in Miracles Weekly Group Study Over Zoom\n \nA Course in Miracles aims at removing the blocks to the awareness of love’s presence. As the Introduction explains: “The opposite of love is fear\, but what is all-encompassing can have no opposite. This course can therefore be summed up very simply in this way: Nothing real can be threatened. Nothing unreal exists. Herein lies the peace of God.“ \nFacilitator: Michael Wilkinson  Sunday’s 9:00 – 10:30 AM\, EST (Optional meditation at 8:45) \nThis is an open and ongoing class.  All are welcome.  Drop-in any time.\nBooks can be ordered through The Wisdom Well-Unity Atlanta’s bookstore. \nNew people are very welcome to join!  If you are interested\, please email MWilkinson@leadstrat.com in order to receive the Zoom log-in information. 
URL:https://unityatl.org/events/practicing-the-presence-a-course-in-miracles-with-michael-wilkinson-via-zoom-2-2-2/2024-12-29/
LOCATION:Unity Atlanta\, 3597 Parkway Lane\, Norcross\, 30092\, United States
GEO:33.9597203;-84.231198
X-APPLE-STRUCTURED-LOCATION;VALUE=URI;X-ADDRESS=Unity Atlanta 3597 Parkway Lane Norcross 30092 United States;X-APPLE-RADIUS=500;X-TITLE=3597 Parkway Lane:geo:-84.231198,33.9597203
END:VEVENT
BEGIN:VEVENT
DTSTART;TZID=America/New_York:20241229T084500
DTEND;TZID=America/New_York:20241229T103000
DTSTAMP:20260422T131722
CREATED:20260219T162845Z
LAST-MODIFIED:20260219T162846Z
UID:10005124-1735461900-1735468200@unityatl.org
SUMMARY:Practicing the Presence—A Course in Miracles with Michael Wilkinson–via Zoom
DESCRIPTION:Practicing the Presence—A Course in Miracles Weekly Group Study Over Zoom\n \nA Course in Miracles aims at removing the blocks to the awareness of love’s presence. As the Introduction explains: “The opposite of love is fear\, but what is all-encompassing can have no opposite. This course can therefore be summed up very simply in this way: Nothing real can be threatened. Nothing unreal exists. Herein lies the peace of God.“ \nFacilitator: Michael Wilkinson  Sunday’s 9:00 – 10:30 AM\, EST (Optional meditation at 8:45) \nThis is an open and ongoing class.  All are welcome.  Drop-in any time.\nBooks can be ordered through The Wisdom Well-Unity Atlanta’s bookstore. \nNew people are very welcome to join!  If you are interested\, please email MWilkinson@leadstrat.com in order to receive the Zoom log-in information. 
URL:https://unityatl.org/events/practicing-the-presence-a-course-in-miracles-with-michael-wilkinson-via-zoom-2-2-2-2/2024-12-29/
LOCATION:Unity Atlanta\, 3597 Parkway Lane\, Norcross\, 30092\, United States
GEO:33.9597203;-84.231198
X-APPLE-STRUCTURED-LOCATION;VALUE=URI;X-ADDRESS=Unity Atlanta 3597 Parkway Lane Norcross 30092 United States;X-APPLE-RADIUS=500;X-TITLE=3597 Parkway Lane:geo:-84.231198,33.9597203
END:VEVENT
BEGIN:VEVENT
DTSTART;TZID=America/New_York:20241229T100000
DTEND;TZID=America/New_York:20241229T130000
DTSTAMP:20260422T131722
CREATED:20240425T210846Z
LAST-MODIFIED:20240425T210847Z
UID:10003126-1735466400-1735477200@unityatl.org
SUMMARY:Wisdom Well Bookstore
DESCRIPTION:The Wisdom Well Bookstore\n\n \nOur metaphysical bookstore reflects the heart of Unity Atlanta Church. It offers a collection of new thought\, spiritual\, and self-help books. We know you’ll be inspired with the large selection of gift items. The bookstore also supports our  Adult Education classes with a supply of teaching materials and textbooks. Our volunteer Bookstore Angels are always eager to introduce a new book or reacquaint us with an old classic. \nWisdom Well Store Hours:  Sundays\, 10:00 AM – 1:00 PM \nLooking for a book in particular? \nTo contact:  unitywisdomwell@gmail.com  or call the church office: 770-441-0585 \n\nWe have books for diverse interests:                                                                                  We also have many gifts including:            \nSpirituality                                                                                                                                Bimonthly issues of Unity Magazine\nBibles & Bible Reference Books                                                                                              Bimonthly issues of Daily Word\nPrayer & Meditation                                                                                                                 Greeting Cards\nInspiration & Motivation                                                                                                           Affirmation and 12 power stones\nRelationships                                                                                                                          Candles\nHealth & Healing                                                                                                                     Meditative scents\nTransitioning & Grieving                                                                                                          Notepads\nAngels                                                                                                                                     T-shirts\nBooks for children                                                                                                                   Bookmarks \n  \n 
URL:https://unityatl.org/events/wisdom-well-bookstore-2/2024-12-29/
LOCATION:Unity Atlanta\, 3597 Parkway Lane\, Norcross\, 30092\, United States
GEO:33.9597203;-84.231198
X-APPLE-STRUCTURED-LOCATION;VALUE=URI;X-ADDRESS=Unity Atlanta 3597 Parkway Lane Norcross 30092 United States;X-APPLE-RADIUS=500;X-TITLE=3597 Parkway Lane:geo:-84.231198,33.9597203
END:VEVENT
BEGIN:VEVENT
DTSTART;TZID=America/New_York:20241229T103000
DTEND;TZID=America/New_York:20241229T110000
DTSTAMP:20260422T131722
CREATED:20241017T153735Z
LAST-MODIFIED:20241017T153736Z
UID:10003396-1735468200-1735470000@unityatl.org
SUMMARY:Energy Healing Sessions
DESCRIPTION:Welcome to Unity Atlanta Church Healing Room!\nAll Are Welcome!  Our team provides energy healing sessions most Sundays from 10:30 to 11:00 A.M.\n \n \nDate:  Most Sundays\, 10:30 – 11:00am\nLocation: Room 105 off of the Lobby \nWe offer relaxing energy treatments and chakra balancing.  These are fully-clothed sessions with sturdy massage tables available.  Our energy work is performed by quality\, certified practitioners for love-offerings which go directly to help fund the work of Unity Atlanta Church. \nPlease sign in at the small table in the Healing Room.  For more information\, please “text” Elisha Fields at 678-491-4332 \nFeel free to stop by and say “Hello”\nWe are located on the left side of the front lobby next to the Bookstore.  And\, we have comfortable chairs available when waiting for a treatment or visiting our healers. \n\nAbout our Energy Healing Team:   \nSimone Jennings: \n \nSimone is a seasoned spiritual coach and energy practitioner with over 15 years of experience guiding clients through processes of awareness and alignment of mind\, body\, and spirit. \nAs a certified Life Skills coach\, Angel Practitioner\, and Reiki Master\, she seamlessly integrates a wide range of techniques to empower individuals in releasing blockages\, realigning energies\, and reclaiming their true essence. \nDeeply passionate about serving others and leading with compassion\, Simone is dedicated to helping her clients achieve profound transformation and lasting well-being \nCynthia Wittman: \n \nCynthia has practiced yoga and been a recipient of various energy healing modalities for several years. Living a more peaceful and abundant life\, Cynthia understands the benefits of sharing the universal life force with others. Cynthia began studying Reiki in early 2024 and is a Level 1 certificate holder with plans to complete all four levels to achieve Master. \nAs a registered interior designer\, Cynthia discovered one of her divine gifts and developed it into a profession. She designs spaces for others to live and work\, pursue their own purpose and passion\, heal and even perhaps transition. \n  \nElisha Fields:\nElisha is a Mystic\, Energy Worker\, and Master Teacher of Magnified Healing\, energy work which originated in China. When Magnified Healing was channeled by Quan Yin to two Reiki Masters in 1993\, Elisha studied with them at that time. \nElisha is also a certified hypnotherapist. She used hypnotherapy in 1993 to develop a pain relief system which is particularly successful with migraine headaches and localized pain.\nIn our healing room\, her session is designed to remove energy blocks and balance chakras. \n  \n  \n  \n  \n 
URL:https://unityatl.org/events/energy-healing-sessions/2024-12-29/
LOCATION:Unity Atlanta\, 3597 Parkway Lane\, Norcross\, 30092\, United States
GEO:33.9597203;-84.231198
X-APPLE-STRUCTURED-LOCATION;VALUE=URI;X-ADDRESS=Unity Atlanta 3597 Parkway Lane Norcross 30092 United States;X-APPLE-RADIUS=500;X-TITLE=3597 Parkway Lane:geo:-84.231198,33.9597203
END:VEVENT
BEGIN:VEVENT
DTSTART;TZID=America/New_York:20241229T110000
DTEND;TZID=America/New_York:20241229T120000
DTSTAMP:20260422T131722
CREATED:20241114T175715Z
LAST-MODIFIED:20241205T141516Z
UID:10003826-1735470000-1735473600@unityatl.org
SUMMARY:Kwanzaa Sunday Service--Freda Steward\, LUT
DESCRIPTION:Date: Sunday\, December 29\nTime: 11:00am\nLed By:  Freda Steward\, Licensed Unity Teacher \nJoin us in our Kwanzaa Celebration on December 29\, 11:00 am\, to not only learn its significance to the African American Community but also how its principles can be applied for universal good. \n  \nAll Unity Atlanta Church services include a guided meditation and time for reflection. \nTo Live Stream the 11:00 AM Service: \nLive Stream https://unityatl.org/live-stream/\nFace Book https://www.facebook.com/UnityAtlanta
URL:https://unityatl.org/events/kwanzaa-sunday-service-freda-steward-lut/
LOCATION:Unity Atlanta\, 3597 Parkway Lane\, Norcross\, 30092\, United States
GEO:33.9597203;-84.231198
X-APPLE-STRUCTURED-LOCATION;VALUE=URI;X-ADDRESS=Unity Atlanta 3597 Parkway Lane Norcross 30092 United States;X-APPLE-RADIUS=500;X-TITLE=3597 Parkway Lane:geo:-84.231198,33.9597203
END:VEVENT
BEGIN:VEVENT
DTSTART;TZID=America/New_York:20241229T123000
DTEND;TZID=America/New_York:20241229T133000
DTSTAMP:20260422T131722
CREATED:20241113T170241Z
LAST-MODIFIED:20241113T170241Z
UID:10003822-1735475400-1735479000@unityatl.org
SUMMARY:Spiritual Keys to Aging Well Discussion Group
DESCRIPTION:Monthly Discussion Group Discussing Articles from the Unity Village booklet “Spiritual Keys to Aging Well.”\n \nDate: Sunday\, December 29\nTime: 12:30pm\nLocation: Room 108\nFacilitator: Elisha Fields \nThe group will discuss articles from the Unity Village booklet given out in June on “Spiritual Keys to Aging Well.”   If you did not pick one up in June\, one will be provided for you. \nAfter this session\, the Aging Well Discussion Group will go on hiatus through the winter and will return in the spring.  \nNo RSVP necessary.   For any questions contact Elisha Fields at  ElishaFields@att.net
URL:https://unityatl.org/events/spiritual-keys-to-aging-well-discussion-group/
LOCATION:Unity Atlanta\, 3597 Parkway Lane\, Norcross\, 30092\, United States
GEO:33.9597203;-84.231198
X-APPLE-STRUCTURED-LOCATION;VALUE=URI;X-ADDRESS=Unity Atlanta 3597 Parkway Lane Norcross 30092 United States;X-APPLE-RADIUS=500;X-TITLE=3597 Parkway Lane:geo:-84.231198,33.9597203
END:VEVENT
BEGIN:VEVENT
DTSTART;TZID=America/New_York:20241231T180000
DTEND;TZID=America/New_York:20241231T190000
DTSTAMP:20260422T131722
CREATED:20241107T172443Z
LAST-MODIFIED:20241223T175519Z
UID:10003817-1735668000-1735671600@unityatl.org
SUMMARY:New Year's Eve Burning Bowl Service
DESCRIPTION:Bring In The New Year By Releasing The Old And Affirming The New\n \nDate: Tuesday\, December 31\nTime: 6:00 pm ET \nBefore the New Year’s parties begin\, join us for an inspiring\, sacred time of reflection and celebration in prayer\, meditation and song.  In releasing the old of 2024\, we reconnect with Spirit Within and set intentions for new ways of living in 2025. \nThis service includes time for writing a Letter to God\, stating your intentions and hopes for the coming year.  If you write the letter in advance\, please bring it with you in a self-addressed stamped envelope.  We also will have paper and envelopes for you to write your letter during the service.  These letters will be mailed back to you in early December 2025.    \nYou can also submit your Letter to God to us via email and we’ll email them back to you in early December 2025.  Submit to: congregationalcare@unityatl.org with Subject Line: Letter to God for Burning Bowl \nAll Unity Atlanta Church services include a guided meditation and time for reflection. \nTo Live Stream this Service: \nLive Stream https://unityatl.org/live-stream/\nFace Book https://www.facebook.com/UnityAtlanta
URL:https://unityatl.org/events/new-years-eve-burning-bowl-service/
LOCATION:Unity Atlanta\, 3597 Parkway Lane\, Norcross\, 30092\, United States
GEO:33.9597203;-84.231198
X-APPLE-STRUCTURED-LOCATION;VALUE=URI;X-ADDRESS=Unity Atlanta 3597 Parkway Lane Norcross 30092 United States;X-APPLE-RADIUS=500;X-TITLE=3597 Parkway Lane:geo:-84.231198,33.9597203
END:VEVENT
BEGIN:VEVENT
DTSTART;TZID=America/New_York:20250102T193000
DTEND;TZID=America/New_York:20250102T210000
DTSTAMP:20260422T131722
CREATED:20230322T183041Z
LAST-MODIFIED:20241031T174435Z
UID:10002172-1735846200-1735851600@unityatl.org
SUMMARY:Unity Atlanta Men's Group
DESCRIPTION:Unity Atlanta Men’s Group \nThe men’s group meets onsite at the church the 1st – 3rd Thursdays of the month.  The 4th (and if applicable\, the 5th) Thursday is often a Game Night\, or one of a number of various activities. \n \nFor any questions\, including the logistics for the 4th and 5th Thursdays\, please TEXT Steve Peck at 770-639-5242 or email him at speck3053@comcast.net   \nLocation:  Unity Atlanta Room 108   Time: 7:30 – 9:00 PM \nFor any questions\,  please TEXT Steve Peck at 770-639-5242 or email him at speck3053@comcast.net/      \nThe Unity Atlanta Men’s Group Meetings begin with a brief 1-2 minute check-in during which each member shares how his week went\, what’s gong on in his life\, and any success or challenges he may be experiencing. \nWe then move on to a topic\, which either arises during the check-in or has been prepared in advance by one of the members.  Topics\, week from week\, have a wide range of subjects.  We share from our own experience rather than giving opinions or advice or telling stories.  Through this sharing\, a sense of brotherhood develops with the individual members while retaining an openness that is welcoming to all. \nOccasionally\, we also conduct public outreach\, and each fall we sponsor a men only retreat. \nMission Statement: \n\nWe are a self-supporting\, self-facilitating\, spiritually-based group\nWe remind each other that we are all connected and learn from our collective wisdom\nWe promote spirituality\, growth\, learning and community\nWe support each other and remind each other to live “in faith”\nWe share our lives\, our joy\, and our abundance to become like-minded brothers\nWe radiate our spirituality to our families\, friends and the world\nWe express our feelings and emotions through healthy communication\nRegardless of our means and circumstances\, we are friends and equals\nWe are here–join us!
URL:https://unityatl.org/events/unity-atlanta-mens-group-18/2025-01-02/
LOCATION:Unity Atlanta\, 3597 Parkway Lane\, Norcross\, 30092\, United States
GEO:33.9597203;-84.231198
X-APPLE-STRUCTURED-LOCATION;VALUE=URI;X-ADDRESS=Unity Atlanta 3597 Parkway Lane Norcross 30092 United States;X-APPLE-RADIUS=500;X-TITLE=3597 Parkway Lane:geo:-84.231198,33.9597203
END:VEVENT
BEGIN:VEVENT
DTSTART;TZID=America/New_York:20250104T180000
DTEND;TZID=America/New_York:20250104T200000
DTSTAMP:20260422T131722
CREATED:20241219T203135Z
LAST-MODIFIED:20241219T203135Z
UID:10003841-1736013600-1736020800@unityatl.org
SUMMARY:Japanese Ramen--Hands on Cooking Class
DESCRIPTION:Enjoy Hands on Cooking Classes with CocuSocial\, hosted by Unity Atlanta Church.\n \nDate: Saturday\, January 4\nTime:  6:00 – 8:00 pm\nLocation: Fellowship Hall\nCost: $63  (get a 10% discount by using Discount Code: unityatl10 at registration)) \nPre-registration required: https://cocusocial.com/newevent/Atlanta_Japanese-Ramen-_Dec-20 \n\n\n\n\nThe link has a drop down menu where you can register for the January 4 and/or January 17 class.   \nEscape to the streets of Tokyo as we create this infamous classic dish\, Japanese Ramen! \nThis class is perfect for anyone who enjoys Asian flavors and wants to learn more about how to recreate these flavors and techniques at home! \nIn this fun\, hands-on class\, you will be guided step-by-step in recreating this popular noodle soup dish\, renowned for its rich broth\, abundance of noodles and endless toppings! Your chef instructor will have marinaded eggs as well as your personal jar of homemade chili oil\, and you will learn how to create the perfect balance of flavors while making your tare (blend of Japanese seasonings)\, and will cook marinated chicken to use in your bowl. You’ll prepare your Dashi (savory\, umami-rich stock) and build your bowl to your liking to enjoy with your new found foodie friends! \nWhile this dish isn’t vegetarian\, dairy free or egg free – the chef instructor can guide you through options to make and enjoy a vegetarian\, dairy free and/or egg free version. Just let her know at the start of class! \nNo experience is required! We provide all the equipment and ingredients\, which are easy to find at local markets if you don’t already have them in your home kitchen. Our events are casual and meant to be fun and instructive\, not hardcore. This class is designed to be just as fun for the cooking enthusiast who wants to be a part of every step as it is for the first-timer who’s happier observing and assisting (or taste testing). \nPlease arrive 15 minutes early to check in. You will be seated with your booking party. Guests in the same booking party will work together throughout the class by sharing ingredients and equipment. This class is BYOB for those 21+! Bring your favorite Sake\, wine or beer to pair with your delicious and handmade meal. \n\n\n\n\n 
URL:https://unityatl.org/events/japanese-ramen-hands-on-cooking-class/
LOCATION:Unity Atlanta\, 3597 Parkway Lane\, Norcross\, 30092\, United States
GEO:33.9597203;-84.231198
X-APPLE-STRUCTURED-LOCATION;VALUE=URI;X-ADDRESS=Unity Atlanta 3597 Parkway Lane Norcross 30092 United States;X-APPLE-RADIUS=500;X-TITLE=3597 Parkway Lane:geo:-84.231198,33.9597203
END:VEVENT
END:VCALENDAR