BEGIN:VCALENDAR
VERSION:2.0
PRODID:-//Unity Atlanta Church - ECPv6.15.20//NONSGML v1.0//EN
CALSCALE:GREGORIAN
METHOD:PUBLISH
X-WR-CALNAME:Unity Atlanta Church
X-ORIGINAL-URL:https://unityatl.org
X-WR-CALDESC:Events for Unity Atlanta Church
REFRESH-INTERVAL;VALUE=DURATION:PT1H
X-Robots-Tag:noindex
X-PUBLISHED-TTL:PT1H
BEGIN:VTIMEZONE
TZID:America/New_York
BEGIN:DAYLIGHT
TZOFFSETFROM:-0500
TZOFFSETTO:-0400
TZNAME:EDT
DTSTART:20230312T070000
END:DAYLIGHT
BEGIN:STANDARD
TZOFFSETFROM:-0400
TZOFFSETTO:-0500
TZNAME:EST
DTSTART:20231105T060000
END:STANDARD
BEGIN:DAYLIGHT
TZOFFSETFROM:-0500
TZOFFSETTO:-0400
TZNAME:EDT
DTSTART:20240310T070000
END:DAYLIGHT
BEGIN:STANDARD
TZOFFSETFROM:-0400
TZOFFSETTO:-0500
TZNAME:EST
DTSTART:20241103T060000
END:STANDARD
BEGIN:DAYLIGHT
TZOFFSETFROM:-0500
TZOFFSETTO:-0400
TZNAME:EDT
DTSTART:20250309T070000
END:DAYLIGHT
BEGIN:STANDARD
TZOFFSETFROM:-0400
TZOFFSETTO:-0500
TZNAME:EST
DTSTART:20251102T060000
END:STANDARD
END:VTIMEZONE
BEGIN:VEVENT
DTSTART;TZID=America/New_York:20240908T084500
DTEND;TZID=America/New_York:20240908T094500
DTSTAMP:20260422T180011
CREATED:20240416T151420Z
LAST-MODIFIED:20240416T151420Z
UID:10002829-1725785100-1725788700@unityatl.org
SUMMARY:Practicing the Presence—A Course in Miracles with Michael Wilkinson–via Zoom
DESCRIPTION:Practicing the Presence—A Course in Miracles Weekly Group Study Over Zoom\n \nA Course in Miracles aims at removing the blocks to the awareness of love’s presence. As the Introduction explains: “The opposite of love is fear\, but what is all-encompassing can have no opposite. This course can therefore be summed up very simply in this way: Nothing real can be threatened. Nothing unreal exists. Herein lies the peace of God.“ \nFacilitator: Michael Wilkinson  Sunday’s 9:00 – 10:30 AM\, EST (Optional meditation at 8:45) \nThis is an open and ongoing class.  All are welcome.  Drop-in any time.\nBooks can be ordered through The Wisdom Well-Unity Atlanta’s bookstore. \nNew people are very welcome to join!  If you are interested\, please email MWilkinson@leadstrat.com in order to receive the Zoom log-in information. 
URL:https://unityatl.org/events/practicing-the-presence-a-course-in-miracles-with-michael-wilkinson-via-zoom-2-2/2024-09-08/
LOCATION:Unity Atlanta\, 3597 Parkway Lane\, Norcross\, 30092\, United States
GEO:33.9597203;-84.231198
X-APPLE-STRUCTURED-LOCATION;VALUE=URI;X-ADDRESS=Unity Atlanta 3597 Parkway Lane Norcross 30092 United States;X-APPLE-RADIUS=500;X-TITLE=3597 Parkway Lane:geo:-84.231198,33.9597203
END:VEVENT
BEGIN:VEVENT
DTSTART;TZID=America/New_York:20240908T084500
DTEND;TZID=America/New_York:20240908T103000
DTSTAMP:20260422T180011
CREATED:20260106T162342Z
LAST-MODIFIED:20260106T162349Z
UID:10004510-1725785100-1725791400@unityatl.org
SUMMARY:Practicing the Presence—A Course in Miracles with Michael Wilkinson–via Zoom
DESCRIPTION:Practicing the Presence—A Course in Miracles Weekly Group Study Over Zoom\n \nA Course in Miracles aims at removing the blocks to the awareness of love’s presence. As the Introduction explains: “The opposite of love is fear\, but what is all-encompassing can have no opposite. This course can therefore be summed up very simply in this way: Nothing real can be threatened. Nothing unreal exists. Herein lies the peace of God.“ \nFacilitator: Michael Wilkinson  Sunday’s 9:00 – 10:30 AM\, EST (Optional meditation at 8:45) \nThis is an open and ongoing class.  All are welcome.  Drop-in any time.\nBooks can be ordered through The Wisdom Well-Unity Atlanta’s bookstore. \nNew people are very welcome to join!  If you are interested\, please email MWilkinson@leadstrat.com in order to receive the Zoom log-in information. 
URL:https://unityatl.org/events/practicing-the-presence-a-course-in-miracles-with-michael-wilkinson-via-zoom-2-2-2/2024-09-08/
LOCATION:Unity Atlanta\, 3597 Parkway Lane\, Norcross\, 30092\, United States
GEO:33.9597203;-84.231198
X-APPLE-STRUCTURED-LOCATION;VALUE=URI;X-ADDRESS=Unity Atlanta 3597 Parkway Lane Norcross 30092 United States;X-APPLE-RADIUS=500;X-TITLE=3597 Parkway Lane:geo:-84.231198,33.9597203
END:VEVENT
BEGIN:VEVENT
DTSTART;TZID=America/New_York:20240908T084500
DTEND;TZID=America/New_York:20240908T103000
DTSTAMP:20260422T180011
CREATED:20260219T162845Z
LAST-MODIFIED:20260219T162846Z
UID:10005108-1725785100-1725791400@unityatl.org
SUMMARY:Practicing the Presence—A Course in Miracles with Michael Wilkinson–via Zoom
DESCRIPTION:Practicing the Presence—A Course in Miracles Weekly Group Study Over Zoom\n \nA Course in Miracles aims at removing the blocks to the awareness of love’s presence. As the Introduction explains: “The opposite of love is fear\, but what is all-encompassing can have no opposite. This course can therefore be summed up very simply in this way: Nothing real can be threatened. Nothing unreal exists. Herein lies the peace of God.“ \nFacilitator: Michael Wilkinson  Sunday’s 9:00 – 10:30 AM\, EST (Optional meditation at 8:45) \nThis is an open and ongoing class.  All are welcome.  Drop-in any time.\nBooks can be ordered through The Wisdom Well-Unity Atlanta’s bookstore. \nNew people are very welcome to join!  If you are interested\, please email MWilkinson@leadstrat.com in order to receive the Zoom log-in information. 
URL:https://unityatl.org/events/practicing-the-presence-a-course-in-miracles-with-michael-wilkinson-via-zoom-2-2-2-2/2024-09-08/
LOCATION:Unity Atlanta\, 3597 Parkway Lane\, Norcross\, 30092\, United States
GEO:33.9597203;-84.231198
X-APPLE-STRUCTURED-LOCATION;VALUE=URI;X-ADDRESS=Unity Atlanta 3597 Parkway Lane Norcross 30092 United States;X-APPLE-RADIUS=500;X-TITLE=3597 Parkway Lane:geo:-84.231198,33.9597203
END:VEVENT
BEGIN:VEVENT
DTSTART;TZID=America/New_York:20240908T093000
DTEND;TZID=America/New_York:20240908T104500
DTSTAMP:20260422T180011
CREATED:20231206T154234Z
LAST-MODIFIED:20231206T154404Z
UID:10002683-1725787800-1725792300@unityatl.org
SUMMARY:The Quest: A Journey of Spiritual Rediscovery
DESCRIPTION:Join Like Minded Seekers for The Quest: A Journey of Spiritual Rediscovery!\n \nDates: Meets all Sundays of 2024 except (March 31\, June 30\, September 29\, December 29)  You can come for as many sessions as you’d like!\nTime: 9:30 – 10:45am EST\nLocation: Youth Education Wing and via Zoom \nAs Unity Atlanta Church celebrates its’ 100-year birthday\, we embark on a yearlong adventure with other likeminded seekers to revisit and apply the ancient Truths that are foundational to our beliefs and experiences. \nWe will map out our journey\, travel through known and unknown territory\, and blaze new trails as well as travel well-worn ones. But we will always come back to home base to share our experiences and discoveries. If you have a desire to know your indwelling spiritual nature (the Christ) and are committed and open to intentionally living your spiritual principles\, come join us ~ for the entire journey or as an intermittent day traveler. This quest comes with a guarantee that if you should sign on…your life will be transformed! \nOur Quest guides are UAC’s Licensed Unity Teachers and Ministerial/LUT Students with touchpoint huddles on Sunday Mornings 9:30am  -10:45am EST\, virtually or in person\, starting January 7\, 2024. \nRegistration for Zoom Session:\nClick here to register for the Zoom sessions and to receive the Zoom login code:  https://us02web.zoom.us/meeting/register/tZYuduChrzgvEtLzT6nDkt7aNbs9Qqqq9Ocr \nFor Questions: Email UnityAtlSpiritGroups@gmail.com  \nBooks: Later in December the books will be available at our Unity Atlanta Church Wisdom Well Bookstore.  Please let Beth Stokes know if you are interested in purchasing one or both books.  She can be reached at unitywisdomwell@gmail.com (they are also available on Amazon) \nBooks are optional\, though very helpful if you are participating regularly.\n1. The Quest: A Journey of Spiritual Discovery by Richard and Mary Jafolla\n2. Adventures on the Quest (A spiritual travel journal) by Richard and Mary Jafolla \n 
URL:https://unityatl.org/events/the-quest-a-journey-of-spiritual-rediscovery-5/2024-09-08/
LOCATION:Unity Atlanta\, 3597 Parkway Lane\, Norcross\, 30092\, United States
GEO:33.9597203;-84.231198
X-APPLE-STRUCTURED-LOCATION;VALUE=URI;X-ADDRESS=Unity Atlanta 3597 Parkway Lane Norcross 30092 United States;X-APPLE-RADIUS=500;X-TITLE=3597 Parkway Lane:geo:-84.231198,33.9597203
END:VEVENT
BEGIN:VEVENT
DTSTART;TZID=America/New_York:20240908T100000
DTEND;TZID=America/New_York:20240908T130000
DTSTAMP:20260422T180011
CREATED:20240425T210846Z
LAST-MODIFIED:20240425T210847Z
UID:10001299-1725789600-1725800400@unityatl.org
SUMMARY:Wisdom Well Bookstore
DESCRIPTION:The Wisdom Well Bookstore\n\n \nOur metaphysical bookstore reflects the heart of Unity Atlanta Church. It offers a collection of new thought\, spiritual\, and self-help books. We know you’ll be inspired with the large selection of gift items. The bookstore also supports our  Adult Education classes with a supply of teaching materials and textbooks. Our volunteer Bookstore Angels are always eager to introduce a new book or reacquaint us with an old classic. \nWisdom Well Store Hours:  Sundays\, 10:00 AM – 1:00 PM \nLooking for a book in particular? \nTo contact:  unitywisdomwell@gmail.com  or call the church office: 770-441-0585 \n\nWe have books for diverse interests:                                                                                  We also have many gifts including:            \nSpirituality                                                                                                                                Bimonthly issues of Unity Magazine\nBibles & Bible Reference Books                                                                                              Bimonthly issues of Daily Word\nPrayer & Meditation                                                                                                                 Greeting Cards\nInspiration & Motivation                                                                                                           Affirmation and 12 power stones\nRelationships                                                                                                                          Candles\nHealth & Healing                                                                                                                     Meditative scents\nTransitioning & Grieving                                                                                                          Notepads\nAngels                                                                                                                                     T-shirts\nBooks for children                                                                                                                   Bookmarks \n  \n 
URL:https://unityatl.org/events/wisdom-well-bookstore-2/2024-09-08/
LOCATION:Unity Atlanta\, 3597 Parkway Lane\, Norcross\, 30092\, United States
GEO:33.9597203;-84.231198
X-APPLE-STRUCTURED-LOCATION;VALUE=URI;X-ADDRESS=Unity Atlanta 3597 Parkway Lane Norcross 30092 United States;X-APPLE-RADIUS=500;X-TITLE=3597 Parkway Lane:geo:-84.231198,33.9597203
END:VEVENT
BEGIN:VEVENT
DTSTART;TZID=America/New_York:20240908T103000
DTEND;TZID=America/New_York:20240908T110000
DTSTAMP:20260422T180011
CREATED:20240905T164717Z
LAST-MODIFIED:20240905T164718Z
UID:10003380-1725791400-1725793200@unityatl.org
SUMMARY:Energy Healing Sessions
DESCRIPTION:Enjoy A Healing Session From Healing Ministry Team\n \nHealing Room Hours:  Sundays\, 10:30 – 11:00 am\nLocation: Room 105\, on the left side of the Bookstore as you walk into the front lobby.  Sign in sheets are just inside the Healing Room.\nCost: Our healing practitioners provide healing sessions on a love offering basis. \nUnity Atlanta Healing Room is open and active most Sundays before services.  We offer relaxing energy treatments and chakra balancing by certified healers for love-offerings which go directly to Unity Atlanta Church. \nAll are welcome!  No reason necessary\, just come to say “Hello” or check out the room. The energy work is performed on sturdy massage tables behind screens for privacy.  There are comfortable chairs to sit in while visiting our healers or waiting for a treatment. \nOur healing team is about to grow\, and if you are a certified healer and would like to join our team\, please come in and speak with Elisha. Also\, if you are interested in studying energy healing\, please come in and sign up for a course in magnified healing\, which Elisha plans to teach at the church once a year. \nFor questions or concerns: email ElishaFields@att.net  or text 678-491-4332.  Please mention the Healing Room and/or Unity Atlanta along with your name. \nAbout our Healing Practitioners: \nElisha Fields:\n\nElisha Fields\, a mystic and energy worker\, is a master teacher of Magnified Healing\, which is energy work similar to Reiki.  However\, Reiki originated in Japan\, and Magnified Healing originated in China.  Elisha is also a certified hypnotherapist which she utilized in 1993 along with other modalities to develop a pain-relief system which is particularly successful with migraines/headaches and localized pain. \n  \n  \n  \n 
URL:https://unityatl.org/events/reiki-healing-sessions-2-3-2-2-2-2-2-2-4-2/
LOCATION:Unity Atlanta\, 3597 Parkway Lane\, Norcross\, 30092\, United States
GEO:33.9597203;-84.231198
X-APPLE-STRUCTURED-LOCATION;VALUE=URI;X-ADDRESS=Unity Atlanta 3597 Parkway Lane Norcross 30092 United States;X-APPLE-RADIUS=500;X-TITLE=3597 Parkway Lane:geo:-84.231198,33.9597203
END:VEVENT
BEGIN:VEVENT
DTSTART;TZID=America/New_York:20240908T110000
DTEND;TZID=America/New_York:20240908T120000
DTSTAMP:20260422T180011
CREATED:20240813T171343Z
LAST-MODIFIED:20240826T164100Z
UID:10003754-1725793200-1725796800@unityatl.org
SUMMARY:Sunday Message: "Living from Spirit Within"-Communion Service
DESCRIPTION:Join Rev. Jenn for this Sunday’s message:  Living from Spirit Within\n \nDate:  Sunday\, September 8\nTime:  11:00am ET\nMessage: “Living from Spirit Within”–Rev. Jenn\nTheme: When you live from the inside out\, your divine nature supports all you do. \nCommunion will follow the Sunday message.
URL:https://unityatl.org/events/sunday-message-living-from-spirit-within/
LOCATION:Unity Atlanta\, 3597 Parkway Lane\, Norcross\, 30092\, United States
GEO:33.9597203;-84.231198
X-APPLE-STRUCTURED-LOCATION;VALUE=URI;X-ADDRESS=Unity Atlanta 3597 Parkway Lane Norcross 30092 United States;X-APPLE-RADIUS=500;X-TITLE=3597 Parkway Lane:geo:-84.231198,33.9597203
END:VEVENT
BEGIN:VEVENT
DTSTART;TZID=America/New_York:20240908T123000
DTEND;TZID=America/New_York:20240908T133000
DTSTAMP:20260422T180011
CREATED:20240529T165246Z
LAST-MODIFIED:20240529T165246Z
UID:10003634-1725798600-1725802200@unityatl.org
SUMMARY:Brown Bag Spiritual Café with Rev. Jenn
DESCRIPTION:Join Rev. Jenn for a Brown Bag Spiritual Café\n \nA time to talk\, share\, and enjoy one another!  Bring your lunch and stay after services for nourishment for body\, mind\, and soul! \nDates: Sunday\, September 8\nTime: 12:30 pm\, bring your lunch\nLocation: Fellowship Hall \nDiscuss the weekly devotional/Sunday message • Have time together\nAnd as always with Spiritual Café\, we will conclude with the Master Mind Prayer.
URL:https://unityatl.org/events/brown-bag-spiritual-cafe-with-rev-jenn-11/
LOCATION:Unity Atlanta\, 3597 Parkway Lane\, Norcross\, 30092\, United States
GEO:33.9597203;-84.231198
X-APPLE-STRUCTURED-LOCATION;VALUE=URI;X-ADDRESS=Unity Atlanta 3597 Parkway Lane Norcross 30092 United States;X-APPLE-RADIUS=500;X-TITLE=3597 Parkway Lane:geo:-84.231198,33.9597203
END:VEVENT
BEGIN:VEVENT
DTSTART;TZID=America/New_York:20240909T183000
DTEND;TZID=America/New_York:20240909T200000
DTSTAMP:20260422T180011
CREATED:20240425T203211Z
LAST-MODIFIED:20240425T203211Z
UID:10003101-1725906600-1725912000@unityatl.org
SUMMARY:Toastmasters
DESCRIPTION:Looking for an opportunity to work on your speaking and public presentation skills? We are happy to have Toastmasters meet here at the church.\n \nDates:  2nd\, 3rd\, and 4th Mondays   (No meeting the weeks of Thanksgiving or Christmas)\nTime: 6:30 – 8:00pm\nLocation: Fellowship Hall \nGuests are always welcome! \nFor more information please contact:  Ajaye Hopper 678-622-2225 info@topshelftm.com
URL:https://unityatl.org/events/toastmasters-13/2024-09-09/
LOCATION:Unity Atlanta\, 3597 Parkway Lane\, Norcross\, 30092\, United States
GEO:33.9597203;-84.231198
X-APPLE-STRUCTURED-LOCATION;VALUE=URI;X-ADDRESS=Unity Atlanta 3597 Parkway Lane Norcross 30092 United States;X-APPLE-RADIUS=500;X-TITLE=3597 Parkway Lane:geo:-84.231198,33.9597203
END:VEVENT
BEGIN:VEVENT
DTSTART;TZID=America/New_York:20240910T200000
DTEND;TZID=America/New_York:20240910T210000
DTSTAMP:20260422T180011
CREATED:20240626T193713Z
LAST-MODIFIED:20240626T193713Z
UID:10003654-1725998400-1726002000@unityatl.org
SUMMARY:Conexión Divina – Grupo de Estudio y Oración (Divine Connection – Prayer and Study Group)
DESCRIPTION:Conexión Divina – Grupo de Estudio y Oración   (Divine Connection Prayer and Study Group)\n \nÚnete a nuestra tertulia espiritual que tenemos vía Zoom los martes de 8 a 9pm EDT con la Rev. Xiomara y otros ministros de Unity\, donde compartimos temas interesantes para nuestro desarrollo personal y espiritual. \nLecciones del folleto Unity “Enciende la Luz.”\nLa enseñanza principal de Eric Butterworth\, ministro de Unity\, era que cada ser humano es inherentemente divino. Él creía que nuestro trabajo consiste en vivir desde un estado de conciencia superior\nMartes 16\, 23 y 30 de julio y 6\, 13\, 20 y 27 de agosto. \nLecciones del folleto Unity “Sustenta tu Espíritu Divino”\nLas prácticas espirituales pueden rejuvenecerte y ayudarte a encontrar tu centro-ese lugar interior de paz y estabilidad inquebrantables donde puedes afrontar las tormentas de la vida.\nMartes 10\, 17 y 24 de septiembre y 1\, 8\, 15\, 22 y 29 de octubre \nLecciones del Folleto Unity “El Espíritu de la Familia”\nCada familia es única\, pero todas las familias comparten tanto desafíos como momentos de alegría. En los buenos tiempos—e incluso en los momentos de dolor\, temor o duda—podemos ver el poder de Dios en acción\nMartes 12\, 19 y 26 de noviembre y 3\, 10 y 17 de diciembre (En pausa hasta el 7 de enero 2025) \nPara solicitar enlace Zoom\, envía email a xioma735@gmail.com \n\nDivine Connection Prayer and Study Group \nJoin our spiritual gathering we have via Zoom on Tuesdays from 8 to 9pm EDT with Rev. Xiomara and other Unity ministers\, where we share interesting topics for our personal and spiritual development. \nLessons from Unity Booklet “Turn on the Light”\nUnity minister Eric Butterworth’s primary teaching was that every human being is fully divine. And our work\, he believed\, is to live from our higher consciousness.\nTuesday\, July 16\, 23 and 30\, August 6\, 13\, 20 and 27 \nLessons from Unity booklet “Nurture Your Divine Spirit”\nSpiritual practices can rejuvenate you\, helping you find your center—the inner place of peace and stability from which you can weather life’s storms\nTuesday\, September 10\, 17 & 24 and October 1\, 8\, 15\, 22 & 29 \n Lessons from Unity booklet “The Spirit of Family”\nEvery family is unique\, but all families share challenges along with moments of joy. In good times—and even in times of hurt\, fear\, or doubt—we can see the power of God in action.\nTuesday\, November 12\, 19 y 26\, December 3\, 10 and 17 (In hiatus until January 7\, 2025) \n To request zoom link\, send email to xioma735@gmail.com
URL:https://unityatl.org/events/conexion-divina-grupo-de-estudio-y-oracion-divine-connection-prayer-and-study-group/2024-09-10/
LOCATION:Unity Atlanta\, 3597 Parkway Lane\, Norcross\, 30092\, United States
GEO:33.9597203;-84.231198
X-APPLE-STRUCTURED-LOCATION;VALUE=URI;X-ADDRESS=Unity Atlanta 3597 Parkway Lane Norcross 30092 United States;X-APPLE-RADIUS=500;X-TITLE=3597 Parkway Lane:geo:-84.231198,33.9597203
END:VEVENT
BEGIN:VEVENT
DTSTART;TZID=America/New_York:20240912T190000
DTEND;TZID=America/New_York:20240912T200000
DTSTAMP:20260422T180011
CREATED:20240820T173350Z
LAST-MODIFIED:20240829T193152Z
UID:10003764-1726167600-1726171200@unityatl.org
SUMMARY:World Day of Prayer Service
DESCRIPTION:2024 World Day of Prayer: Moving Mountains\n \nDate: Thursday\, September 12\nTime/Location: 7:00 pm in the Chapel\nTheme: Moving Mountains \nDuring Unity’s World Day of Prayer\, thousands of people around the world will gather to celebrate the spiritual power of faith.\n\nJoin us at Unity Atlanta Church for a sacred time of prayer\, reflection\, music\, and guided meditation.  Let this be your time to just be: To be yourself\, to be still\, and to be at peace\, trusting in the grace and goodness of God\, with you and within you\, always\, and in all ways. \nWe’ll sit in a prayer circle\, so bring pillows\, blankets\, and cushions for extra comfort\, if you like. \nTogether\, let us set the intention and affirm for ourselves and one another: We have faith that moves mountains! \nThis event will be in person and not livestreamed.
URL:https://unityatl.org/events/world-day-of-prayer-service/
LOCATION:Unity Atlanta\, 3597 Parkway Lane\, Norcross\, 30092\, United States
GEO:33.9597203;-84.231198
X-APPLE-STRUCTURED-LOCATION;VALUE=URI;X-ADDRESS=Unity Atlanta 3597 Parkway Lane Norcross 30092 United States;X-APPLE-RADIUS=500;X-TITLE=3597 Parkway Lane:geo:-84.231198,33.9597203
END:VEVENT
BEGIN:VEVENT
DTSTART;TZID=America/New_York:20240912T193000
DTEND;TZID=America/New_York:20240912T210000
DTSTAMP:20260422T180011
CREATED:20230322T183041Z
LAST-MODIFIED:20241031T174435Z
UID:10002156-1726169400-1726174800@unityatl.org
SUMMARY:Unity Atlanta Men's Group
DESCRIPTION:Unity Atlanta Men’s Group \nThe men’s group meets onsite at the church the 1st – 3rd Thursdays of the month.  The 4th (and if applicable\, the 5th) Thursday is often a Game Night\, or one of a number of various activities. \n \nFor any questions\, including the logistics for the 4th and 5th Thursdays\, please TEXT Steve Peck at 770-639-5242 or email him at speck3053@comcast.net   \nLocation:  Unity Atlanta Room 108   Time: 7:30 – 9:00 PM \nFor any questions\,  please TEXT Steve Peck at 770-639-5242 or email him at speck3053@comcast.net/      \nThe Unity Atlanta Men’s Group Meetings begin with a brief 1-2 minute check-in during which each member shares how his week went\, what’s gong on in his life\, and any success or challenges he may be experiencing. \nWe then move on to a topic\, which either arises during the check-in or has been prepared in advance by one of the members.  Topics\, week from week\, have a wide range of subjects.  We share from our own experience rather than giving opinions or advice or telling stories.  Through this sharing\, a sense of brotherhood develops with the individual members while retaining an openness that is welcoming to all. \nOccasionally\, we also conduct public outreach\, and each fall we sponsor a men only retreat. \nMission Statement: \n\nWe are a self-supporting\, self-facilitating\, spiritually-based group\nWe remind each other that we are all connected and learn from our collective wisdom\nWe promote spirituality\, growth\, learning and community\nWe support each other and remind each other to live “in faith”\nWe share our lives\, our joy\, and our abundance to become like-minded brothers\nWe radiate our spirituality to our families\, friends and the world\nWe express our feelings and emotions through healthy communication\nRegardless of our means and circumstances\, we are friends and equals\nWe are here–join us!
URL:https://unityatl.org/events/unity-atlanta-mens-group-18/2024-09-12/
LOCATION:Unity Atlanta\, 3597 Parkway Lane\, Norcross\, 30092\, United States
GEO:33.9597203;-84.231198
X-APPLE-STRUCTURED-LOCATION;VALUE=URI;X-ADDRESS=Unity Atlanta 3597 Parkway Lane Norcross 30092 United States;X-APPLE-RADIUS=500;X-TITLE=3597 Parkway Lane:geo:-84.231198,33.9597203
END:VEVENT
END:VCALENDAR