BEGIN:VCALENDAR
VERSION:2.0
PRODID:-//Unity Atlanta Church - ECPv6.15.20//NONSGML v1.0//EN
CALSCALE:GREGORIAN
METHOD:PUBLISH
X-ORIGINAL-URL:https://unityatl.org
X-WR-CALDESC:Events for Unity Atlanta Church
REFRESH-INTERVAL;VALUE=DURATION:PT1H
X-Robots-Tag:noindex
X-PUBLISHED-TTL:PT1H
BEGIN:VTIMEZONE
TZID:America/New_York
BEGIN:DAYLIGHT
TZOFFSETFROM:-0500
TZOFFSETTO:-0400
TZNAME:EDT
DTSTART:20230312T070000
END:DAYLIGHT
BEGIN:STANDARD
TZOFFSETFROM:-0400
TZOFFSETTO:-0500
TZNAME:EST
DTSTART:20231105T060000
END:STANDARD
BEGIN:DAYLIGHT
TZOFFSETFROM:-0500
TZOFFSETTO:-0400
TZNAME:EDT
DTSTART:20240310T070000
END:DAYLIGHT
BEGIN:STANDARD
TZOFFSETFROM:-0400
TZOFFSETTO:-0500
TZNAME:EST
DTSTART:20241103T060000
END:STANDARD
BEGIN:DAYLIGHT
TZOFFSETFROM:-0500
TZOFFSETTO:-0400
TZNAME:EDT
DTSTART:20250309T070000
END:DAYLIGHT
BEGIN:STANDARD
TZOFFSETFROM:-0400
TZOFFSETTO:-0500
TZNAME:EST
DTSTART:20251102T060000
END:STANDARD
END:VTIMEZONE
BEGIN:VEVENT
DTSTART;TZID=America/New_York:20240512T084500
DTEND;TZID=America/New_York:20240512T094500
DTSTAMP:20260423T062353
CREATED:20240416T151420Z
LAST-MODIFIED:20240416T151420Z
UID:10002812-1715503500-1715507100@unityatl.org
SUMMARY:Practicing the Presence—A Course in Miracles with Michael Wilkinson–via Zoom
DESCRIPTION:Practicing the Presence—A Course in Miracles Weekly Group Study Over Zoom\n \nA Course in Miracles aims at removing the blocks to the awareness of love’s presence. As the Introduction explains: “The opposite of love is fear\, but what is all-encompassing can have no opposite. This course can therefore be summed up very simply in this way: Nothing real can be threatened. Nothing unreal exists. Herein lies the peace of God.“ \nFacilitator: Michael Wilkinson  Sunday’s 9:00 – 10:30 AM\, EST (Optional meditation at 8:45) \nThis is an open and ongoing class.  All are welcome.  Drop-in any time.\nBooks can be ordered through The Wisdom Well-Unity Atlanta’s bookstore. \nNew people are very welcome to join!  If you are interested\, please email MWilkinson@leadstrat.com in order to receive the Zoom log-in information. 
URL:https://unityatl.org/events/practicing-the-presence-a-course-in-miracles-with-michael-wilkinson-via-zoom-2-2/2024-05-12/
LOCATION:Unity Atlanta\, 3597 Parkway Lane\, Norcross\, 30092\, United States
GEO:33.9597203;-84.231198
X-APPLE-STRUCTURED-LOCATION;VALUE=URI;X-ADDRESS=Unity Atlanta 3597 Parkway Lane Norcross 30092 United States;X-APPLE-RADIUS=500;X-TITLE=3597 Parkway Lane:geo:-84.231198,33.9597203
END:VEVENT
BEGIN:VEVENT
DTSTART;TZID=America/New_York:20240512T084500
DTEND;TZID=America/New_York:20240512T103000
DTSTAMP:20260423T062353
CREATED:20260106T162342Z
LAST-MODIFIED:20260106T162349Z
UID:10004493-1715503500-1715509800@unityatl.org
SUMMARY:Practicing the Presence—A Course in Miracles with Michael Wilkinson–via Zoom
DESCRIPTION:Practicing the Presence—A Course in Miracles Weekly Group Study Over Zoom\n \nA Course in Miracles aims at removing the blocks to the awareness of love’s presence. As the Introduction explains: “The opposite of love is fear\, but what is all-encompassing can have no opposite. This course can therefore be summed up very simply in this way: Nothing real can be threatened. Nothing unreal exists. Herein lies the peace of God.“ \nFacilitator: Michael Wilkinson  Sunday’s 9:00 – 10:30 AM\, EST (Optional meditation at 8:45) \nThis is an open and ongoing class.  All are welcome.  Drop-in any time.\nBooks can be ordered through The Wisdom Well-Unity Atlanta’s bookstore. \nNew people are very welcome to join!  If you are interested\, please email MWilkinson@leadstrat.com in order to receive the Zoom log-in information. 
URL:https://unityatl.org/events/practicing-the-presence-a-course-in-miracles-with-michael-wilkinson-via-zoom-2-2-2/2024-05-12/
LOCATION:Unity Atlanta\, 3597 Parkway Lane\, Norcross\, 30092\, United States
GEO:33.9597203;-84.231198
X-APPLE-STRUCTURED-LOCATION;VALUE=URI;X-ADDRESS=Unity Atlanta 3597 Parkway Lane Norcross 30092 United States;X-APPLE-RADIUS=500;X-TITLE=3597 Parkway Lane:geo:-84.231198,33.9597203
END:VEVENT
BEGIN:VEVENT
DTSTART;TZID=America/New_York:20240512T084500
DTEND;TZID=America/New_York:20240512T103000
DTSTAMP:20260423T062353
CREATED:20260219T162845Z
LAST-MODIFIED:20260219T162846Z
UID:10005091-1715503500-1715509800@unityatl.org
SUMMARY:Practicing the Presence—A Course in Miracles with Michael Wilkinson–via Zoom
DESCRIPTION:Practicing the Presence—A Course in Miracles Weekly Group Study Over Zoom\n \nA Course in Miracles aims at removing the blocks to the awareness of love’s presence. As the Introduction explains: “The opposite of love is fear\, but what is all-encompassing can have no opposite. This course can therefore be summed up very simply in this way: Nothing real can be threatened. Nothing unreal exists. Herein lies the peace of God.“ \nFacilitator: Michael Wilkinson  Sunday’s 9:00 – 10:30 AM\, EST (Optional meditation at 8:45) \nThis is an open and ongoing class.  All are welcome.  Drop-in any time.\nBooks can be ordered through The Wisdom Well-Unity Atlanta’s bookstore. \nNew people are very welcome to join!  If you are interested\, please email MWilkinson@leadstrat.com in order to receive the Zoom log-in information. 
URL:https://unityatl.org/events/practicing-the-presence-a-course-in-miracles-with-michael-wilkinson-via-zoom-2-2-2-2/2024-05-12/
LOCATION:Unity Atlanta\, 3597 Parkway Lane\, Norcross\, 30092\, United States
GEO:33.9597203;-84.231198
X-APPLE-STRUCTURED-LOCATION;VALUE=URI;X-ADDRESS=Unity Atlanta 3597 Parkway Lane Norcross 30092 United States;X-APPLE-RADIUS=500;X-TITLE=3597 Parkway Lane:geo:-84.231198,33.9597203
END:VEVENT
BEGIN:VEVENT
DTSTART;TZID=America/New_York:20240512T093000
DTEND;TZID=America/New_York:20240512T104500
DTSTAMP:20260423T062353
CREATED:20231206T154234Z
LAST-MODIFIED:20231206T154404Z
UID:10002666-1715506200-1715510700@unityatl.org
SUMMARY:The Quest: A Journey of Spiritual Rediscovery
DESCRIPTION:Join Like Minded Seekers for The Quest: A Journey of Spiritual Rediscovery!\n \nDates: Meets all Sundays of 2024 except (March 31\, June 30\, September 29\, December 29)  You can come for as many sessions as you’d like!\nTime: 9:30 – 10:45am EST\nLocation: Youth Education Wing and via Zoom \nAs Unity Atlanta Church celebrates its’ 100-year birthday\, we embark on a yearlong adventure with other likeminded seekers to revisit and apply the ancient Truths that are foundational to our beliefs and experiences. \nWe will map out our journey\, travel through known and unknown territory\, and blaze new trails as well as travel well-worn ones. But we will always come back to home base to share our experiences and discoveries. If you have a desire to know your indwelling spiritual nature (the Christ) and are committed and open to intentionally living your spiritual principles\, come join us ~ for the entire journey or as an intermittent day traveler. This quest comes with a guarantee that if you should sign on…your life will be transformed! \nOur Quest guides are UAC’s Licensed Unity Teachers and Ministerial/LUT Students with touchpoint huddles on Sunday Mornings 9:30am  -10:45am EST\, virtually or in person\, starting January 7\, 2024. \nRegistration for Zoom Session:\nClick here to register for the Zoom sessions and to receive the Zoom login code:  https://us02web.zoom.us/meeting/register/tZYuduChrzgvEtLzT6nDkt7aNbs9Qqqq9Ocr \nFor Questions: Email UnityAtlSpiritGroups@gmail.com  \nBooks: Later in December the books will be available at our Unity Atlanta Church Wisdom Well Bookstore.  Please let Beth Stokes know if you are interested in purchasing one or both books.  She can be reached at unitywisdomwell@gmail.com (they are also available on Amazon) \nBooks are optional\, though very helpful if you are participating regularly.\n1. The Quest: A Journey of Spiritual Discovery by Richard and Mary Jafolla\n2. Adventures on the Quest (A spiritual travel journal) by Richard and Mary Jafolla \n 
URL:https://unityatl.org/events/the-quest-a-journey-of-spiritual-rediscovery-5/2024-05-12/
LOCATION:Unity Atlanta\, 3597 Parkway Lane\, Norcross\, 30092\, United States
GEO:33.9597203;-84.231198
X-APPLE-STRUCTURED-LOCATION;VALUE=URI;X-ADDRESS=Unity Atlanta 3597 Parkway Lane Norcross 30092 United States;X-APPLE-RADIUS=500;X-TITLE=3597 Parkway Lane:geo:-84.231198,33.9597203
END:VEVENT
BEGIN:VEVENT
DTSTART;TZID=America/New_York:20240512T100000
DTEND;TZID=America/New_York:20240512T130000
DTSTAMP:20260423T062353
CREATED:20240425T210846Z
LAST-MODIFIED:20240425T210847Z
UID:10001282-1715508000-1715518800@unityatl.org
SUMMARY:Wisdom Well Bookstore
DESCRIPTION:The Wisdom Well Bookstore\n\n \nOur metaphysical bookstore reflects the heart of Unity Atlanta Church. It offers a collection of new thought\, spiritual\, and self-help books. We know you’ll be inspired with the large selection of gift items. The bookstore also supports our  Adult Education classes with a supply of teaching materials and textbooks. Our volunteer Bookstore Angels are always eager to introduce a new book or reacquaint us with an old classic. \nWisdom Well Store Hours:  Sundays\, 10:00 AM – 1:00 PM \nLooking for a book in particular? \nTo contact:  unitywisdomwell@gmail.com  or call the church office: 770-441-0585 \n\nWe have books for diverse interests:                                                                                  We also have many gifts including:            \nSpirituality                                                                                                                                Bimonthly issues of Unity Magazine\nBibles & Bible Reference Books                                                                                              Bimonthly issues of Daily Word\nPrayer & Meditation                                                                                                                 Greeting Cards\nInspiration & Motivation                                                                                                           Affirmation and 12 power stones\nRelationships                                                                                                                          Candles\nHealth & Healing                                                                                                                     Meditative scents\nTransitioning & Grieving                                                                                                          Notepads\nAngels                                                                                                                                     T-shirts\nBooks for children                                                                                                                   Bookmarks \n  \n 
URL:https://unityatl.org/events/wisdom-well-bookstore-2/2024-05-12/
LOCATION:Unity Atlanta\, 3597 Parkway Lane\, Norcross\, 30092\, United States
GEO:33.9597203;-84.231198
X-APPLE-STRUCTURED-LOCATION;VALUE=URI;X-ADDRESS=Unity Atlanta 3597 Parkway Lane Norcross 30092 United States;X-APPLE-RADIUS=500;X-TITLE=3597 Parkway Lane:geo:-84.231198,33.9597203
END:VEVENT
BEGIN:VEVENT
DTSTART;TZID=America/New_York:20240512T103000
DTEND;TZID=America/New_York:20240512T110000
DTSTAMP:20260423T062353
CREATED:20240430T150014Z
LAST-MODIFIED:20240502T195851Z
UID:10003363-1715509800-1715511600@unityatl.org
SUMMARY:Energy Healing Sessions
DESCRIPTION:Enjoy A Healing Session From Healing Ministry Team\n \nHealing Room Hours:  Sundays\, 10:30 – 11:00 am\nLocation: Room 105\, on the left side of the Bookstore as you walk into the front lobby.  Sign in sheets are just inside the Healing Room.\nCost: Our healing practitioners provide healing sessions on a love offering basis. \nUnity Atlanta Healing Room is open and active most Sundays before services.  We offer relaxing energy treatments and chakra balancing by certified healers for love-offerings which go directly to Unity Atlanta Church. \nAll are welcome!  No reason necessary\, just come to say “Hello” or check out the room. The energy work is performed on sturdy massage tables behind screens for privacy.  There are comfortable chairs to sit in while visiting our healers or waiting for a treatment. \nOur healing team is about to grow\, and if you are a certified healer and would like to join our team\, please come in and speak with Elisha. Also\, if you are interested in studying energy healing\, please come in and sign up for a course in magnified healing\, which Elisha plans to teach at the church once a year. \nFor questions or concerns: email Elisha@RoyalPath.info or text 678-491-4332.  Please mention the Healing Room and/or Unity Atlanta along with your name. \nAbout our Healing Practitioners: \nElisha Fields:\n\nElisha Fields\, a mystic and energy worker\, is a master teacher of Magnified Healing\, which is energy work similar to Reiki.  However\, Reiki originated in Japan\, and Magnified Healing originated in China.  Elisha is also a certified hypnotherapist which she utilized in 1993 along with other modalities to develop a pain-relief system which is particularly successful with migraines/headaches and localized pain. \n  \n  \n  \n 
URL:https://unityatl.org/events/reiki-healing-sessions-2-3-2-2-2-2-2-2/2024-05-12/
LOCATION:Unity Atlanta\, 3597 Parkway Lane\, Norcross\, 30092\, United States
GEO:33.9597203;-84.231198
X-APPLE-STRUCTURED-LOCATION;VALUE=URI;X-ADDRESS=Unity Atlanta 3597 Parkway Lane Norcross 30092 United States;X-APPLE-RADIUS=500;X-TITLE=3597 Parkway Lane:geo:-84.231198,33.9597203
END:VEVENT
BEGIN:VEVENT
DTSTART;TZID=America/New_York:20240512T110000
DTEND;TZID=America/New_York:20240512T120000
DTSTAMP:20260423T062353
CREATED:20240404T152043Z
LAST-MODIFIED:20240404T153634Z
UID:10003084-1715511600-1715515200@unityatl.org
SUMMARY:Sunday Message: "Unconditional Love" with Rev. Xiomara Malagon
DESCRIPTION:Join Us In Welcoming Our Own Rev. Xiomara Malagon This Sunday\n \nDate:  Sunday\, May 12\nTime:  11:00am EST\nMessage: “Unconditional Love”–Rev. Xiomara Malagon\nMessage Theme: Rev. Xiomara will share with us how we love and support others in their development and growth. \nAbout Rev. Xiomara Malagon:\nRev. Xiomara Malagon is from the Dominican Republic (DR). She attended the Ministerial Education Program at Unity School of Christianity\, as an international student. She graduated and became licensed and ordained in 1999. \nIn December 2001\, she was hired by the Association of Unity Churches\, Inc.\, (dba as Unity Worldwide Ministries)\, as Worldwide Support Coordinator. In this position\, she trained\, counseled\, and coached leaders of Unity worldwide. She moved to Atlanta in December of 2010 and continued to serve UWM remotely until she retired in April of 2018. \nShe joined Unity Atlanta Church in 2011 and currently serves in the Congregational Care Team. She also offers lectures and workshops at Unity ministries in and outside of the United States and officiates bilingual wedding ceremonies and other services. \nRev. Xiomara was honored with the 2020 Myrtle Fillmore Award for her service and dedication to the Unity movement. \nDuring her downtime\, she loves making jewelry\, indoor gardening\, cooking and outdoor walks. She lives with her daughter Annette and cat Coco in Sandy Springs\, GA.
URL:https://unityatl.org/events/sunday-message-unconditional-love-with-rev-xiomara-malagon/
LOCATION:Unity Atlanta\, 3597 Parkway Lane\, Norcross\, 30092\, United States
GEO:33.9597203;-84.231198
X-APPLE-STRUCTURED-LOCATION;VALUE=URI;X-ADDRESS=Unity Atlanta 3597 Parkway Lane Norcross 30092 United States;X-APPLE-RADIUS=500;X-TITLE=3597 Parkway Lane:geo:-84.231198,33.9597203
END:VEVENT
BEGIN:VEVENT
DTSTART;TZID=America/New_York:20240513T183000
DTEND;TZID=America/New_York:20240513T200000
DTSTAMP:20260423T062353
CREATED:20240102T185815Z
LAST-MODIFIED:20240102T185815Z
UID:10002719-1715625000-1715630400@unityatl.org
SUMMARY:Toastmasters
DESCRIPTION:Looking for an opportunity to work on your speaking and public presentation skills? We are happy to have Toastmasters meet here at the church.\n \nDates:  2nd\, 3rd\, and 4th Mondays   (No meeting the weeks of Thanksgiving or Christmas)\nTime: 6:30 – 8:00pm\nLocation: Fellowship Hall \nGuests are always welcome! \nFor more information please contact:  Ajaye Hopper 678-622-2225 info@topshelftm.com
URL:https://unityatl.org/events/toastmasters-9/2024-05-13/
LOCATION:Unity Atlanta\, 3597 Parkway Lane\, Norcross\, 30092\, United States
GEO:33.9597203;-84.231198
X-APPLE-STRUCTURED-LOCATION;VALUE=URI;X-ADDRESS=Unity Atlanta 3597 Parkway Lane Norcross 30092 United States;X-APPLE-RADIUS=500;X-TITLE=3597 Parkway Lane:geo:-84.231198,33.9597203
END:VEVENT
BEGIN:VEVENT
DTSTART;TZID=America/New_York:20240514T200000
DTEND;TZID=America/New_York:20240514T210000
DTSTAMP:20260423T062353
CREATED:20240319T151834Z
LAST-MODIFIED:20240319T151834Z
UID:10003075-1715716800-1715720400@unityatl.org
SUMMARY:2024 Conexión Divina – Grupo de Estudio y Oración (Divine Connection – Prayer and Study Group)
DESCRIPTION:2024 Conexión Divina – Grupo de Estudio y Oración (Divine Connection – Prayer and Study Group)\n \nNo te pierdas la tertulia espiritual que tenemos vía Zoom los martes de 8 a 9pm con la Rev. Xiomara\, donde compartimos temas interesantes para nuestro desarrollo personal y espiritual. \nFolleto Unity “Amor\, Sanación y Abundancia: Dando vida a la sabiduría espiritual.” Enseñanzas transmitidas durante siglos que todavía están vivas y son relevantes en nuestra cotidianidad.\nMarzo 5\, 12\, 19 y 26\, abril 9\, 16 y 23. (No reunión el 2 y 30 de abril) \nFolleto Unity “Vivir en abundancia: ¡Acepta tu bien ilimitado!” Desarrollando nuestros recursos internos para abrazar el bien ilimitado y profundizar en conciencia de la abundancia en nuestras vidas.\nMayo 7\, 14 y 21 de mayo y 4. 11\, 18 y 25 de junio. (No reunión el 28 de mayo) \nPara solicitar enlace Zoom\, envía email a xioma735@gmail.com \nDon’t miss out on the spiritual gathering we have via Zoom on Tuesdays from 8 to 9pm with Rev. Xiomara\, where we share interesting topics for our personal and spiritual development. \nUnity Brochure “Love\, Healing and Abundance: Bringing Spiritual Wisdom to Life. ”Teachings transmitted for centuries that are still alive and relevant in our daily lives. \nMarch 5\, 12\, 19 and 26\, April 9\, 16 and 23. (No meeting Apr. 2nd. and 30) \nUnity Brochure “Living Abundantly: Embrace Your Unlimited Good!” Developing our inner resources to embrace unlimited good and deepen awareness of the abundance in our lives. \nMay 7\, 14 and 21\, June 4\, 11\, 18 and 25. (No meeting May 28) \nTo request zoom link\, send email to xioma735@gmail.com
URL:https://unityatl.org/events/2024-conexion-divina-grupo-de-estudio-y-oracion-divine-connection-prayer-and-study-group-2/2024-05-14/
LOCATION:Unity Atlanta\, 3597 Parkway Lane\, Norcross\, 30092\, United States
GEO:33.9597203;-84.231198
X-APPLE-STRUCTURED-LOCATION;VALUE=URI;X-ADDRESS=Unity Atlanta 3597 Parkway Lane Norcross 30092 United States;X-APPLE-RADIUS=500;X-TITLE=3597 Parkway Lane:geo:-84.231198,33.9597203
END:VEVENT
BEGIN:VEVENT
DTSTART;TZID=America/New_York:20240516T190000
DTEND;TZID=America/New_York:20240516T200000
DTSTAMP:20260423T062353
CREATED:20240404T165006Z
LAST-MODIFIED:20240404T165006Z
UID:10003085-1715886000-1715889600@unityatl.org
SUMMARY:May Sound Bath with Raye Andrews
DESCRIPTION:May Sound Bath Theme: May We Have Grace\n \nDate: Thursday\, May 16\nTime: 7:00pm EST\nLocation: The Chapel\nBring: Dress comfortably\, bring pillows\, blankets etc. in order to get comfortable \nWe find ourselves moving wonderfully through spring now into the warmer months. May we enjoy all the beauty and changes this inspiring month brings. \nJoin us to ease into a beautiful sound experience with Raye Andrews as her healing sounds guide us into exploring the energies of grace for ourselves and others in our lives. \nPlease bring whatever will assist you in being comfortable and cozy. Yoga mats\, blankets\, pillows\, eye covers and water to drink on your ride home. \nThis beautiful event is free to all. We ask a suggested love offering of $20\, or whatever you can give in support. Everyone is lovingly welcomed. \nLove offerings can be made in person or online: https://unityatl.org/donate-online/ \nAbout Raye Andrews: \nRaye Andrews is a Certified Vibrational Sound Therapist\, Master Level Reiki Practitioner and Guided Meditation Practitioner. She is a crystal energy empath and an intuitive spirit guide. Raye grows and works with many herbs used in her healing practice and is the creatress of wonderfully tasty healing teas. Find her at Raye Creates Healing & Rayecreateshealing.com
URL:https://unityatl.org/events/may-sound-bath-with-raye-andrews-2/
LOCATION:Unity Atlanta\, 3597 Parkway Lane\, Norcross\, 30092\, United States
GEO:33.9597203;-84.231198
X-APPLE-STRUCTURED-LOCATION;VALUE=URI;X-ADDRESS=Unity Atlanta 3597 Parkway Lane Norcross 30092 United States;X-APPLE-RADIUS=500;X-TITLE=3597 Parkway Lane:geo:-84.231198,33.9597203
END:VEVENT
BEGIN:VEVENT
DTSTART;TZID=America/New_York:20240516T193000
DTEND;TZID=America/New_York:20240516T210000
DTSTAMP:20260423T062353
CREATED:20230322T183041Z
LAST-MODIFIED:20241031T174435Z
UID:10002139-1715887800-1715893200@unityatl.org
SUMMARY:Unity Atlanta Men's Group
DESCRIPTION:Unity Atlanta Men’s Group \nThe men’s group meets onsite at the church the 1st – 3rd Thursdays of the month.  The 4th (and if applicable\, the 5th) Thursday is often a Game Night\, or one of a number of various activities. \n \nFor any questions\, including the logistics for the 4th and 5th Thursdays\, please TEXT Steve Peck at 770-639-5242 or email him at speck3053@comcast.net   \nLocation:  Unity Atlanta Room 108   Time: 7:30 – 9:00 PM \nFor any questions\,  please TEXT Steve Peck at 770-639-5242 or email him at speck3053@comcast.net/      \nThe Unity Atlanta Men’s Group Meetings begin with a brief 1-2 minute check-in during which each member shares how his week went\, what’s gong on in his life\, and any success or challenges he may be experiencing. \nWe then move on to a topic\, which either arises during the check-in or has been prepared in advance by one of the members.  Topics\, week from week\, have a wide range of subjects.  We share from our own experience rather than giving opinions or advice or telling stories.  Through this sharing\, a sense of brotherhood develops with the individual members while retaining an openness that is welcoming to all. \nOccasionally\, we also conduct public outreach\, and each fall we sponsor a men only retreat. \nMission Statement: \n\nWe are a self-supporting\, self-facilitating\, spiritually-based group\nWe remind each other that we are all connected and learn from our collective wisdom\nWe promote spirituality\, growth\, learning and community\nWe support each other and remind each other to live “in faith”\nWe share our lives\, our joy\, and our abundance to become like-minded brothers\nWe radiate our spirituality to our families\, friends and the world\nWe express our feelings and emotions through healthy communication\nRegardless of our means and circumstances\, we are friends and equals\nWe are here–join us!
URL:https://unityatl.org/events/unity-atlanta-mens-group-18/2024-05-16/
LOCATION:Unity Atlanta\, 3597 Parkway Lane\, Norcross\, 30092\, United States
GEO:33.9597203;-84.231198
X-APPLE-STRUCTURED-LOCATION;VALUE=URI;X-ADDRESS=Unity Atlanta 3597 Parkway Lane Norcross 30092 United States;X-APPLE-RADIUS=500;X-TITLE=3597 Parkway Lane:geo:-84.231198,33.9597203
END:VEVENT
END:VCALENDAR