BEGIN:VCALENDAR
VERSION:2.0
PRODID:-//Unity Atlanta Church - ECPv6.15.20//NONSGML v1.0//EN
CALSCALE:GREGORIAN
METHOD:PUBLISH
X-WR-CALNAME:Unity Atlanta Church
X-ORIGINAL-URL:https://unityatl.org
X-WR-CALDESC:Events for Unity Atlanta Church
REFRESH-INTERVAL;VALUE=DURATION:PT1H
X-Robots-Tag:noindex
X-PUBLISHED-TTL:PT1H
BEGIN:VTIMEZONE
TZID:America/New_York
BEGIN:DAYLIGHT
TZOFFSETFROM:-0500
TZOFFSETTO:-0400
TZNAME:EDT
DTSTART:20230312T070000
END:DAYLIGHT
BEGIN:STANDARD
TZOFFSETFROM:-0400
TZOFFSETTO:-0500
TZNAME:EST
DTSTART:20231105T060000
END:STANDARD
BEGIN:DAYLIGHT
TZOFFSETFROM:-0500
TZOFFSETTO:-0400
TZNAME:EDT
DTSTART:20240310T070000
END:DAYLIGHT
BEGIN:STANDARD
TZOFFSETFROM:-0400
TZOFFSETTO:-0500
TZNAME:EST
DTSTART:20241103T060000
END:STANDARD
BEGIN:DAYLIGHT
TZOFFSETFROM:-0500
TZOFFSETTO:-0400
TZNAME:EDT
DTSTART:20250309T070000
END:DAYLIGHT
BEGIN:STANDARD
TZOFFSETFROM:-0400
TZOFFSETTO:-0500
TZNAME:EST
DTSTART:20251102T060000
END:STANDARD
END:VTIMEZONE
BEGIN:VEVENT
DTSTART;TZID=America/New_York:20240331T073000
DTEND;TZID=America/New_York:20240331T083000
DTSTAMP:20260423T075414
CREATED:20240307T190002Z
LAST-MODIFIED:20240307T190002Z
UID:10002798-1711870200-1711873800@unityatl.org
SUMMARY:Easter Sunrise Service
DESCRIPTION:Join us as we celebrate the resurrection of the Christ within you.  No matter what difficulties you have faced\, rejoice in knowing that you are being led into awakened glory.\n \nMessage—Spirits Rise—Rev. Jenn \n7:30 AM Easter Sunrise Service (No Live Stream)\nThis contemplative service is held in the back of our sanctuary so we can see the sunrise together. \n11:00 AM Easter Celebration Service\nThis service includes uplifting music and a guided meditation.
URL:https://unityatl.org/events/easter-sunrise-service-3/
LOCATION:Unity Atlanta\, 3597 Parkway Lane\, Norcross\, 30092\, United States
GEO:33.9597203;-84.231198
X-APPLE-STRUCTURED-LOCATION;VALUE=URI;X-ADDRESS=Unity Atlanta 3597 Parkway Lane Norcross 30092 United States;X-APPLE-RADIUS=500;X-TITLE=3597 Parkway Lane:geo:-84.231198,33.9597203
END:VEVENT
BEGIN:VEVENT
DTSTART;TZID=America/New_York:20240331T084500
DTEND;TZID=America/New_York:20240331T094500
DTSTAMP:20260423T075414
CREATED:20240319T150701Z
LAST-MODIFIED:20240319T150701Z
UID:10002806-1711874700-1711878300@unityatl.org
SUMMARY:Practicing the Presence—A Course in Miracles with Michael Wilkinson–via Zoom
DESCRIPTION:Practicing the Presence—A Course in Miracles Weekly Group Study Over Zoom\n \nThis course aims at removing the blocks to the awareness of love’s presence. The opposite of love is fear\, but what is all-encompassing can have no opposite. \nThis course can be summed up very simply:   Nothing real can be threatened. Nothing unreal exists. Herein lies the peace of God. \nFacilitator: Michael Wilkinson          Sunday’s at 8:45 – 10:30 AM \nThis is an open and ongoing class.  All are welcome.  Drop-in any time.\nBooks can be ordered through The Wisdom Well-Unity Atlanta’s bookstore. \nNew people are very welcome to join!  If you are interested\, please email MWilkinson@leadstrat.com in order to receive the Zoom log-in information. 
URL:https://unityatl.org/events/practicing-the-presence-a-course-in-miracles-with-michael-wilkinson-via-zoom-2/2024-03-31/
LOCATION:Unity Atlanta\, 3597 Parkway Lane\, Norcross\, 30092\, United States
GEO:33.9597203;-84.231198
X-APPLE-STRUCTURED-LOCATION;VALUE=URI;X-ADDRESS=Unity Atlanta 3597 Parkway Lane Norcross 30092 United States;X-APPLE-RADIUS=500;X-TITLE=3597 Parkway Lane:geo:-84.231198,33.9597203
END:VEVENT
BEGIN:VEVENT
DTSTART;TZID=America/New_York:20240331T093000
DTEND;TZID=America/New_York:20240331T104500
DTSTAMP:20260423T075414
CREATED:20231130T211328Z
LAST-MODIFIED:20231130T212231Z
UID:10002473-1711877400-1711881900@unityatl.org
SUMMARY:The Quest: On Break This Sunday
DESCRIPTION:The Quest is on break this Sunday and will resume next Sunday\, April 7th\n  \n  \n \nDates: Begins Sunday\, January 7th\nMeets all Sundays of 2024 except (March 31\, June 30\, September 29\, December 29)  You can come for as many sessions as you’d like!\nTime: 9:30 – 10:45am EST\nLocation: Youth Education Wing and via Zoom \nAs Unity Atlanta Church celebrates its’ 100-year birthday\, we embark on a yearlong adventure with other likeminded seekers to revisit and apply the ancient Truths that are foundational to our beliefs and experiences. \nWe will map out our journey\, travel through known and unknown territory\, and blaze new trails as well as travel well-worn ones. But we will always come back to home base to share our experiences and discoveries. If you have a desire to know your indwelling spiritual nature (the Christ) and are committed and open to intentionally living your spiritual principles\, come join us ~ for the entire journey or as an intermittent day traveler. This quest comes with a guarantee that if you should sign on…your life will be transformed! \nOur Quest guides are UAC’s Licensed Unity Teachers and Ministerial/LUT Students with touchpoint huddles on Sunday Mornings 9:30am  -10:45am EST\, virtually or in person\, starting January 7\, 2024. \nMore information on registration for virtual attendance will be forthcoming both here and on the Unity Atlanta Church website\, https://unityatl.org/classes/. \nBooks: Later in December the books will be available at our Unity Atlanta Church Wisdom Well Bookstore.  Please let Beth Stokes know if you are interested in purchasing one or both books.  She can be reached at unitywisdomwell@gmail.com (they are also available on Amazon) \nBooks are optional\, though very helpful if you are participating regularly.\n1. The Quest: A Journey of Spiritual Discovery by Richard and Mary Jafolla  (Highly Recommended)\n2. Adventures on the Quest (A spiritual travel journal) by Richard and Mary Jafolla  (Recommended)
URL:https://unityatl.org/events/the-quest-a-journey-of-spiritual-rediscovery-2/
LOCATION:Unity Atlanta\, 3597 Parkway Lane\, Norcross\, 30092\, United States
GEO:33.9597203;-84.231198
X-APPLE-STRUCTURED-LOCATION;VALUE=URI;X-ADDRESS=Unity Atlanta 3597 Parkway Lane Norcross 30092 United States;X-APPLE-RADIUS=500;X-TITLE=3597 Parkway Lane:geo:-84.231198,33.9597203
END:VEVENT
BEGIN:VEVENT
DTSTART;TZID=America/New_York:20240331T100000
DTEND;TZID=America/New_York:20240331T123000
DTSTAMP:20260423T075414
CREATED:20240222T171408Z
LAST-MODIFIED:20240222T171410Z
UID:10001804-1711879200-1711888200@unityatl.org
SUMMARY:Energy Healing Sessions--On Temporary Hiatus
DESCRIPTION:Our Healing Room Is On Temporary Hiatus–Updates Coming Soon\nYou can still contact Elisha Fields to schedule an appointment for healing work:  Please contact Elisha@RoyalPath.info or Text 678-491-4332 \n  \n  \n \nOur healing team\, Rob Alexander and Elisha Fields\, are joyfully ready to provide an energy healing session for you on Sunday mornings!  Rob is a Reiki Master and Elisha practices Magnified Healing. \nDuring the Winter\, Elisha is offering healing sessions by appointment only.  Please contact  Elisha@RoyalPath.info or Text 678-491-4332 \nHealing Room Hours:  Sundays\, 10:00 – 11:00 am and for 30 minutes after services.\nLocation: Room 105\, off of the main lobby.  Sign in sheets are just inside the Healing Room.\nCost: Our healing practitioners provide healing sessions on a love offering basis. \nAbout our Healing Practitioners: \nRob Alexander:                                                                                                                                                           :\n \nRob is a certified Reiki Master who offers this Japanese technique for stress reduction and relaxation which is administered by holding the hands a few inches above the body and is based on the “life energy force” that flows through all of us. \n\nElisha Fields:\n\nElisha is a certified Magnified Healing Teacher offering chakra balancing as well as a pain-relief technique she developed in 1993 which has been successful with migraines and some localized pain. \n  \n  \n  \n 
URL:https://unityatl.org/events/reiki-healing-sessions-2-3-2-2-2-2-2/2024-03-31/
LOCATION:Unity Atlanta\, 3597 Parkway Lane\, Norcross\, 30092\, United States
GEO:33.9597203;-84.231198
X-APPLE-STRUCTURED-LOCATION;VALUE=URI;X-ADDRESS=Unity Atlanta 3597 Parkway Lane Norcross 30092 United States;X-APPLE-RADIUS=500;X-TITLE=3597 Parkway Lane:geo:-84.231198,33.9597203
END:VEVENT
BEGIN:VEVENT
DTSTART;TZID=America/New_York:20240331T100000
DTEND;TZID=America/New_York:20240331T130000
DTSTAMP:20260423T075414
CREATED:20220929T171101Z
LAST-MODIFIED:20240425T205921Z
UID:10001276-1711879200-1711890000@unityatl.org
SUMMARY:Wisdom Well Bookstore
DESCRIPTION:The Wisdom Well Bookstore\n\nOur metaphysical bookstore reflects the heart of Unity Atlanta Church. It offers a collection of new thought\, spiritual\, and self-help books. We know you’ll be inspired with the large selection of gift items. The bookstore also supports our  Adult Education classes with a supply of teaching materials and textbooks. Our volunteer Bookstore Angels are always eager to introduce a new book or reacquaint us with an old classic. \nWisdom Well Store Hours:  Sundays\, 10:00 AM – 1:00 PM \nLooking for a book in particular? \nTo contact:  unitywisdomwell@gmail.com  or call the church office: 770-441-0585 \n\n  \n  \n  \n  \nWe have books for diverse interests:                                                                                  We also have many gifts including:            \nSpirituality                                                                                                                                Bimonthly issues of Unity Magazine\nBibles & Bible Reference Books                                                                                              Bimonthly issues of Daily Word\nPrayer & Meditation                                                                                                                 Greeting Cards\nInspiration & Motivation                                                                                                           Affirmation and 12 power stones\nRelationships                                                                                                                          Candles\nHealth & Healing                                                                                                                     Meditative scents\nTransitioning & Grieving                                                                                                          Notepads\nAngels                                                                                                                                     T-shirts\nBooks for children                                                                                                                   Bookmarks \n  \n 
URL:https://unityatl.org/events/wisdom-well-bookstore/2024-03-31/
LOCATION:Unity Atlanta\, 3597 Parkway Lane\, Norcross\, 30092\, United States
GEO:33.9597203;-84.231198
X-APPLE-STRUCTURED-LOCATION;VALUE=URI;X-ADDRESS=Unity Atlanta 3597 Parkway Lane Norcross 30092 United States;X-APPLE-RADIUS=500;X-TITLE=3597 Parkway Lane:geo:-84.231198,33.9597203
END:VEVENT
BEGIN:VEVENT
DTSTART;TZID=America/New_York:20240331T110000
DTEND;TZID=America/New_York:20240331T120000
DTSTAMP:20260423T075414
CREATED:20240307T190100Z
LAST-MODIFIED:20240307T190100Z
UID:10002799-1711882800-1711886400@unityatl.org
SUMMARY:Easter Celebration Service
DESCRIPTION:Join us as we celebrate the resurrection of the Christ within you.  No matter what difficulties you have faced\, rejoice in knowing that you are being led into awakened glory.\n \nMessage—Spirits Rise—Rev. Jenn\n7:30 AM Easter Sunrise Service (No Live Stream)\nThis contemplative service is held in the back of our sanctuary so we can see the sunrise together. \n11:00 AM Easter Celebration Service\nThis service includes uplifting music and a guided meditation.
URL:https://unityatl.org/events/easter-celebration-service-3/
LOCATION:Unity Atlanta\, 3597 Parkway Lane\, Norcross\, 30092\, United States
GEO:33.9597203;-84.231198
X-APPLE-STRUCTURED-LOCATION;VALUE=URI;X-ADDRESS=Unity Atlanta 3597 Parkway Lane Norcross 30092 United States;X-APPLE-RADIUS=500;X-TITLE=3597 Parkway Lane:geo:-84.231198,33.9597203
END:VEVENT
BEGIN:VEVENT
DTSTART;TZID=America/New_York:20240404T193000
DTEND;TZID=America/New_York:20240404T210000
DTSTAMP:20260423T075414
CREATED:20230322T183041Z
LAST-MODIFIED:20241031T174435Z
UID:10002133-1712259000-1712264400@unityatl.org
SUMMARY:Unity Atlanta Men's Group
DESCRIPTION:Unity Atlanta Men’s Group \nThe men’s group meets onsite at the church the 1st – 3rd Thursdays of the month.  The 4th (and if applicable\, the 5th) Thursday is often a Game Night\, or one of a number of various activities. \n \nFor any questions\, including the logistics for the 4th and 5th Thursdays\, please TEXT Steve Peck at 770-639-5242 or email him at speck3053@comcast.net   \nLocation:  Unity Atlanta Room 108   Time: 7:30 – 9:00 PM \nFor any questions\,  please TEXT Steve Peck at 770-639-5242 or email him at speck3053@comcast.net/      \nThe Unity Atlanta Men’s Group Meetings begin with a brief 1-2 minute check-in during which each member shares how his week went\, what’s gong on in his life\, and any success or challenges he may be experiencing. \nWe then move on to a topic\, which either arises during the check-in or has been prepared in advance by one of the members.  Topics\, week from week\, have a wide range of subjects.  We share from our own experience rather than giving opinions or advice or telling stories.  Through this sharing\, a sense of brotherhood develops with the individual members while retaining an openness that is welcoming to all. \nOccasionally\, we also conduct public outreach\, and each fall we sponsor a men only retreat. \nMission Statement: \n\nWe are a self-supporting\, self-facilitating\, spiritually-based group\nWe remind each other that we are all connected and learn from our collective wisdom\nWe promote spirituality\, growth\, learning and community\nWe support each other and remind each other to live “in faith”\nWe share our lives\, our joy\, and our abundance to become like-minded brothers\nWe radiate our spirituality to our families\, friends and the world\nWe express our feelings and emotions through healthy communication\nRegardless of our means and circumstances\, we are friends and equals\nWe are here–join us!
URL:https://unityatl.org/events/unity-atlanta-mens-group-18/2024-04-04/
LOCATION:Unity Atlanta\, 3597 Parkway Lane\, Norcross\, 30092\, United States
GEO:33.9597203;-84.231198
X-APPLE-STRUCTURED-LOCATION;VALUE=URI;X-ADDRESS=Unity Atlanta 3597 Parkway Lane Norcross 30092 United States;X-APPLE-RADIUS=500;X-TITLE=3597 Parkway Lane:geo:-84.231198,33.9597203
END:VEVENT
BEGIN:VEVENT
DTSTART;TZID=America/New_York:20240406T103000
DTEND;TZID=America/New_York:20240406T120000
DTSTAMP:20260423T075414
CREATED:20240312T153757Z
LAST-MODIFIED:20240312T153758Z
UID:10002728-1712399400-1712404800@unityatl.org
SUMMARY:Unity Atlanta Church Women’s Circle
DESCRIPTION:Join Us For Our April Women’s Circle As We Learn TAPPING\n \nWe are the women of Unity Atlanta Church and we meet once a month\, on the 1st Saturday. We practice a balance in spiritual growth\, and social activities\, sharing and support…support for each other\, our church and our community. \nDate: April 6\nTime: 10:30 am – 12:00 pm\nLocation: The Chapel\nApril Topic: This month Jean Hobgood will speak and demonstrate TAPPING (Emotional Freedom Technique) with an emphasis on Unity Principles. \nTAPPING\, as described on the Tapping Solution website\, is: \n\nA powerful brain rewriting technique\, where modern neuroscience meets ancient wisdom.\nIt is based on the meridian points used in acupuncture\, using finger tapping on selected meridians.\nIt is easily learned and used as a self-help technique that can relieve pain\, fatigue\, unsupportive belief systems and powerful emotions that derail us.\nTapping can strengthen affirmations and release blocks to believing them\, deepen meditation and the ability to use Unity techniques.\n\nJean has been trained in this technique and helped many in her coaching business of Hypno-Tapping for success. She will teach techniques and how to use them with Unity principles. \nAll are welcome!  Come for a time of listening\, learning\, supporting and loving one another as a community in friendship. \nFor questions please contact:  Ann Sears  decatursearsie@gmaill.com \n 
URL:https://unityatl.org/events/unity-atlanta-church-womens-circle-7-5/
LOCATION:Unity Atlanta\, 3597 Parkway Lane\, Norcross\, 30092\, United States
GEO:33.9597203;-84.231198
X-APPLE-STRUCTURED-LOCATION;VALUE=URI;X-ADDRESS=Unity Atlanta 3597 Parkway Lane Norcross 30092 United States;X-APPLE-RADIUS=500;X-TITLE=3597 Parkway Lane:geo:-84.231198,33.9597203
END:VEVENT
END:VCALENDAR