BEGIN:VCALENDAR
VERSION:2.0
PRODID:-//Unity Atlanta Church - ECPv6.15.20//NONSGML v1.0//EN
CALSCALE:GREGORIAN
METHOD:PUBLISH
X-WR-CALNAME:Unity Atlanta Church
X-ORIGINAL-URL:https://unityatl.org
X-WR-CALDESC:Events for Unity Atlanta Church
REFRESH-INTERVAL;VALUE=DURATION:PT1H
X-Robots-Tag:noindex
X-PUBLISHED-TTL:PT1H
BEGIN:VTIMEZONE
TZID:America/New_York
BEGIN:DAYLIGHT
TZOFFSETFROM:-0500
TZOFFSETTO:-0400
TZNAME:EDT
DTSTART:20230312T070000
END:DAYLIGHT
BEGIN:STANDARD
TZOFFSETFROM:-0400
TZOFFSETTO:-0500
TZNAME:EST
DTSTART:20231105T060000
END:STANDARD
BEGIN:DAYLIGHT
TZOFFSETFROM:-0500
TZOFFSETTO:-0400
TZNAME:EDT
DTSTART:20240310T070000
END:DAYLIGHT
BEGIN:STANDARD
TZOFFSETFROM:-0400
TZOFFSETTO:-0500
TZNAME:EST
DTSTART:20241103T060000
END:STANDARD
BEGIN:DAYLIGHT
TZOFFSETFROM:-0500
TZOFFSETTO:-0400
TZNAME:EDT
DTSTART:20250309T070000
END:DAYLIGHT
BEGIN:STANDARD
TZOFFSETFROM:-0400
TZOFFSETTO:-0500
TZNAME:EST
DTSTART:20251102T060000
END:STANDARD
END:VTIMEZONE
BEGIN:VEVENT
DTSTART;TZID=America/New_York:20240310T093000
DTEND;TZID=America/New_York:20240310T104500
DTSTAMP:20260423T123353
CREATED:20231130T205321Z
LAST-MODIFIED:20231206T153901Z
UID:10002619-1710063000-1710067500@unityatl.org
SUMMARY:The Quest: A Journey of Spiritual Rediscovery
DESCRIPTION:Join Like Minded Seekers for The Quest: A Journey of Spiritual Rediscovery!\n \nDates: Begins Sunday\, January 7th\nMeets all Sundays of 2024 except (March 31\, June 30\, September 29\, December 29)  You can come for as many sessions as you’d like!\nTime: 9:30 – 10:45am EST\nLocation: Youth Education Wing and via Zoom \nAs Unity Atlanta Church celebrates its’ 100-year birthday\, we embark on a yearlong adventure with other likeminded seekers to revisit and apply the ancient Truths that are foundational to our beliefs and experiences. \nWe will map out our journey\, travel through known and unknown territory\, and blaze new trails as well as travel well-worn ones. But we will always come back to home base to share our experiences and discoveries. If you have a desire to know your indwelling spiritual nature (the Christ) and are committed and open to intentionally living your spiritual principles\, come join us ~ for the entire journey or as an intermittent day traveler. This quest comes with a guarantee that if you should sign on…your life will be transformed! \nOur Quest guides are UAC’s Licensed Unity Teachers and Ministerial/LUT Students with touchpoint huddles on Sunday Mornings 9:30am  -10:45am EST\, virtually or in person\, starting January 7\, 2024. \nRegistration for Zoom Session:\nClick here to register for the Zoom sessions and to receive the Zoom login code:  https://us02web.zoom.us/meeting/register/tZYuduChrzgvEtLzT6nDkt7aNbs9Qqqq9Ocr \nFor Questions: Email UnityAtlSpiritGroups@gmail.com  \nBooks: Later in December the books will be available at our Unity Atlanta Church Wisdom Well Bookstore.  Please let Beth Stokes know if you are interested in purchasing one or both books.  She can be reached at unitywisdomwell@gmail.com (they are also available on Amazon) \nBooks are optional\, though very helpful if you are participating regularly.\n1. The Quest: A Journey of Spiritual Discovery by Richard and Mary Jafolla\n2. Adventures on the Quest (A spiritual travel journal) by Richard and Mary Jafolla \nFirst Quarter Schedule:  Sunday Mornings\, 9:30am in person and via Zoom \nJan 7                      Starting Over – Why starting over is good for you \nJan 14                   Friends – Creating a spiritual support group \nJan 21                   What God Is – To be aware is to be alive \nJan 28                   What Am I?  The difference between my spirit and my soul. What about my body? \nFeb 4                     Jesus – The man and the Christ – What is meant by ’The Christ that I am’? \nFeb 11                  The Bible – A new look at an old Book – Does it still make sense? \nFeb 18                  Oneness – Where are the boundaries? \nFeb 25                  Cause and Effect –the Law that never lies – Where is God in a cause and effect world? \nMar 3                    Heaven and Hell – Where are they? If I don’t believe in hell\, is there a heaven? \nMar 10                 Good and Evil – If God is Good\, why is there bad?  What causes evil? \nMar 17                 Prayer – How to talk to God – Just what is prayer? \nMarch 24             The Silence – Just what is this? \nMarch 31            NO CLASS– BREAK – EASTER  (Classes resume the following Sunday\, April 7th)
URL:https://unityatl.org/events/the-quest-a-journey-of-spiritual-rediscovery/2024-03-10/
LOCATION:Unity Atlanta\, 3597 Parkway Lane\, Norcross\, 30092\, United States
GEO:33.9597203;-84.231198
X-APPLE-STRUCTURED-LOCATION;VALUE=URI;X-ADDRESS=Unity Atlanta 3597 Parkway Lane Norcross 30092 United States;X-APPLE-RADIUS=500;X-TITLE=3597 Parkway Lane:geo:-84.231198,33.9597203
END:VEVENT
BEGIN:VEVENT
DTSTART;TZID=America/New_York:20240310T100000
DTEND;TZID=America/New_York:20240310T123000
DTSTAMP:20260423T123353
CREATED:20240222T171408Z
LAST-MODIFIED:20240222T171410Z
UID:10001800-1710064800-1710073800@unityatl.org
SUMMARY:Energy Healing Sessions--On Temporary Hiatus
DESCRIPTION:Our Healing Room Is On Temporary Hiatus–Updates Coming Soon\nYou can still contact Elisha Fields to schedule an appointment for healing work:  Please contact Elisha@RoyalPath.info or Text 678-491-4332 \n  \n  \n \nOur healing team\, Rob Alexander and Elisha Fields\, are joyfully ready to provide an energy healing session for you on Sunday mornings!  Rob is a Reiki Master and Elisha practices Magnified Healing. \nDuring the Winter\, Elisha is offering healing sessions by appointment only.  Please contact  Elisha@RoyalPath.info or Text 678-491-4332 \nHealing Room Hours:  Sundays\, 10:00 – 11:00 am and for 30 minutes after services.\nLocation: Room 105\, off of the main lobby.  Sign in sheets are just inside the Healing Room.\nCost: Our healing practitioners provide healing sessions on a love offering basis. \nAbout our Healing Practitioners: \nRob Alexander:                                                                                                                                                           :\n \nRob is a certified Reiki Master who offers this Japanese technique for stress reduction and relaxation which is administered by holding the hands a few inches above the body and is based on the “life energy force” that flows through all of us. \n\nElisha Fields:\n\nElisha is a certified Magnified Healing Teacher offering chakra balancing as well as a pain-relief technique she developed in 1993 which has been successful with migraines and some localized pain. \n  \n  \n  \n 
URL:https://unityatl.org/events/reiki-healing-sessions-2-3-2-2-2-2-2/2024-03-10/
LOCATION:Unity Atlanta\, 3597 Parkway Lane\, Norcross\, 30092\, United States
GEO:33.9597203;-84.231198
X-APPLE-STRUCTURED-LOCATION;VALUE=URI;X-ADDRESS=Unity Atlanta 3597 Parkway Lane Norcross 30092 United States;X-APPLE-RADIUS=500;X-TITLE=3597 Parkway Lane:geo:-84.231198,33.9597203
END:VEVENT
BEGIN:VEVENT
DTSTART;TZID=America/New_York:20240310T100000
DTEND;TZID=America/New_York:20240310T130000
DTSTAMP:20260423T123353
CREATED:20220929T171101Z
LAST-MODIFIED:20240425T205921Z
UID:10001273-1710064800-1710075600@unityatl.org
SUMMARY:Wisdom Well Bookstore
DESCRIPTION:The Wisdom Well Bookstore\n\nOur metaphysical bookstore reflects the heart of Unity Atlanta Church. It offers a collection of new thought\, spiritual\, and self-help books. We know you’ll be inspired with the large selection of gift items. The bookstore also supports our  Adult Education classes with a supply of teaching materials and textbooks. Our volunteer Bookstore Angels are always eager to introduce a new book or reacquaint us with an old classic. \nWisdom Well Store Hours:  Sundays\, 10:00 AM – 1:00 PM \nLooking for a book in particular? \nTo contact:  unitywisdomwell@gmail.com  or call the church office: 770-441-0585 \n\n  \n  \n  \n  \nWe have books for diverse interests:                                                                                  We also have many gifts including:            \nSpirituality                                                                                                                                Bimonthly issues of Unity Magazine\nBibles & Bible Reference Books                                                                                              Bimonthly issues of Daily Word\nPrayer & Meditation                                                                                                                 Greeting Cards\nInspiration & Motivation                                                                                                           Affirmation and 12 power stones\nRelationships                                                                                                                          Candles\nHealth & Healing                                                                                                                     Meditative scents\nTransitioning & Grieving                                                                                                          Notepads\nAngels                                                                                                                                     T-shirts\nBooks for children                                                                                                                   Bookmarks \n  \n 
URL:https://unityatl.org/events/wisdom-well-bookstore/2024-03-10/
LOCATION:Unity Atlanta\, 3597 Parkway Lane\, Norcross\, 30092\, United States
GEO:33.9597203;-84.231198
X-APPLE-STRUCTURED-LOCATION;VALUE=URI;X-ADDRESS=Unity Atlanta 3597 Parkway Lane Norcross 30092 United States;X-APPLE-RADIUS=500;X-TITLE=3597 Parkway Lane:geo:-84.231198,33.9597203
END:VEVENT
BEGIN:VEVENT
DTSTART;TZID=America/New_York:20240310T110000
DTEND;TZID=America/New_York:20240310T120000
DTSTAMP:20260423T123353
CREATED:20240214T184438Z
LAST-MODIFIED:20240228T162035Z
UID:10002787-1710068400-1710072000@unityatl.org
SUMMARY:Sunday Lenten Message with Guest Speaker Jan Gurr\, Licensed Unity Teacher
DESCRIPTION:2024 Lenten Message Series: Your Breakthrough Season\n \nWe are blessed this Sunday to have our own Jan Gurr\, Licensed Unity Teacher share wisdom with us as our Guest Speaker. \nWhen we become aware that we are slogging through our daily lives with thoughts\, feelings and acts of unworthiness\, lack\, restlessness\, and frustration\, it is a wakeup call to care for and nourish our souls. \nDate: Sunday\, March 10\nTime: 11:00 am EST\nMessage: “Nourish Your Soul”—Guest Speaker Jan Gurr\, Licensed Unity Teacher \nAll Messages include Inspiration from long-time Daily Word Editor Martha Smock’s book Fear Not.  \nTo Live Stream the 11:00 AM Service:\n1. Live Stream https://unityatl.org/live-stream/\n2. Face Book https://www.facebook.com/UnityAtlanta \nAbout Our 2024 Lent Message Series: Your Breakthrough Season \nYou are a divine child of God.  This is the Truth.  No matter what has happened to you before this moment\, no matter who you are\, where you live\, how you look\, how you identify\, or who you love\, you are divine\, a radiant spiritual being living a human experience. \nWhen you choose to live spiritually first\, your human self can relinquish old fears\, release upsets\, and eliminate anything that prevents you from being your best.  So\, during Lent\, a season of letting go\, you can know yourself as the Christ in expression\, just as Jesus was. \nJoin us each Sunday at 11:00 am Eastern Time and break out of your shell.  Break away from what no longer serves you.  And breakthrough into the glorious resurrection we celebrate at Easter. \nAll Messages by Rev Jenn\, unless otherwise noted.
URL:https://unityatl.org/events/sunday-lenten-message-with-guest-speaker-jan-gurr-licensed-unity-teacher/
LOCATION:Unity Atlanta\, 3597 Parkway Lane\, Norcross\, 30092\, United States
GEO:33.9597203;-84.231198
X-APPLE-STRUCTURED-LOCATION;VALUE=URI;X-ADDRESS=Unity Atlanta 3597 Parkway Lane Norcross 30092 United States;X-APPLE-RADIUS=500;X-TITLE=3597 Parkway Lane:geo:-84.231198,33.9597203
END:VEVENT
BEGIN:VEVENT
DTSTART;TZID=America/New_York:20240310T120000
DTEND;TZID=America/New_York:20240310T160000
DTSTAMP:20260423T123353
CREATED:20240110T170334Z
LAST-MODIFIED:20240307T193000Z
UID:10002758-1710072000-1710086400@unityatl.org
SUMMARY:40th Annual Hunger Walk/Run for Atlanta Community Food Bank
DESCRIPTION:Join in for the 40th Hunger Walk Run to have some fun and help fight hunger!\n \nDate: Sunday\, March 10\nTime: 12:00 – 4:00 pm\n12:00pm–The gates open to the grounds at the Home Depot Backyard\n2:00pm–The Run/Walk begins \nLocation: start behind Home Depot Backyard or participate virtually \nRegister at: https://engage.acfb.org/site/TR/HungerWalkAtlantaCommunityFoodBank/HungerWalk?team_id=41497&pg=team&fr_id=2142\nRegister –    choice of ways to register\nSelect –        Atlanta Community Food Bank for charity to support\nJoin Team –  Unity Atlanta Church \nYou may choose to participate in the Walk Run on March 10th in-person at the Home Depot Backyard at 12:00 pm. \nOr you may participate virtually at another place and time\, or on March 10 at a virtual place. \nRead carefully about t-shirt choices \, i.e.if a virtual participate \, you might want to have shirt mailed . \nThere will be some persons from Unity Atlanta Church who may choose virtual and some choosing in-person participation. \nAddress any questions to Nan Smith – smith1992@bellsouth.net \n 
URL:https://unityatl.org/events/40th-annual-hunger-walk-run-for-atlanta-community-food-bank/
LOCATION:Unity Atlanta\, 3597 Parkway Lane\, Norcross\, 30092\, United States
GEO:33.9597203;-84.231198
X-APPLE-STRUCTURED-LOCATION;VALUE=URI;X-ADDRESS=Unity Atlanta 3597 Parkway Lane Norcross 30092 United States;X-APPLE-RADIUS=500;X-TITLE=3597 Parkway Lane:geo:-84.231198,33.9597203
END:VEVENT
BEGIN:VEVENT
DTSTART;TZID=America/New_York:20240310T140000
DTEND;TZID=America/New_York:20240310T160000
DTSTAMP:20260423T123353
CREATED:20240227T182755Z
LAST-MODIFIED:20240228T153950Z
UID:10002796-1710079200-1710086400@unityatl.org
SUMMARY:Run/Walk Club: Atlanta Community Food Bank Hunger Walk/Run
DESCRIPTION:Join Us For A Run/Walk Together!\n \nThe Unity Atlanta Run/Walk event for March will be the Atlanta Community Food Bank Hunger Walk 5K. The date for it is March 10th at 2pm. The location is “The Home Depot Backyard”\, 1 Backyard Way\, Atlanta\, GA 30313. You can also do the walk virtually (where and when you choose) if you prefer. \nTo register for our Unity Atlanta Church team go to: https://engage.acfb.org/site/TR/HungerWalkAtlantaCommunityFoodBank/HungerWalk?team_id=41497&pg=team&fr_id=2142 \nIf you click on “Join a Team” you can join the Unity Atlanta team. \nIf you have any questions\, contact the team leader; Nan Smith. Her email is smith1992@bellsouth.net.
URL:https://unityatl.org/events/run-walk-club-atlanta-community-food-bank-hunger-walk-run/
LOCATION:Unity Atlanta\, 3597 Parkway Lane\, Norcross\, 30092\, United States
GEO:33.9597203;-84.231198
X-APPLE-STRUCTURED-LOCATION;VALUE=URI;X-ADDRESS=Unity Atlanta 3597 Parkway Lane Norcross 30092 United States;X-APPLE-RADIUS=500;X-TITLE=3597 Parkway Lane:geo:-84.231198,33.9597203
END:VEVENT
BEGIN:VEVENT
DTSTART;TZID=America/New_York:20240311T183000
DTEND;TZID=America/New_York:20240311T200000
DTSTAMP:20260423T123353
CREATED:20240102T185550Z
LAST-MODIFIED:20240102T185550Z
UID:10002713-1710181800-1710187200@unityatl.org
SUMMARY:Toastmasters
DESCRIPTION:Looking for an opportunity to work on your speaking and public presentation skills? We are happy to have Toastmasters meet here at the church.\n \nDates:  2nd\, 3rd\, and 4th Mondays   (No meeting the weeks of Thanksgiving or Christmas)\nTime: 6:30 – 8:00pm\nLocation: Fellowship Hall \nGuests are always welcome! \nFor more information please contact:  Ajaye Hopper 678-622-2225 info@topshelftm.com
URL:https://unityatl.org/events/toastmasters-7/2024-03-11/
LOCATION:Unity Atlanta\, 3597 Parkway Lane\, Norcross\, 30092\, United States
GEO:33.9597203;-84.231198
X-APPLE-STRUCTURED-LOCATION;VALUE=URI;X-ADDRESS=Unity Atlanta 3597 Parkway Lane Norcross 30092 United States;X-APPLE-RADIUS=500;X-TITLE=3597 Parkway Lane:geo:-84.231198,33.9597203
END:VEVENT
BEGIN:VEVENT
DTSTART;TZID=America/New_York:20240312T200000
DTEND;TZID=America/New_York:20240312T210000
DTSTAMP:20260423T123353
CREATED:20240319T151651Z
LAST-MODIFIED:20240319T151651Z
UID:10003068-1710273600-1710277200@unityatl.org
SUMMARY:2024 Conexión Divina – Grupo de Estudio y Oración (Divine Connection – Prayer and Study Group)
DESCRIPTION:2024 Conexión Divina – Grupo de Estudio y Oración (Divine Connection – Prayer and Study Group)\n \nNo te pierdas la tertulia espiritual que tenemos vía Zoom los martes de 8 a 9pm con la Rev. Xiomara\, donde compartimos temas interesantes para nuestro desarrollo personal y espiritual. \nFolleto Unity “Amor\, Sanación y Abundancia: Dando vida a la sabiduría espiritual.” Enseñanzas transmitidas durante siglos que todavía están vivas y son relevantes en nuestra cotidianidad.\nMarzo 5\, 12\, 19 y 26\, abril 9\, 16 y 23. (No reunión el 2 y 30 de abril) \nFolleto Unity “Vivir en abundancia: ¡Acepta tu bien ilimitado!” Desarrollando nuestros recursos internos para abrazar el bien ilimitado y profundizar en conciencia de la abundancia en nuestras vidas.\nMayo 7\, 14 y 21 de mayo y 4. 11\, 18 y 25 de junio. (No reunión el 28 de mayo) \nPara solicitar enlace Zoom\, envía email a xioma735@gmail.com \n  \nDon’t miss out on the spiritual gathering we have via Zoom on Tuesdays from 8 to 9pm with Rev. Xiomara\, where we share interesting topics for our personal and spiritual development. \nUnity Brochure “Love\, Healing and Abundance: Bringing Spiritual Wisdom to Life. ”Teachings transmitted for centuries that are still alive and relevant in our daily lives. \nMarch 5\, 12\, 19 and 26\, April 9\, 16 and 23. (No meeting Apr. 2nd. and 30) \nUnity Brochure “Living Abundantly: Embrace Your Unlimited Good!” Developing our inner resources to embrace unlimited good and deepen awareness of the abundance in our lives. \nMay 7\, 14 and 21\, June 4\, 11\, 18 and 25. (No meeting May 28) \nTo request zoom link\, send email to xioma735@gmail.com
URL:https://unityatl.org/events/2024-conexion-divina-grupo-de-estudio-y-oracion-divine-connection-prayer-and-study-group/2024-03-12/
LOCATION:Unity Atlanta\, 3597 Parkway Lane\, Norcross\, 30092\, United States
GEO:33.9597203;-84.231198
X-APPLE-STRUCTURED-LOCATION;VALUE=URI;X-ADDRESS=Unity Atlanta 3597 Parkway Lane Norcross 30092 United States;X-APPLE-RADIUS=500;X-TITLE=3597 Parkway Lane:geo:-84.231198,33.9597203
END:VEVENT
BEGIN:VEVENT
DTSTART;TZID=America/New_York:20240314T190000
DTEND;TZID=America/New_York:20240314T200000
DTSTAMP:20260423T123353
CREATED:20240206T172218Z
LAST-MODIFIED:20240208T165758Z
UID:10002782-1710442800-1710446400@unityatl.org
SUMMARY:March Sound Bath: "Plant Your Seeds Of Desire For Spring"
DESCRIPTION:Come “Plant your seeds of desire for Spring” with Sound Healer Raye Andrews.\nJoin us in preparation for the Spring Equinox with a beautiful symphony of magical sound. As we move energetically into the changing season Raye will create a beautiful vibrational alignment with gentle clearing sound frequencies. Simply breathe\, relax and allow! \n \nDate: Thursday\, March 14th\nTime: 7:00pm EST\nLocation: The Chapel\nBring: Dress comfortably\, bring pillows\, blankets etc. in order to get comfortable \nJoin Raye Andrews for a beautiful symphony of vibrational sound therapy that will ease you into alignment with the flow of this seasonal movement. Come connect and release that which no longer serves to make room for something lovely and new. Relaxing your mind\, body and spirit into the sound frequencies of harmony\, balance and LOVE. \nPlease bring whatever will assist you in being comfortable and cozy. Yoga mats\, blankets\, pillows\, eye covers and water to drink on your ride home. \nThis beautiful event is free to all. We are asking a suggested love offering of $20\, or whatever you can give in support. Everyone is lovingly welcomed. \nLove offerings can be made in person or online: https://unityatl.org/donate-online/ \n \nAbout Raye Andrews: \nRaye Andrews is a Certified Vibrational Sound Therapist\, Master Level Reiki Practitioner and Guided Meditation Practitioner. She is a crystal energy empath and an intuitive spirit guide. Raye grows and works with many herbs used in her healing practice and is the creatress of wonderfully tasty healing teas. Find her at Raye Creates Healing & Rayecreateshealing.com
URL:https://unityatl.org/events/march-sound-bath-plant-your-seeds-of-desire-for-spring/
LOCATION:Unity Atlanta\, 3597 Parkway Lane\, Norcross\, 30092\, United States
GEO:33.9597203;-84.231198
X-APPLE-STRUCTURED-LOCATION;VALUE=URI;X-ADDRESS=Unity Atlanta 3597 Parkway Lane Norcross 30092 United States;X-APPLE-RADIUS=500;X-TITLE=3597 Parkway Lane:geo:-84.231198,33.9597203
END:VEVENT
BEGIN:VEVENT
DTSTART;TZID=America/New_York:20240314T193000
DTEND;TZID=America/New_York:20240314T210000
DTSTAMP:20260423T123353
CREATED:20230322T183041Z
LAST-MODIFIED:20241031T174435Z
UID:10001794-1710444600-1710450000@unityatl.org
SUMMARY:Unity Atlanta Men's Group
DESCRIPTION:Unity Atlanta Men’s Group \nThe men’s group meets onsite at the church the 1st – 3rd Thursdays of the month.  The 4th (and if applicable\, the 5th) Thursday is often a Game Night\, or one of a number of various activities. \n \nFor any questions\, including the logistics for the 4th and 5th Thursdays\, please TEXT Steve Peck at 770-639-5242 or email him at speck3053@comcast.net   \nLocation:  Unity Atlanta Room 108   Time: 7:30 – 9:00 PM \nFor any questions\,  please TEXT Steve Peck at 770-639-5242 or email him at speck3053@comcast.net/      \nThe Unity Atlanta Men’s Group Meetings begin with a brief 1-2 minute check-in during which each member shares how his week went\, what’s gong on in his life\, and any success or challenges he may be experiencing. \nWe then move on to a topic\, which either arises during the check-in or has been prepared in advance by one of the members.  Topics\, week from week\, have a wide range of subjects.  We share from our own experience rather than giving opinions or advice or telling stories.  Through this sharing\, a sense of brotherhood develops with the individual members while retaining an openness that is welcoming to all. \nOccasionally\, we also conduct public outreach\, and each fall we sponsor a men only retreat. \nMission Statement: \n\nWe are a self-supporting\, self-facilitating\, spiritually-based group\nWe remind each other that we are all connected and learn from our collective wisdom\nWe promote spirituality\, growth\, learning and community\nWe support each other and remind each other to live “in faith”\nWe share our lives\, our joy\, and our abundance to become like-minded brothers\nWe radiate our spirituality to our families\, friends and the world\nWe express our feelings and emotions through healthy communication\nRegardless of our means and circumstances\, we are friends and equals\nWe are here–join us!
URL:https://unityatl.org/events/unity-atlanta-mens-group-18/2024-03-14/
LOCATION:Unity Atlanta\, 3597 Parkway Lane\, Norcross\, 30092\, United States
GEO:33.9597203;-84.231198
X-APPLE-STRUCTURED-LOCATION;VALUE=URI;X-ADDRESS=Unity Atlanta 3597 Parkway Lane Norcross 30092 United States;X-APPLE-RADIUS=500;X-TITLE=3597 Parkway Lane:geo:-84.231198,33.9597203
END:VEVENT
END:VCALENDAR