BEGIN:VCALENDAR
VERSION:2.0
PRODID:-//Unity Atlanta Church - ECPv6.15.20//NONSGML v1.0//EN
CALSCALE:GREGORIAN
METHOD:PUBLISH
X-ORIGINAL-URL:https://unityatl.org
X-WR-CALDESC:Events for Unity Atlanta Church
REFRESH-INTERVAL;VALUE=DURATION:PT1H
X-Robots-Tag:noindex
X-PUBLISHED-TTL:PT1H
BEGIN:VTIMEZONE
TZID:America/New_York
BEGIN:DAYLIGHT
TZOFFSETFROM:-0500
TZOFFSETTO:-0400
TZNAME:EDT
DTSTART:20230312T070000
END:DAYLIGHT
BEGIN:STANDARD
TZOFFSETFROM:-0400
TZOFFSETTO:-0500
TZNAME:EST
DTSTART:20231105T060000
END:STANDARD
BEGIN:DAYLIGHT
TZOFFSETFROM:-0500
TZOFFSETTO:-0400
TZNAME:EDT
DTSTART:20240310T070000
END:DAYLIGHT
BEGIN:STANDARD
TZOFFSETFROM:-0400
TZOFFSETTO:-0500
TZNAME:EST
DTSTART:20241103T060000
END:STANDARD
BEGIN:DAYLIGHT
TZOFFSETFROM:-0500
TZOFFSETTO:-0400
TZNAME:EDT
DTSTART:20250309T070000
END:DAYLIGHT
BEGIN:STANDARD
TZOFFSETFROM:-0400
TZOFFSETTO:-0500
TZNAME:EST
DTSTART:20251102T060000
END:STANDARD
END:VTIMEZONE
BEGIN:VEVENT
DTSTART;TZID=America/New_York:20240204T093000
DTEND;TZID=America/New_York:20240204T104500
DTSTAMP:20260423T192200
CREATED:20231130T205321Z
LAST-MODIFIED:20231206T153901Z
UID:10002614-1707039000-1707043500@unityatl.org
SUMMARY:The Quest: A Journey of Spiritual Rediscovery
DESCRIPTION:Join Like Minded Seekers for The Quest: A Journey of Spiritual Rediscovery!\n \nDates: Begins Sunday\, January 7th\nMeets all Sundays of 2024 except (March 31\, June 30\, September 29\, December 29)  You can come for as many sessions as you’d like!\nTime: 9:30 – 10:45am EST\nLocation: Youth Education Wing and via Zoom \nAs Unity Atlanta Church celebrates its’ 100-year birthday\, we embark on a yearlong adventure with other likeminded seekers to revisit and apply the ancient Truths that are foundational to our beliefs and experiences. \nWe will map out our journey\, travel through known and unknown territory\, and blaze new trails as well as travel well-worn ones. But we will always come back to home base to share our experiences and discoveries. If you have a desire to know your indwelling spiritual nature (the Christ) and are committed and open to intentionally living your spiritual principles\, come join us ~ for the entire journey or as an intermittent day traveler. This quest comes with a guarantee that if you should sign on…your life will be transformed! \nOur Quest guides are UAC’s Licensed Unity Teachers and Ministerial/LUT Students with touchpoint huddles on Sunday Mornings 9:30am  -10:45am EST\, virtually or in person\, starting January 7\, 2024. \nRegistration for Zoom Session:\nClick here to register for the Zoom sessions and to receive the Zoom login code:  https://us02web.zoom.us/meeting/register/tZYuduChrzgvEtLzT6nDkt7aNbs9Qqqq9Ocr \nFor Questions: Email UnityAtlSpiritGroups@gmail.com  \nBooks: Later in December the books will be available at our Unity Atlanta Church Wisdom Well Bookstore.  Please let Beth Stokes know if you are interested in purchasing one or both books.  She can be reached at unitywisdomwell@gmail.com (they are also available on Amazon) \nBooks are optional\, though very helpful if you are participating regularly.\n1. The Quest: A Journey of Spiritual Discovery by Richard and Mary Jafolla\n2. Adventures on the Quest (A spiritual travel journal) by Richard and Mary Jafolla \nFirst Quarter Schedule:  Sunday Mornings\, 9:30am in person and via Zoom \nJan 7                      Starting Over – Why starting over is good for you \nJan 14                   Friends – Creating a spiritual support group \nJan 21                   What God Is – To be aware is to be alive \nJan 28                   What Am I?  The difference between my spirit and my soul. What about my body? \nFeb 4                     Jesus – The man and the Christ – What is meant by ’The Christ that I am’? \nFeb 11                  The Bible – A new look at an old Book – Does it still make sense? \nFeb 18                  Oneness – Where are the boundaries? \nFeb 25                  Cause and Effect –the Law that never lies – Where is God in a cause and effect world? \nMar 3                    Heaven and Hell – Where are they? If I don’t believe in hell\, is there a heaven? \nMar 10                 Good and Evil – If God is Good\, why is there bad?  What causes evil? \nMar 17                 Prayer – How to talk to God – Just what is prayer? \nMarch 24             The Silence – Just what is this? \nMarch 31            NO CLASS– BREAK – EASTER  (Classes resume the following Sunday\, April 7th)
URL:https://unityatl.org/events/the-quest-a-journey-of-spiritual-rediscovery/2024-02-04/
LOCATION:Unity Atlanta\, 3597 Parkway Lane\, Norcross\, 30092\, United States
GEO:33.9597203;-84.231198
X-APPLE-STRUCTURED-LOCATION;VALUE=URI;X-ADDRESS=Unity Atlanta 3597 Parkway Lane Norcross 30092 United States;X-APPLE-RADIUS=500;X-TITLE=3597 Parkway Lane:geo:-84.231198,33.9597203
END:VEVENT
BEGIN:VEVENT
DTSTART;TZID=America/New_York:20240204T100000
DTEND;TZID=America/New_York:20240204T123000
DTSTAMP:20260423T192200
CREATED:20240110T164410Z
LAST-MODIFIED:20240110T164410Z
UID:10001724-1707040800-1707049800@unityatl.org
SUMMARY:Energy Healing Sessions
DESCRIPTION:Come Enjoy A Session in Our Healing Room!\n \nOur healing team\, Rob Alexander and Elisha Fields\, are joyfully ready to provide an energy healing session for you on Sunday mornings!  Rob is a Reiki Master and Elisha practices Magnified Healing. \nDuring the Winter\, Elisha is offering healing sessions by appointment only.  Please contact  Elisha@RoyalPath.info or Text 678-491-4332 \nHealing Room Hours:  Sundays\, 10:00 – 11:00 am and for 30 minutes after services.\nLocation: Room 105\, off of the main lobby.  Sign in sheets are just inside the Healing Room.\nCost: Our healing practitioners provide healing sessions on a love offering basis. \nAbout our Healing Practitioners: \nRob Alexander:                                                                                                                                                           :\n \nRob is a certified Reiki Master who offers this Japanese technique for stress reduction and relaxation which is administered by holding the hands a few inches above the body and is based on the “life energy force” that flows through all of us. \n\nElisha Fields:\n\nElisha is a certified Magnified Healing Teacher offering chakra balancing as well as a pain-relief technique she developed in 1993 which has been successful with migraines and some localized pain. \n  \n  \n  \n 
URL:https://unityatl.org/events/reiki-healing-sessions-2-3-2-2-2-2/2024-02-04/
LOCATION:Unity Atlanta\, 3597 Parkway Lane\, Norcross\, 30092\, United States
GEO:33.9597203;-84.231198
X-APPLE-STRUCTURED-LOCATION;VALUE=URI;X-ADDRESS=Unity Atlanta 3597 Parkway Lane Norcross 30092 United States;X-APPLE-RADIUS=500;X-TITLE=3597 Parkway Lane:geo:-84.231198,33.9597203
END:VEVENT
BEGIN:VEVENT
DTSTART;TZID=America/New_York:20240204T100000
DTEND;TZID=America/New_York:20240204T130000
DTSTAMP:20260423T192200
CREATED:20220929T171101Z
LAST-MODIFIED:20240425T205921Z
UID:10001268-1707040800-1707051600@unityatl.org
SUMMARY:Wisdom Well Bookstore
DESCRIPTION:The Wisdom Well Bookstore\n\nOur metaphysical bookstore reflects the heart of Unity Atlanta Church. It offers a collection of new thought\, spiritual\, and self-help books. We know you’ll be inspired with the large selection of gift items. The bookstore also supports our  Adult Education classes with a supply of teaching materials and textbooks. Our volunteer Bookstore Angels are always eager to introduce a new book or reacquaint us with an old classic. \nWisdom Well Store Hours:  Sundays\, 10:00 AM – 1:00 PM \nLooking for a book in particular? \nTo contact:  unitywisdomwell@gmail.com  or call the church office: 770-441-0585 \n\n  \n  \n  \n  \nWe have books for diverse interests:                                                                                  We also have many gifts including:            \nSpirituality                                                                                                                                Bimonthly issues of Unity Magazine\nBibles & Bible Reference Books                                                                                              Bimonthly issues of Daily Word\nPrayer & Meditation                                                                                                                 Greeting Cards\nInspiration & Motivation                                                                                                           Affirmation and 12 power stones\nRelationships                                                                                                                          Candles\nHealth & Healing                                                                                                                     Meditative scents\nTransitioning & Grieving                                                                                                          Notepads\nAngels                                                                                                                                     T-shirts\nBooks for children                                                                                                                   Bookmarks \n  \n 
URL:https://unityatl.org/events/wisdom-well-bookstore/2024-02-04/
LOCATION:Unity Atlanta\, 3597 Parkway Lane\, Norcross\, 30092\, United States
GEO:33.9597203;-84.231198
X-APPLE-STRUCTURED-LOCATION;VALUE=URI;X-ADDRESS=Unity Atlanta 3597 Parkway Lane Norcross 30092 United States;X-APPLE-RADIUS=500;X-TITLE=3597 Parkway Lane:geo:-84.231198,33.9597203
END:VEVENT
BEGIN:VEVENT
DTSTART;TZID=America/New_York:20240204T110000
DTEND;TZID=America/New_York:20240204T120000
DTSTAMP:20260423T192200
CREATED:20240116T182632Z
LAST-MODIFIED:20240116T182632Z
UID:10002763-1707044400-1707048000@unityatl.org
SUMMARY:Sunday Message: "Demonstrate Your Best"
DESCRIPTION:2024 Winter Message Series: Leaping Into a New Year\n \nDate: Sunday\, February 4\nTime: 11:00 am EST\nMessage: “Demonstrate Your Best”—Rev. Jenn shares that you demonstrate your best life by letting it unfold.\n  \n  \nTo Live Stream the 11:00 AM Service:\n1. Live Stream https://unityatl.org/live-stream/\n2. Face Book https://www.facebook.com/UnityAtlanta \nAbout Our 2024 Winter Message Series: Leaping Into a New Year \nIt’s a new year\, a time for you to become new. But are you really ready? \nAre you ready to dive in?  Are you ready to take your leap of faith?  Are you ready to (finally) do that thing you’ve wanted to do since forever?  Are you ready to have what you’ve been waiting for?  Are you ready to live the way you’ve always imagined? \nNow is the time\, in the present moment\, at the start of this new year. \nSo\, if you’re ready (or at least willing to be ready)\, join us each Sunday at 11:00 am EST\, in person or via livestream\, as we discover what we need to live our best year ever. \nSee All The Winter Sunday Messages Here. 
URL:https://unityatl.org/events/sunday-message-demonstrate-your-best/
LOCATION:Unity Atlanta\, 3597 Parkway Lane\, Norcross\, 30092\, United States
GEO:33.9597203;-84.231198
X-APPLE-STRUCTURED-LOCATION;VALUE=URI;X-ADDRESS=Unity Atlanta 3597 Parkway Lane Norcross 30092 United States;X-APPLE-RADIUS=500;X-TITLE=3597 Parkway Lane:geo:-84.231198,33.9597203
END:VEVENT
BEGIN:VEVENT
DTSTART;TZID=America/New_York:20240204T123000
DTEND;TZID=America/New_York:20240204T133000
DTSTAMP:20260423T192200
CREATED:20240111T165539Z
LAST-MODIFIED:20240111T165539Z
UID:10002759-1707049800-1707053400@unityatl.org
SUMMARY:Brown Bag Spiritual Café with Rev. Jenn
DESCRIPTION:Join Rev. Jenn for a Brown Bag Spiritual Café\n \nA time to talk\, share\, and enjoy one another!  Bring your lunch and stay after services for nourishment for body\, mind\, and soul! \nDates: Sunday\, February 4\nTime: 12:30 pm\, bring your lunch\nLocation: Fellowship Hall \nDiscuss the weekly devotional/Sunday message • Have time together\nAnd as always with Spiritual Café\, we will conclude with the Master Mind Prayer.
URL:https://unityatl.org/events/brown-bag-spiritual-cafe-with-rev-jenn-5/
LOCATION:Unity Atlanta\, 3597 Parkway Lane\, Norcross\, 30092\, United States
GEO:33.9597203;-84.231198
X-APPLE-STRUCTURED-LOCATION;VALUE=URI;X-ADDRESS=Unity Atlanta 3597 Parkway Lane Norcross 30092 United States;X-APPLE-RADIUS=500;X-TITLE=3597 Parkway Lane:geo:-84.231198,33.9597203
END:VEVENT
BEGIN:VEVENT
DTSTART;TZID=America/New_York:20240208T193000
DTEND;TZID=America/New_York:20240208T210000
DTSTAMP:20260423T192200
CREATED:20230322T183041Z
LAST-MODIFIED:20241031T174435Z
UID:10001789-1707420600-1707426000@unityatl.org
SUMMARY:Unity Atlanta Men's Group
DESCRIPTION:Unity Atlanta Men’s Group \nThe men’s group meets onsite at the church the 1st – 3rd Thursdays of the month.  The 4th (and if applicable\, the 5th) Thursday is often a Game Night\, or one of a number of various activities. \n \nFor any questions\, including the logistics for the 4th and 5th Thursdays\, please TEXT Steve Peck at 770-639-5242 or email him at speck3053@comcast.net   \nLocation:  Unity Atlanta Room 108   Time: 7:30 – 9:00 PM \nFor any questions\,  please TEXT Steve Peck at 770-639-5242 or email him at speck3053@comcast.net/      \nThe Unity Atlanta Men’s Group Meetings begin with a brief 1-2 minute check-in during which each member shares how his week went\, what’s gong on in his life\, and any success or challenges he may be experiencing. \nWe then move on to a topic\, which either arises during the check-in or has been prepared in advance by one of the members.  Topics\, week from week\, have a wide range of subjects.  We share from our own experience rather than giving opinions or advice or telling stories.  Through this sharing\, a sense of brotherhood develops with the individual members while retaining an openness that is welcoming to all. \nOccasionally\, we also conduct public outreach\, and each fall we sponsor a men only retreat. \nMission Statement: \n\nWe are a self-supporting\, self-facilitating\, spiritually-based group\nWe remind each other that we are all connected and learn from our collective wisdom\nWe promote spirituality\, growth\, learning and community\nWe support each other and remind each other to live “in faith”\nWe share our lives\, our joy\, and our abundance to become like-minded brothers\nWe radiate our spirituality to our families\, friends and the world\nWe express our feelings and emotions through healthy communication\nRegardless of our means and circumstances\, we are friends and equals\nWe are here–join us!
URL:https://unityatl.org/events/unity-atlanta-mens-group-18/2024-02-08/
LOCATION:Unity Atlanta\, 3597 Parkway Lane\, Norcross\, 30092\, United States
GEO:33.9597203;-84.231198
X-APPLE-STRUCTURED-LOCATION;VALUE=URI;X-ADDRESS=Unity Atlanta 3597 Parkway Lane Norcross 30092 United States;X-APPLE-RADIUS=500;X-TITLE=3597 Parkway Lane:geo:-84.231198,33.9597203
END:VEVENT
BEGIN:VEVENT
DTSTART;TZID=America/New_York:20240209T190000
DTEND;TZID=America/New_York:20240209T213000
DTSTAMP:20260423T192200
CREATED:20240110T161024Z
LAST-MODIFIED:20240111T174409Z
UID:10002738-1707505200-1707514200@unityatl.org
SUMMARY:February Coffee House
DESCRIPTION:Join us for a night of singing and fun!\n \nDate: Friday\, February 9\nTime: 7:00 – 9:30 pm\nLocation: Fellowship Hall\nBring: Your favorite game and a dish to share for our Coffee House potluck  \nOur entertainment features Karaoke / Open Mic…by whoever would like to share in the fun on-stage! If you’re new to karaoke\, this is an interactive entertainment event\, where people sing along to recorded music using a microphone. The words of the song are shown on the computer screen for you to follow along. You can choose from thousands of songs from our Karafun.com karaoke music subscription.  If a solo isn’t for you\, join with others in a duet\, small group\, or house song. All are invited to participate…until the clock strikes 9:30pm! \nPlease contact Robin Fennell if you have any questions\, would like to assist as a volunteer\, or add to the potluck sign-up list.  Robin can be reached at: unityatlantamkt@gmail.com. \nPlease remember to invite your family and friends! We look forward to being blessed by their presence and growing our beloved community. \nSave the dates for all of our 2024 Coffee Houses!  All will be “Karaoke and Game Night” with a potluck dinner.\nApril 12\nJune 14\nAugust 9\nNovember 8 \n 
URL:https://unityatl.org/events/february-coffee-house/
LOCATION:Unity Atlanta\, 3597 Parkway Lane\, Norcross\, 30092\, United States
GEO:33.9597203;-84.231198
X-APPLE-STRUCTURED-LOCATION;VALUE=URI;X-ADDRESS=Unity Atlanta 3597 Parkway Lane Norcross 30092 United States;X-APPLE-RADIUS=500;X-TITLE=3597 Parkway Lane:geo:-84.231198,33.9597203
END:VEVENT
END:VCALENDAR