BEGIN:VCALENDAR
VERSION:2.0
PRODID:-//Unity Atlanta Church - ECPv6.15.20//NONSGML v1.0//EN
CALSCALE:GREGORIAN
METHOD:PUBLISH
X-WR-CALNAME:Unity Atlanta Church
X-ORIGINAL-URL:https://unityatl.org
X-WR-CALDESC:Events for Unity Atlanta Church
REFRESH-INTERVAL;VALUE=DURATION:PT1H
X-Robots-Tag:noindex
X-PUBLISHED-TTL:PT1H
BEGIN:VTIMEZONE
TZID:America/New_York
BEGIN:DAYLIGHT
TZOFFSETFROM:-0500
TZOFFSETTO:-0400
TZNAME:EDT
DTSTART:20220313T070000
END:DAYLIGHT
BEGIN:STANDARD
TZOFFSETFROM:-0400
TZOFFSETTO:-0500
TZNAME:EST
DTSTART:20221106T060000
END:STANDARD
BEGIN:DAYLIGHT
TZOFFSETFROM:-0500
TZOFFSETTO:-0400
TZNAME:EDT
DTSTART:20230312T070000
END:DAYLIGHT
BEGIN:STANDARD
TZOFFSETFROM:-0400
TZOFFSETTO:-0500
TZNAME:EST
DTSTART:20231105T060000
END:STANDARD
BEGIN:DAYLIGHT
TZOFFSETFROM:-0500
TZOFFSETTO:-0400
TZNAME:EDT
DTSTART:20240310T070000
END:DAYLIGHT
BEGIN:STANDARD
TZOFFSETFROM:-0400
TZOFFSETTO:-0500
TZNAME:EST
DTSTART:20241103T060000
END:STANDARD
END:VTIMEZONE
BEGIN:VEVENT
DTSTART;TZID=America/New_York:20231119T084500
DTEND;TZID=America/New_York:20231119T103000
DTSTAMP:20260424T042104
CREATED:20220217T190434Z
LAST-MODIFIED:20221221T191822Z
UID:10001538-1700383500-1700389800@unityatl.org
SUMMARY:Practicing the Presence—A Course in Miracles with Michael Wilkinson--via Zoom
DESCRIPTION:Practicing the Presence—A Course in Miracles\nWeekly Group Study Over Zoom!\nThis course aims at removing the blocks to the awareness of love’s presence. The opposite of love is fear\, but what is all-encompassing can have no opposite. \nThis course can be summed up very simply:   Nothing real can be threatened. Nothing unreal exists. Herein lies the peace of God. \nFacilitator: Michael Wilkinson          Sunday’s at 8:45 – 10:30 AM \nThis is an open and ongoing class.  All are welcome.  Drop-in any time.\nBooks can be ordered through The Wisdom Well-Unity Atlanta’s bookstore. \nNew people are very welcome to join!  If you are interested\, please email MWilkinson@leadstrat.com in order to receive the Zoom log-in information. 
URL:https://unityatl.org/events/practicing-the-presence-a-course-in-miracles-with-michael-wilkinson-via-zoom/2023-11-19/
LOCATION:Unity Atlanta\, 3597 Parkway Lane\, Norcross\, 30092\, United States
GEO:33.9597203;-84.231198
X-APPLE-STRUCTURED-LOCATION;VALUE=URI;X-ADDRESS=Unity Atlanta 3597 Parkway Lane Norcross 30092 United States;X-APPLE-RADIUS=500;X-TITLE=3597 Parkway Lane:geo:-84.231198,33.9597203
END:VEVENT
BEGIN:VEVENT
DTSTART;TZID=America/New_York:20231119T100000
DTEND;TZID=America/New_York:20231119T123000
DTSTAMP:20260424T042104
CREATED:20230830T143215Z
LAST-MODIFIED:20230830T143215Z
UID:10001713-1700388000-1700397000@unityatl.org
SUMMARY:Energy Healing Sessions
DESCRIPTION:Come Enjoy A Session in Our Healing Room!\n \nOur healing team\, Rob Alexander and Elisha Fields\, are joyfully ready to provide an energy healing session for you on Sunday mornings!  Rob is a Reiki Master and Elisha practices Magnified Healing. \nHealing Room Hours:  Sundays\, 10:00 – 11:00 am and for 30 minutes after services.\nLocation: Room 105\, off of the main lobby.  Sign in sheets are just inside the Healing Room.\nCost: Our healing practitioners provide healing sessions on a love offering basis. \nAbout our Healing Practitioners: \nRob Alexander:                                                                                                                                                           :\n \nRob is a certified Reiki Master who offers this Japanese technique for stress reduction and relaxation which is administered by holding the hands a few inches above the body and is based on the “life energy force” that flows through all of us. \n\nElisha Fields:\n\nElisha is a certified Magnified Healing Teacher offering chakra balancing as well as a pain-relief technique she developed in 1993 which has been successful with migraines and some localized pain. \n  \n  \n  \n 
URL:https://unityatl.org/events/reiki-healing-sessions-2-3-2-2-2/2023-11-19/
LOCATION:Unity Atlanta\, 3597 Parkway Lane\, Norcross\, 30092\, United States
GEO:33.9597203;-84.231198
X-APPLE-STRUCTURED-LOCATION;VALUE=URI;X-ADDRESS=Unity Atlanta 3597 Parkway Lane Norcross 30092 United States;X-APPLE-RADIUS=500;X-TITLE=3597 Parkway Lane:geo:-84.231198,33.9597203
END:VEVENT
BEGIN:VEVENT
DTSTART;TZID=America/New_York:20231119T100000
DTEND;TZID=America/New_York:20231119T130000
DTSTAMP:20260424T042104
CREATED:20220929T171101Z
LAST-MODIFIED:20240425T205921Z
UID:10001257-1700388000-1700398800@unityatl.org
SUMMARY:Wisdom Well Bookstore
DESCRIPTION:The Wisdom Well Bookstore\n\nOur metaphysical bookstore reflects the heart of Unity Atlanta Church. It offers a collection of new thought\, spiritual\, and self-help books. We know you’ll be inspired with the large selection of gift items. The bookstore also supports our  Adult Education classes with a supply of teaching materials and textbooks. Our volunteer Bookstore Angels are always eager to introduce a new book or reacquaint us with an old classic. \nWisdom Well Store Hours:  Sundays\, 10:00 AM – 1:00 PM \nLooking for a book in particular? \nTo contact:  unitywisdomwell@gmail.com  or call the church office: 770-441-0585 \n\n  \n  \n  \n  \nWe have books for diverse interests:                                                                                  We also have many gifts including:            \nSpirituality                                                                                                                                Bimonthly issues of Unity Magazine\nBibles & Bible Reference Books                                                                                              Bimonthly issues of Daily Word\nPrayer & Meditation                                                                                                                 Greeting Cards\nInspiration & Motivation                                                                                                           Affirmation and 12 power stones\nRelationships                                                                                                                          Candles\nHealth & Healing                                                                                                                     Meditative scents\nTransitioning & Grieving                                                                                                          Notepads\nAngels                                                                                                                                     T-shirts\nBooks for children                                                                                                                   Bookmarks \n  \n 
URL:https://unityatl.org/events/wisdom-well-bookstore/2023-11-19/
LOCATION:Unity Atlanta\, 3597 Parkway Lane\, Norcross\, 30092\, United States
GEO:33.9597203;-84.231198
X-APPLE-STRUCTURED-LOCATION;VALUE=URI;X-ADDRESS=Unity Atlanta 3597 Parkway Lane Norcross 30092 United States;X-APPLE-RADIUS=500;X-TITLE=3597 Parkway Lane:geo:-84.231198,33.9597203
END:VEVENT
BEGIN:VEVENT
DTSTART;TZID=America/New_York:20231119T110000
DTEND;TZID=America/New_York:20231119T120000
DTSTAMP:20260424T042104
CREATED:20231102T192653Z
LAST-MODIFIED:20231102T192653Z
UID:10002443-1700391600-1700395200@unityatl.org
SUMMARY:
DESCRIPTION:This Sunday\, November 19th\, is Communion Sunday\n \nDate: Sunday\, November 19\nTime: 11:00 am EST\nMessage: “Your Creative Link”—Rev. Jenn shares how we are created to be creative. In communion with God\, we can recognize our creative nature\nThis Sunday also includes our Communion Service \n  \nTo Live Stream the 11:00 AM Service:\n1. Live Stream https://unityatl.org/live-stream/\n2. Face Book https://www.facebook.com/UnityAtlanta
URL:https://unityatl.org/events/38556/
LOCATION:Unity Atlanta\, 3597 Parkway Lane\, Norcross\, 30092\, United States
GEO:33.9597203;-84.231198
X-APPLE-STRUCTURED-LOCATION;VALUE=URI;X-ADDRESS=Unity Atlanta 3597 Parkway Lane Norcross 30092 United States;X-APPLE-RADIUS=500;X-TITLE=3597 Parkway Lane:geo:-84.231198,33.9597203
END:VEVENT
BEGIN:VEVENT
DTSTART;TZID=America/New_York:20231119T110000
DTEND;TZID=America/New_York:20231119T120000
DTSTAMP:20260424T042104
CREATED:20231102T193803Z
LAST-MODIFIED:20231102T193803Z
UID:10002445-1700391600-1700395200@unityatl.org
SUMMARY:Sunday Message and Communion Service: Your Creative Link
DESCRIPTION:This Sunday\, November 19\, is our Communion Sunday Service\n \nDate: Sunday\, November 19\nTime: 11:00 am EST\nMessage: “Your Creative Link”—Rev. Jenn shares how we are created to be creative. In communion with God\, we can recognize our creative nature.   This Sunday also includes our Communion Service.    \nTo Live Stream the 11:00 AM Service:\n1. Live Stream https://unityatl.org/live-stream/\n2. Face Book https://www.facebook.com/UnityAtlanta
URL:https://unityatl.org/events/sunday-message-and-communion-service-your-creative-link/
LOCATION:Unity Atlanta\, 3597 Parkway Lane\, Norcross\, 30092\, United States
GEO:33.9597203;-84.231198
X-APPLE-STRUCTURED-LOCATION;VALUE=URI;X-ADDRESS=Unity Atlanta 3597 Parkway Lane Norcross 30092 United States;X-APPLE-RADIUS=500;X-TITLE=3597 Parkway Lane:geo:-84.231198,33.9597203
END:VEVENT
BEGIN:VEVENT
DTSTART;TZID=America/New_York:20231122T183000
DTEND;TZID=America/New_York:20231122T200000
DTSTAMP:20260424T042104
CREATED:20231102T193117Z
LAST-MODIFIED:20231102T193117Z
UID:10002444-1700677800-1700683200@unityatl.org
SUMMARY:Thanksgiving Eve Gratitude Service Potluck
DESCRIPTION:Thanksgiving Eve Gratitude Service Potluck\n \nJoin us for our Thanksgiving Potluck and Gratitude Service!  Held entirely in Fellowship Hall\, we break bread together as simultaneously Rev. Jenn leads a simple gratitude service.  We will also have a “Gratitude Station” set up where you can write gratitude cards to give or mail. \nDate: Wednesday\, November 22nd\nTime: 6:30 pm\nLocation: Fellowship Hall\nTo Bring:  The church will provide Turkey and Ham.  Please bring a side dish and/or dessert for 8 people.
URL:https://unityatl.org/events/thanksgiving-eve-gratitude-service-potluck-2/
LOCATION:Unity Atlanta\, 3597 Parkway Lane\, Norcross\, 30092\, United States
GEO:33.9597203;-84.231198
X-APPLE-STRUCTURED-LOCATION;VALUE=URI;X-ADDRESS=Unity Atlanta 3597 Parkway Lane Norcross 30092 United States;X-APPLE-RADIUS=500;X-TITLE=3597 Parkway Lane:geo:-84.231198,33.9597203
END:VEVENT
BEGIN:VEVENT
DTSTART;TZID=America/New_York:20231123T193000
DTEND;TZID=America/New_York:20231123T210000
DTSTAMP:20260424T042104
CREATED:20230322T183041Z
LAST-MODIFIED:20241031T174435Z
UID:10003669-1700767800-1700773200@unityatl.org
SUMMARY:Unity Atlanta Men's Group
DESCRIPTION:Unity Atlanta Men’s Group \nThe men’s group meets onsite at the church the 1st – 3rd Thursdays of the month.  The 4th (and if applicable\, the 5th) Thursday is often a Game Night\, or one of a number of various activities. \n \nFor any questions\, including the logistics for the 4th and 5th Thursdays\, please TEXT Steve Peck at 770-639-5242 or email him at speck3053@comcast.net   \nLocation:  Unity Atlanta Room 108   Time: 7:30 – 9:00 PM \nFor any questions\,  please TEXT Steve Peck at 770-639-5242 or email him at speck3053@comcast.net/      \nThe Unity Atlanta Men’s Group Meetings begin with a brief 1-2 minute check-in during which each member shares how his week went\, what’s gong on in his life\, and any success or challenges he may be experiencing. \nWe then move on to a topic\, which either arises during the check-in or has been prepared in advance by one of the members.  Topics\, week from week\, have a wide range of subjects.  We share from our own experience rather than giving opinions or advice or telling stories.  Through this sharing\, a sense of brotherhood develops with the individual members while retaining an openness that is welcoming to all. \nOccasionally\, we also conduct public outreach\, and each fall we sponsor a men only retreat. \nMission Statement: \n\nWe are a self-supporting\, self-facilitating\, spiritually-based group\nWe remind each other that we are all connected and learn from our collective wisdom\nWe promote spirituality\, growth\, learning and community\nWe support each other and remind each other to live “in faith”\nWe share our lives\, our joy\, and our abundance to become like-minded brothers\nWe radiate our spirituality to our families\, friends and the world\nWe express our feelings and emotions through healthy communication\nRegardless of our means and circumstances\, we are friends and equals\nWe are here–join us!
URL:https://unityatl.org/events/unity-atlanta-mens-group-18/2023-11-23/
LOCATION:Unity Atlanta\, 3597 Parkway Lane\, Norcross\, 30092\, United States
GEO:33.9597203;-84.231198
X-APPLE-STRUCTURED-LOCATION;VALUE=URI;X-ADDRESS=Unity Atlanta 3597 Parkway Lane Norcross 30092 United States;X-APPLE-RADIUS=500;X-TITLE=3597 Parkway Lane:geo:-84.231198,33.9597203
END:VEVENT
BEGIN:VEVENT
DTSTART;TZID=America/New_York:20231123T193000
DTEND;TZID=America/New_York:20231123T210000
DTSTAMP:20260424T042104
CREATED:20231120T201002Z
LAST-MODIFIED:20231120T201003Z
UID:10001778-1700767800-1700773200@unityatl.org
SUMMARY:No Men's Group November 23rd
DESCRIPTION:No Men’s Group Meeting This Thanksgiving Evening.  Men’s Group Will Resume Next Thursday.\n  \n  \n  \nThe men’s group meets onsite at the church the 1st – 3rd Thursdays of the month.  The 4th (and if applicable\, the 5th) Thursday is often a Game Night\, or one of a number of various activities. \n \nFor any questions\, including the logistics for the 4th and 5th Thursdays\, please TEXT Steve Peck at 770-639-5242 or email him at speck3053@comcast.net   \nLocation:  Unity Atlanta Room 108   Time: 7:30 – 9:00 PM \nFor any questions\,  please TEXT Steve Peck at 770-639-5242 or email him at speck3053@comcast.net/      \nThe Unity Atlanta Men’s Group Meetings begin with a brief 1-2 minute check-in during which each member shares how his week went\, what’s gong on in his life\, and any success or challenges he may be experiencing. \nWe then move on to a topic\, which either arises during the check-in or has been prepared in advance by one of the members.  Topics\, week from week\, have a wide range of subjects.  We share from our own experience rather than giving opinions or advice or telling stories.  Through this sharing\, a sense of brotherhood develops with the individual members while retaining an openness that is welcoming to all. \nOccasionally\, we also conduct public outreach\, and each fall we sponsor a men only retreat. \nMission Statement: \n\nWe are a self-supporting\, self-facilitating\, spiritually-based group\nWe remind each other that we are all connected and learn from our collective wisdom\nWe promote spirituality\, growth\, learning and community\nWe support each other and remind each other to live “in faith”\nWe share our lives\, our joy\, and our abundance to become like-minded brothers\nWe radiate our spirituality to our families\, friends and the world\nWe express our feelings and emotions through healthy communication\nRegardless of our means and circumstances\, we are friends and equals\nWe are here–join us!
URL:https://unityatl.org/events/unity-atlanta-mens-group-18-2/
LOCATION:Unity Atlanta\, 3597 Parkway Lane\, Norcross\, 30092\, United States
GEO:33.9597203;-84.231198
X-APPLE-STRUCTURED-LOCATION;VALUE=URI;X-ADDRESS=Unity Atlanta 3597 Parkway Lane Norcross 30092 United States;X-APPLE-RADIUS=500;X-TITLE=3597 Parkway Lane:geo:-84.231198,33.9597203
END:VEVENT
END:VCALENDAR