BEGIN:VCALENDAR
VERSION:2.0
PRODID:-//Unity Atlanta Church - ECPv6.15.20//NONSGML v1.0//EN
CALSCALE:GREGORIAN
METHOD:PUBLISH
X-WR-CALNAME:Unity Atlanta Church
X-ORIGINAL-URL:https://unityatl.org
X-WR-CALDESC:Events for Unity Atlanta Church
REFRESH-INTERVAL;VALUE=DURATION:PT1H
X-Robots-Tag:noindex
X-PUBLISHED-TTL:PT1H
BEGIN:VTIMEZONE
TZID:America/New_York
BEGIN:DAYLIGHT
TZOFFSETFROM:-0500
TZOFFSETTO:-0400
TZNAME:EDT
DTSTART:20220313T070000
END:DAYLIGHT
BEGIN:STANDARD
TZOFFSETFROM:-0400
TZOFFSETTO:-0500
TZNAME:EST
DTSTART:20221106T060000
END:STANDARD
BEGIN:DAYLIGHT
TZOFFSETFROM:-0500
TZOFFSETTO:-0400
TZNAME:EDT
DTSTART:20230312T070000
END:DAYLIGHT
BEGIN:STANDARD
TZOFFSETFROM:-0400
TZOFFSETTO:-0500
TZNAME:EST
DTSTART:20231105T060000
END:STANDARD
BEGIN:DAYLIGHT
TZOFFSETFROM:-0500
TZOFFSETTO:-0400
TZNAME:EDT
DTSTART:20240310T070000
END:DAYLIGHT
BEGIN:STANDARD
TZOFFSETFROM:-0400
TZOFFSETTO:-0500
TZNAME:EST
DTSTART:20241103T060000
END:STANDARD
END:VTIMEZONE
BEGIN:VEVENT
DTSTART;TZID=America/New_York:20231029T084500
DTEND;TZID=America/New_York:20231029T103000
DTSTAMP:20260424T041307
CREATED:20220217T190434Z
LAST-MODIFIED:20221221T191822Z
UID:10001535-1698569100-1698575400@unityatl.org
SUMMARY:Practicing the Presence—A Course in Miracles with Michael Wilkinson--via Zoom
DESCRIPTION:Practicing the Presence—A Course in Miracles\nWeekly Group Study Over Zoom!\nThis course aims at removing the blocks to the awareness of love’s presence. The opposite of love is fear\, but what is all-encompassing can have no opposite. \nThis course can be summed up very simply:   Nothing real can be threatened. Nothing unreal exists. Herein lies the peace of God. \nFacilitator: Michael Wilkinson          Sunday’s at 8:45 – 10:30 AM \nThis is an open and ongoing class.  All are welcome.  Drop-in any time.\nBooks can be ordered through The Wisdom Well-Unity Atlanta’s bookstore. \nNew people are very welcome to join!  If you are interested\, please email MWilkinson@leadstrat.com in order to receive the Zoom log-in information. 
URL:https://unityatl.org/events/practicing-the-presence-a-course-in-miracles-with-michael-wilkinson-via-zoom/2023-10-29/
LOCATION:Unity Atlanta\, 3597 Parkway Lane\, Norcross\, 30092\, United States
GEO:33.9597203;-84.231198
X-APPLE-STRUCTURED-LOCATION;VALUE=URI;X-ADDRESS=Unity Atlanta 3597 Parkway Lane Norcross 30092 United States;X-APPLE-RADIUS=500;X-TITLE=3597 Parkway Lane:geo:-84.231198,33.9597203
END:VEVENT
BEGIN:VEVENT
DTSTART;TZID=America/New_York:20231029T093000
DTEND;TZID=America/New_York:20231029T104500
DTSTAMP:20260424T041307
CREATED:20231003T192622Z
LAST-MODIFIED:20231003T192622Z
UID:10002430-1698571800-1698576300@unityatl.org
SUMMARY:Fall Faith Small Group--In Person with Jan Gurr\, LUT
DESCRIPTION:What is Truth… and how are you using it? Come explore in small group discussion practical ways to heal your life by the power of thoughts and beliefs\, how to find truth as it is written in your heart and how to apply these truths in every area (health\, relationships\, abundance) of your life. \nOne of Unity’s beloved metaphysicians\, H. Emilie Cady\, the first self-employed female doctor of homeopathic medicine\, practiced medicine both medically and spiritually. Her book\, How I Used Truth\, is a series of personal essays that provided a proven metaphysical treatment (resolution) for many of life’s challenging situations. We will use her text as a jumping off point to explore and prove to ourselves that we\, too\, can be empowered\, inspired\, healed and prospered. \nSundays (In Person Only) at Unity Atlanta: October 8\, 15\, 22\, 29 and Nov 5\, 12   9:30 AM – 10:45 AM  in Staff Conference Room\nFacilitated by Jan Gurr\n6 week series\, NO REGISTRATION REQUIRED
URL:https://unityatl.org/events/fall-faith-small-group-in-person-with-jan-gurr-lut/2023-10-29/
LOCATION:Unity Atlanta\, 3597 Parkway Lane\, Norcross\, 30092\, United States
GEO:33.9597203;-84.231198
X-APPLE-STRUCTURED-LOCATION;VALUE=URI;X-ADDRESS=Unity Atlanta 3597 Parkway Lane Norcross 30092 United States;X-APPLE-RADIUS=500;X-TITLE=3597 Parkway Lane:geo:-84.231198,33.9597203
END:VEVENT
BEGIN:VEVENT
DTSTART;TZID=America/New_York:20231029T100000
DTEND;TZID=America/New_York:20231029T123000
DTSTAMP:20260424T041307
CREATED:20230830T143215Z
LAST-MODIFIED:20230830T143215Z
UID:10001710-1698573600-1698582600@unityatl.org
SUMMARY:Energy Healing Sessions
DESCRIPTION:Come Enjoy A Session in Our Healing Room!\n \nOur healing team\, Rob Alexander and Elisha Fields\, are joyfully ready to provide an energy healing session for you on Sunday mornings!  Rob is a Reiki Master and Elisha practices Magnified Healing. \nHealing Room Hours:  Sundays\, 10:00 – 11:00 am and for 30 minutes after services.\nLocation: Room 105\, off of the main lobby.  Sign in sheets are just inside the Healing Room.\nCost: Our healing practitioners provide healing sessions on a love offering basis. \nAbout our Healing Practitioners: \nRob Alexander:                                                                                                                                                           :\n \nRob is a certified Reiki Master who offers this Japanese technique for stress reduction and relaxation which is administered by holding the hands a few inches above the body and is based on the “life energy force” that flows through all of us. \n\nElisha Fields:\n\nElisha is a certified Magnified Healing Teacher offering chakra balancing as well as a pain-relief technique she developed in 1993 which has been successful with migraines and some localized pain. \n  \n  \n  \n 
URL:https://unityatl.org/events/reiki-healing-sessions-2-3-2-2-2/2023-10-29/
LOCATION:Unity Atlanta\, 3597 Parkway Lane\, Norcross\, 30092\, United States
GEO:33.9597203;-84.231198
X-APPLE-STRUCTURED-LOCATION;VALUE=URI;X-ADDRESS=Unity Atlanta 3597 Parkway Lane Norcross 30092 United States;X-APPLE-RADIUS=500;X-TITLE=3597 Parkway Lane:geo:-84.231198,33.9597203
END:VEVENT
BEGIN:VEVENT
DTSTART;TZID=America/New_York:20231029T100000
DTEND;TZID=America/New_York:20231029T130000
DTSTAMP:20260424T041307
CREATED:20220929T171101Z
LAST-MODIFIED:20240425T205921Z
UID:10001254-1698573600-1698584400@unityatl.org
SUMMARY:Wisdom Well Bookstore
DESCRIPTION:The Wisdom Well Bookstore\n\nOur metaphysical bookstore reflects the heart of Unity Atlanta Church. It offers a collection of new thought\, spiritual\, and self-help books. We know you’ll be inspired with the large selection of gift items. The bookstore also supports our  Adult Education classes with a supply of teaching materials and textbooks. Our volunteer Bookstore Angels are always eager to introduce a new book or reacquaint us with an old classic. \nWisdom Well Store Hours:  Sundays\, 10:00 AM – 1:00 PM \nLooking for a book in particular? \nTo contact:  unitywisdomwell@gmail.com  or call the church office: 770-441-0585 \n\n  \n  \n  \n  \nWe have books for diverse interests:                                                                                  We also have many gifts including:            \nSpirituality                                                                                                                                Bimonthly issues of Unity Magazine\nBibles & Bible Reference Books                                                                                              Bimonthly issues of Daily Word\nPrayer & Meditation                                                                                                                 Greeting Cards\nInspiration & Motivation                                                                                                           Affirmation and 12 power stones\nRelationships                                                                                                                          Candles\nHealth & Healing                                                                                                                     Meditative scents\nTransitioning & Grieving                                                                                                          Notepads\nAngels                                                                                                                                     T-shirts\nBooks for children                                                                                                                   Bookmarks \n  \n 
URL:https://unityatl.org/events/wisdom-well-bookstore/2023-10-29/
LOCATION:Unity Atlanta\, 3597 Parkway Lane\, Norcross\, 30092\, United States
GEO:33.9597203;-84.231198
X-APPLE-STRUCTURED-LOCATION;VALUE=URI;X-ADDRESS=Unity Atlanta 3597 Parkway Lane Norcross 30092 United States;X-APPLE-RADIUS=500;X-TITLE=3597 Parkway Lane:geo:-84.231198,33.9597203
END:VEVENT
BEGIN:VEVENT
DTSTART;TZID=America/New_York:20231029T110000
DTEND;TZID=America/New_York:20231029T120000
DTSTAMP:20260424T041307
CREATED:20230921T153357Z
LAST-MODIFIED:20230921T153357Z
UID:10002422-1698577200-1698580800@unityatl.org
SUMMARY:Sunday Message: Shape the Substance
DESCRIPTION:How To Use Truth: A Faith Journey for Fall\n \nJoin us this Sunday\, October 29 at 11:00 am Eastern time\, in person or via livestream\, as Rev. Jenn shares the Truth that there is enough in the Universe for everyone. \nDate: Sunday\, October 29\nTime: 11:00 am EST\nMessage: “Shape the Substance”—Rev. Jenn shares how once we recognize our infinite resources\, we can define prosperity for ourselves.\nFall Faith Color:  We invite you to wear Orange/Costumes/Halloween Themes this Sunday!                                                               \nTo Live Stream the 11:00 AM Service:\n1. Live Stream https://unityatl.org/live-stream/\n2. Face Book https://www.facebook.com/UnityAtlanta \n  \nAbout Our Fall Message Series: How To Use Truth: A Faith Journey For Fall \nTruth – with a capital “T” – is what’s Absolute in the Universe\, always and unchanging.  Truth is God’s pure\, original\, divine ideas that endure for all time.  Truth is simple; it has no exceptions. \nIt can be challenging to understand Truth intellectually\, but we can perceive Truth when we let it be revealed\, not only by praying and meditating\, but by discerning how to act no matter what’s occurring in our lives.  When we choose to use Truth\, we don’t have to accept things as so; we prove them\, according to spiritual law\, for ourselves.  Then\, we can be empowered\, inspired\, healed\, and prospered in the most fulfilling ways. \nJoin us each Sunday at 11:00 am Eastern time\, in person or via livestream\, as we discover the riches of Truth in our daily lives.
URL:https://unityatl.org/events/sunday-message-shape-the-substance/
LOCATION:Unity Atlanta\, 3597 Parkway Lane\, Norcross\, 30092\, United States
GEO:33.9597203;-84.231198
X-APPLE-STRUCTURED-LOCATION;VALUE=URI;X-ADDRESS=Unity Atlanta 3597 Parkway Lane Norcross 30092 United States;X-APPLE-RADIUS=500;X-TITLE=3597 Parkway Lane:geo:-84.231198,33.9597203
END:VEVENT
BEGIN:VEVENT
DTSTART;TZID=America/New_York:20231029T130000
DTEND;TZID=America/New_York:20231029T140000
DTSTAMP:20260424T041307
CREATED:20230927T155352Z
LAST-MODIFIED:20231003T180910Z
UID:10002425-1698584400-1698588000@unityatl.org
SUMMARY:Trunk or Treat with Unity Atlanta Church Youth and Family Ministry
DESCRIPTION:Trunk or Treat with Unity Atlanta Church Youth and Family Ministry\n \nJoin Unity Atlanta Church Youth and Family Ministry for our annual\, family friendly event on Sunday\, Oct. 29th from 1:00 pm to 2:00 pm! This free event is held at Unity Atlanta. Our Trunk or Treat Trail is a safe space for youth and parents to enjoy Halloween festivities. \nKids of all ages visit each decorated booth to collect treats. In addition to traditional treats\, vegan\, sugar-free\, and nut-free treats are available\, and those trunks will have special signage. Costumes encouraged! Don’t forget your treat bucket! \nOther fun: pumpkin decorating booth\, games\, and prizes! \nBring forth your creativity!  We are planning for fun and semi-spooky themed booths full of candy to share!  (Nut-free candy is preferred). \nWe are still in need of decorated booths to hand out candy. We have advertised to the surrounding neighborhoods and are expecting a large crowd\, so we are asking for candy for 200 kids. If you are interested in decorating a booth or donating candy\, please sign-up in the foyer Sunday\, October 8th or 15th after service. \nLooking forward to celebrating with you on October 29th! \nEmail questions to Leshey Williams at Leshey@unityatl.org
URL:https://unityatl.org/events/trunk-or-treat-with-unity-atlanta-church-youth-and-family-ministry-2/
LOCATION:Unity Atlanta\, 3597 Parkway Lane\, Norcross\, 30092\, United States
GEO:33.9597203;-84.231198
X-APPLE-STRUCTURED-LOCATION;VALUE=URI;X-ADDRESS=Unity Atlanta 3597 Parkway Lane Norcross 30092 United States;X-APPLE-RADIUS=500;X-TITLE=3597 Parkway Lane:geo:-84.231198,33.9597203
END:VEVENT
BEGIN:VEVENT
DTSTART;TZID=America/New_York:20231102T183000
DTEND;TZID=America/New_York:20231102T203000
DTSTAMP:20260424T041307
CREATED:20231003T193003Z
LAST-MODIFIED:20231003T193003Z
UID:10002436-1698949800-1698957000@unityatl.org
SUMMARY:Fall Faith Small Group--On Zoom with Freda Steward
DESCRIPTION:What is Truth… and how are you using it? Come explore in small group discussion practical ways to heal your life by the power of thoughts and beliefs\, how to find truth as it is written in your heart and how to apply these truths in every area (health\, relationships\, abundance) of your life. \nOne of Unity’s beloved metaphysicians\, H. Emilie Cady\, the first self-employed female doctor of homeopathic medicine\, practiced medicine both medically and spiritually. Her book\, How I Used Truth\, is a series of personal essays that provided a proven metaphysical treatment (resolution) for many of life’s challenging situations. We will use her text as a jumping off point to explore and prove to ourselves that we\, too\, can be empowered\, inspired\, healed and prospered. \nThursdays (Zoom Only):  October 12\, 19\, 26 and Nov 2 and 9    6:30 PM – 8:30 PM\nFacilitated by Freda Steward \n5 week series\, REGISTRATION IS REQUIRED to receive the Zoom link: https://us02web.zoom.us/meeting/register/tZUufuqhrTkjEteobJz2KAY5r6gqBFSZYzTL \nAfter registering\, you will receive a confirmation email containing information about how to join the meeting.
URL:https://unityatl.org/events/fall-faith-small-group-on-zoom-with-freda-steward/2023-11-02/
LOCATION:Unity Atlanta\, 3597 Parkway Lane\, Norcross\, 30092\, United States
GEO:33.9597203;-84.231198
X-APPLE-STRUCTURED-LOCATION;VALUE=URI;X-ADDRESS=Unity Atlanta 3597 Parkway Lane Norcross 30092 United States;X-APPLE-RADIUS=500;X-TITLE=3597 Parkway Lane:geo:-84.231198,33.9597203
END:VEVENT
BEGIN:VEVENT
DTSTART;TZID=America/New_York:20231102T193000
DTEND;TZID=America/New_York:20231102T210000
DTSTAMP:20260424T041307
CREATED:20230322T183041Z
LAST-MODIFIED:20241031T174435Z
UID:10001775-1698953400-1698958800@unityatl.org
SUMMARY:Unity Atlanta Men's Group
DESCRIPTION:Unity Atlanta Men’s Group \nThe men’s group meets onsite at the church the 1st – 3rd Thursdays of the month.  The 4th (and if applicable\, the 5th) Thursday is often a Game Night\, or one of a number of various activities. \n \nFor any questions\, including the logistics for the 4th and 5th Thursdays\, please TEXT Steve Peck at 770-639-5242 or email him at speck3053@comcast.net   \nLocation:  Unity Atlanta Room 108   Time: 7:30 – 9:00 PM \nFor any questions\,  please TEXT Steve Peck at 770-639-5242 or email him at speck3053@comcast.net/      \nThe Unity Atlanta Men’s Group Meetings begin with a brief 1-2 minute check-in during which each member shares how his week went\, what’s gong on in his life\, and any success or challenges he may be experiencing. \nWe then move on to a topic\, which either arises during the check-in or has been prepared in advance by one of the members.  Topics\, week from week\, have a wide range of subjects.  We share from our own experience rather than giving opinions or advice or telling stories.  Through this sharing\, a sense of brotherhood develops with the individual members while retaining an openness that is welcoming to all. \nOccasionally\, we also conduct public outreach\, and each fall we sponsor a men only retreat. \nMission Statement: \n\nWe are a self-supporting\, self-facilitating\, spiritually-based group\nWe remind each other that we are all connected and learn from our collective wisdom\nWe promote spirituality\, growth\, learning and community\nWe support each other and remind each other to live “in faith”\nWe share our lives\, our joy\, and our abundance to become like-minded brothers\nWe radiate our spirituality to our families\, friends and the world\nWe express our feelings and emotions through healthy communication\nRegardless of our means and circumstances\, we are friends and equals\nWe are here–join us!
URL:https://unityatl.org/events/unity-atlanta-mens-group-18/2023-11-02/
LOCATION:Unity Atlanta\, 3597 Parkway Lane\, Norcross\, 30092\, United States
GEO:33.9597203;-84.231198
X-APPLE-STRUCTURED-LOCATION;VALUE=URI;X-ADDRESS=Unity Atlanta 3597 Parkway Lane Norcross 30092 United States;X-APPLE-RADIUS=500;X-TITLE=3597 Parkway Lane:geo:-84.231198,33.9597203
END:VEVENT
BEGIN:VEVENT
DTSTART;TZID=America/New_York:20231104T103000
DTEND;TZID=America/New_York:20231104T120000
DTSTAMP:20260424T041307
CREATED:20230919T145207Z
LAST-MODIFIED:20231019T143448Z
UID:10002065-1699093800-1699099200@unityatl.org
SUMMARY:Unity Atlanta Church Women's Circle
DESCRIPTION:November Meeting: Talk on Divination and Decorating of 2023 Giving Tree\n \nA third generation Psychic from RoyalPath.info\, Elisha Fields\, will talk about divination using Tarot cards.   Elisha\, a lifelong student of metaphysics\, has always been involved in mystical thought. \nThere will be several types of oracle tools on display and three drawings for an opportunity to win a one-card reading. \nAfter Elisha’s presentation we will stay and decorate the Women’s Circle Giving Tree.  \nDate: Saturday\, November 4th\nTime: 10:30 am – 12:00 pm\nLocation: The Chapel \nFor questions please contact:  Ann Sears  decatursearsie@gmail.com\n \nAbout Unity Atlanta Church Women’s Circle:\nWe are the women of Unity Atlanta Church and we meet once a month\, on the 1st  Saturday. We practice a balance in spiritual growth\, and social activities\, sharing and support…support for each other\, our church and our community. \n 
URL:https://unityatl.org/events/unity-atlanta-church-womens-circle-5/
LOCATION:Unity Atlanta\, 3597 Parkway Lane\, Norcross\, 30092\, United States
GEO:33.9597203;-84.231198
X-APPLE-STRUCTURED-LOCATION;VALUE=URI;X-ADDRESS=Unity Atlanta 3597 Parkway Lane Norcross 30092 United States;X-APPLE-RADIUS=500;X-TITLE=3597 Parkway Lane:geo:-84.231198,33.9597203
END:VEVENT
END:VCALENDAR