BEGIN:VCALENDAR
VERSION:2.0
PRODID:-//Unity Atlanta Church - ECPv6.15.20//NONSGML v1.0//EN
CALSCALE:GREGORIAN
METHOD:PUBLISH
X-WR-CALNAME:Unity Atlanta Church
X-ORIGINAL-URL:https://unityatl.org
X-WR-CALDESC:Events for Unity Atlanta Church
REFRESH-INTERVAL;VALUE=DURATION:PT1H
X-Robots-Tag:noindex
X-PUBLISHED-TTL:PT1H
BEGIN:VTIMEZONE
TZID:America/New_York
BEGIN:DAYLIGHT
TZOFFSETFROM:-0500
TZOFFSETTO:-0400
TZNAME:EDT
DTSTART:20220313T070000
END:DAYLIGHT
BEGIN:STANDARD
TZOFFSETFROM:-0400
TZOFFSETTO:-0500
TZNAME:EST
DTSTART:20221106T060000
END:STANDARD
BEGIN:DAYLIGHT
TZOFFSETFROM:-0500
TZOFFSETTO:-0400
TZNAME:EDT
DTSTART:20230312T070000
END:DAYLIGHT
BEGIN:STANDARD
TZOFFSETFROM:-0400
TZOFFSETTO:-0500
TZNAME:EST
DTSTART:20231105T060000
END:STANDARD
BEGIN:DAYLIGHT
TZOFFSETFROM:-0500
TZOFFSETTO:-0400
TZNAME:EDT
DTSTART:20240310T070000
END:DAYLIGHT
BEGIN:STANDARD
TZOFFSETFROM:-0400
TZOFFSETTO:-0500
TZNAME:EST
DTSTART:20241103T060000
END:STANDARD
END:VTIMEZONE
BEGIN:VEVENT
DTSTART;TZID=America/New_York:20231022T084500
DTEND;TZID=America/New_York:20231022T103000
DTSTAMP:20260424T011544
CREATED:20220217T190434Z
LAST-MODIFIED:20221221T191822Z
UID:10001534-1697964300-1697970600@unityatl.org
SUMMARY:Practicing the Presence—A Course in Miracles with Michael Wilkinson--via Zoom
DESCRIPTION:Practicing the Presence—A Course in Miracles\nWeekly Group Study Over Zoom!\nThis course aims at removing the blocks to the awareness of love’s presence. The opposite of love is fear\, but what is all-encompassing can have no opposite. \nThis course can be summed up very simply:   Nothing real can be threatened. Nothing unreal exists. Herein lies the peace of God. \nFacilitator: Michael Wilkinson          Sunday’s at 8:45 – 10:30 AM \nThis is an open and ongoing class.  All are welcome.  Drop-in any time.\nBooks can be ordered through The Wisdom Well-Unity Atlanta’s bookstore. \nNew people are very welcome to join!  If you are interested\, please email MWilkinson@leadstrat.com in order to receive the Zoom log-in information. 
URL:https://unityatl.org/events/practicing-the-presence-a-course-in-miracles-with-michael-wilkinson-via-zoom/2023-10-22/
LOCATION:Unity Atlanta\, 3597 Parkway Lane\, Norcross\, 30092\, United States
GEO:33.9597203;-84.231198
X-APPLE-STRUCTURED-LOCATION;VALUE=URI;X-ADDRESS=Unity Atlanta 3597 Parkway Lane Norcross 30092 United States;X-APPLE-RADIUS=500;X-TITLE=3597 Parkway Lane:geo:-84.231198,33.9597203
END:VEVENT
BEGIN:VEVENT
DTSTART;TZID=America/New_York:20231022T093000
DTEND;TZID=America/New_York:20231022T104500
DTSTAMP:20260424T011544
CREATED:20231003T192622Z
LAST-MODIFIED:20231003T192622Z
UID:10002429-1697967000-1697971500@unityatl.org
SUMMARY:Fall Faith Small Group--In Person with Jan Gurr\, LUT
DESCRIPTION:What is Truth… and how are you using it? Come explore in small group discussion practical ways to heal your life by the power of thoughts and beliefs\, how to find truth as it is written in your heart and how to apply these truths in every area (health\, relationships\, abundance) of your life. \nOne of Unity’s beloved metaphysicians\, H. Emilie Cady\, the first self-employed female doctor of homeopathic medicine\, practiced medicine both medically and spiritually. Her book\, How I Used Truth\, is a series of personal essays that provided a proven metaphysical treatment (resolution) for many of life’s challenging situations. We will use her text as a jumping off point to explore and prove to ourselves that we\, too\, can be empowered\, inspired\, healed and prospered. \nSundays (In Person Only) at Unity Atlanta: October 8\, 15\, 22\, 29 and Nov 5\, 12   9:30 AM – 10:45 AM  in Staff Conference Room\nFacilitated by Jan Gurr\n6 week series\, NO REGISTRATION REQUIRED
URL:https://unityatl.org/events/fall-faith-small-group-in-person-with-jan-gurr-lut/2023-10-22/
LOCATION:Unity Atlanta\, 3597 Parkway Lane\, Norcross\, 30092\, United States
GEO:33.9597203;-84.231198
X-APPLE-STRUCTURED-LOCATION;VALUE=URI;X-ADDRESS=Unity Atlanta 3597 Parkway Lane Norcross 30092 United States;X-APPLE-RADIUS=500;X-TITLE=3597 Parkway Lane:geo:-84.231198,33.9597203
END:VEVENT
BEGIN:VEVENT
DTSTART;TZID=America/New_York:20231022T100000
DTEND;TZID=America/New_York:20231022T123000
DTSTAMP:20260424T011544
CREATED:20230830T143215Z
LAST-MODIFIED:20230830T143215Z
UID:10001709-1697968800-1697977800@unityatl.org
SUMMARY:Energy Healing Sessions
DESCRIPTION:Come Enjoy A Session in Our Healing Room!\n \nOur healing team\, Rob Alexander and Elisha Fields\, are joyfully ready to provide an energy healing session for you on Sunday mornings!  Rob is a Reiki Master and Elisha practices Magnified Healing. \nHealing Room Hours:  Sundays\, 10:00 – 11:00 am and for 30 minutes after services.\nLocation: Room 105\, off of the main lobby.  Sign in sheets are just inside the Healing Room.\nCost: Our healing practitioners provide healing sessions on a love offering basis. \nAbout our Healing Practitioners: \nRob Alexander:                                                                                                                                                           :\n \nRob is a certified Reiki Master who offers this Japanese technique for stress reduction and relaxation which is administered by holding the hands a few inches above the body and is based on the “life energy force” that flows through all of us. \n\nElisha Fields:\n\nElisha is a certified Magnified Healing Teacher offering chakra balancing as well as a pain-relief technique she developed in 1993 which has been successful with migraines and some localized pain. \n  \n  \n  \n 
URL:https://unityatl.org/events/reiki-healing-sessions-2-3-2-2-2/2023-10-22/
LOCATION:Unity Atlanta\, 3597 Parkway Lane\, Norcross\, 30092\, United States
GEO:33.9597203;-84.231198
X-APPLE-STRUCTURED-LOCATION;VALUE=URI;X-ADDRESS=Unity Atlanta 3597 Parkway Lane Norcross 30092 United States;X-APPLE-RADIUS=500;X-TITLE=3597 Parkway Lane:geo:-84.231198,33.9597203
END:VEVENT
BEGIN:VEVENT
DTSTART;TZID=America/New_York:20231022T100000
DTEND;TZID=America/New_York:20231022T130000
DTSTAMP:20260424T011544
CREATED:20220929T171101Z
LAST-MODIFIED:20240425T205921Z
UID:10001253-1697968800-1697979600@unityatl.org
SUMMARY:Wisdom Well Bookstore
DESCRIPTION:The Wisdom Well Bookstore\n\nOur metaphysical bookstore reflects the heart of Unity Atlanta Church. It offers a collection of new thought\, spiritual\, and self-help books. We know you’ll be inspired with the large selection of gift items. The bookstore also supports our  Adult Education classes with a supply of teaching materials and textbooks. Our volunteer Bookstore Angels are always eager to introduce a new book or reacquaint us with an old classic. \nWisdom Well Store Hours:  Sundays\, 10:00 AM – 1:00 PM \nLooking for a book in particular? \nTo contact:  unitywisdomwell@gmail.com  or call the church office: 770-441-0585 \n\n  \n  \n  \n  \nWe have books for diverse interests:                                                                                  We also have many gifts including:            \nSpirituality                                                                                                                                Bimonthly issues of Unity Magazine\nBibles & Bible Reference Books                                                                                              Bimonthly issues of Daily Word\nPrayer & Meditation                                                                                                                 Greeting Cards\nInspiration & Motivation                                                                                                           Affirmation and 12 power stones\nRelationships                                                                                                                          Candles\nHealth & Healing                                                                                                                     Meditative scents\nTransitioning & Grieving                                                                                                          Notepads\nAngels                                                                                                                                     T-shirts\nBooks for children                                                                                                                   Bookmarks \n  \n 
URL:https://unityatl.org/events/wisdom-well-bookstore/2023-10-22/
LOCATION:Unity Atlanta\, 3597 Parkway Lane\, Norcross\, 30092\, United States
GEO:33.9597203;-84.231198
X-APPLE-STRUCTURED-LOCATION;VALUE=URI;X-ADDRESS=Unity Atlanta 3597 Parkway Lane Norcross 30092 United States;X-APPLE-RADIUS=500;X-TITLE=3597 Parkway Lane:geo:-84.231198,33.9597203
END:VEVENT
BEGIN:VEVENT
DTSTART;TZID=America/New_York:20231022T110000
DTEND;TZID=America/New_York:20231022T120000
DTSTAMP:20260424T011544
CREATED:20230921T152110Z
LAST-MODIFIED:20231011T180306Z
UID:10002421-1697972400-1697976000@unityatl.org
SUMMARY:Sunday Message with Rev. Steve Bolen\, Guest Speaker
DESCRIPTION:How To Use Truth: A Faith Journey for Fall\n \nJoin us this Sunday\, October 22 at 11:00 am Eastern time\, in person or via livestream\, as we are delighted to welcome Rev. Steve and Mary Bolen back with us. \nDate: Sunday\, October 22\nTime: 11:00 am EST\nMessage: “Discerning Truth”–Rev. Steve will share with us the Truth that –“Nothing real can be threatened. Nothing unreal exists.” A Course in Miracles Message Theme: When we attempt to bring truth to illusion\, we become confused; our energies are scattered. If\, instead\, we stand firm in the One Reality of God\, of Love\, and raise the “grand” illusion of separation from God and each other to the level of Truth\, our minds become settled and we have clear direction. Peace is restored to our minds and hearts. \nFall Faith Color:  We invite you to wear Pastels this Sunday!                                                             \nTo Live Stream the 11:00 AM Service:\n1. Live Stream https://unityatl.org/live-stream/\n2. Face Book https://www.facebook.com/UnityAtlanta \n  \nAbout Our Fall Message Series: How To Use Truth: A Faith Journey For Fall \nTruth – with a capital “T” – is what’s Absolute in the Universe\, always and unchanging.  Truth is God’s pure\, original\, divine ideas that endure for all time.  Truth is simple; it has no exceptions. \nIt can be challenging to understand Truth intellectually\, but we can perceive Truth when we let it be revealed\, not only by praying and meditating\, but by discerning how to act no matter what’s occurring in our lives.  When we choose to use Truth\, we don’t have to accept things as so; we prove them\, according to spiritual law\, for ourselves.  Then\, we can be empowered\, inspired\, healed\, and prospered in the most fulfilling ways. \nJoin us each Sunday at 11:00 am Eastern time\, in person or via livestream\, as we discover the riches of Truth in our daily lives.
URL:https://unityatl.org/events/sunday-message-with-rev-steve-bolen-guest-speaker/
LOCATION:Unity Atlanta\, 3597 Parkway Lane\, Norcross\, 30092\, United States
GEO:33.9597203;-84.231198
X-APPLE-STRUCTURED-LOCATION;VALUE=URI;X-ADDRESS=Unity Atlanta 3597 Parkway Lane Norcross 30092 United States;X-APPLE-RADIUS=500;X-TITLE=3597 Parkway Lane:geo:-84.231198,33.9597203
END:VEVENT
BEGIN:VEVENT
DTSTART;TZID=America/New_York:20231023T183000
DTEND;TZID=America/New_York:20231023T200000
DTSTAMP:20260424T011544
CREATED:20230830T174148Z
LAST-MODIFIED:20230830T174148Z
UID:10002402-1698085800-1698091200@unityatl.org
SUMMARY:Toastmasters
DESCRIPTION:Looking for an opportunity to work on your speaking and public presentation skills? We are happy to have Toastmasters meet here at the church.\n \nDates:  2nd\, 3rd\, and 4th Mondays   (No meeting the weeks of Thanksgiving or Christmas)\nTime: 6:30 – 8:00pm\nLocation: Fellowship Hall \nGuests are always welcome! \nFor more information please contact:  Ajaye Hopper 678-622-2225 info@topshelftm.com
URL:https://unityatl.org/events/toastmasters/2023-10-23/
LOCATION:Unity Atlanta\, 3597 Parkway Lane\, Norcross\, 30092\, United States
GEO:33.9597203;-84.231198
X-APPLE-STRUCTURED-LOCATION;VALUE=URI;X-ADDRESS=Unity Atlanta 3597 Parkway Lane Norcross 30092 United States;X-APPLE-RADIUS=500;X-TITLE=3597 Parkway Lane:geo:-84.231198,33.9597203
END:VEVENT
BEGIN:VEVENT
DTSTART;TZID=America/New_York:20231026T183000
DTEND;TZID=America/New_York:20231026T203000
DTSTAMP:20260424T011544
CREATED:20231003T193003Z
LAST-MODIFIED:20231003T193003Z
UID:10002435-1698345000-1698352200@unityatl.org
SUMMARY:Fall Faith Small Group--On Zoom with Freda Steward
DESCRIPTION:What is Truth… and how are you using it? Come explore in small group discussion practical ways to heal your life by the power of thoughts and beliefs\, how to find truth as it is written in your heart and how to apply these truths in every area (health\, relationships\, abundance) of your life. \nOne of Unity’s beloved metaphysicians\, H. Emilie Cady\, the first self-employed female doctor of homeopathic medicine\, practiced medicine both medically and spiritually. Her book\, How I Used Truth\, is a series of personal essays that provided a proven metaphysical treatment (resolution) for many of life’s challenging situations. We will use her text as a jumping off point to explore and prove to ourselves that we\, too\, can be empowered\, inspired\, healed and prospered. \nThursdays (Zoom Only):  October 12\, 19\, 26 and Nov 2 and 9    6:30 PM – 8:30 PM\nFacilitated by Freda Steward \n5 week series\, REGISTRATION IS REQUIRED to receive the Zoom link: https://us02web.zoom.us/meeting/register/tZUufuqhrTkjEteobJz2KAY5r6gqBFSZYzTL \nAfter registering\, you will receive a confirmation email containing information about how to join the meeting.
URL:https://unityatl.org/events/fall-faith-small-group-on-zoom-with-freda-steward/2023-10-26/
LOCATION:Unity Atlanta\, 3597 Parkway Lane\, Norcross\, 30092\, United States
GEO:33.9597203;-84.231198
X-APPLE-STRUCTURED-LOCATION;VALUE=URI;X-ADDRESS=Unity Atlanta 3597 Parkway Lane Norcross 30092 United States;X-APPLE-RADIUS=500;X-TITLE=3597 Parkway Lane:geo:-84.231198,33.9597203
END:VEVENT
BEGIN:VEVENT
DTSTART;TZID=America/New_York:20231026T190000
DTEND;TZID=America/New_York:20231026T200000
DTSTAMP:20260424T011544
CREATED:20231003T163116Z
LAST-MODIFIED:20231003T163116Z
UID:10002426-1698346800-1698350400@unityatl.org
SUMMARY:October Sound Bath with Raye Andrews
DESCRIPTION:October Sound Bath with Raye Andrews\n \nDate: Thursday\, October 26\nTime: 7:00pm EST\nLocation: Chapel\nCost: Love Offering \nAutumn is here and we can feel the shifting of gears and a falling into step with the new dance of the season. Join Raye Andrews at Unity Atlanta Church for a beautiful symphony of vibrational sound that will ease you into alignment with the flow of this seasonal movement. Come connect in the sound frequencies of love\, relaxation\, harmony\, and balance. \nPlease bring whatever will assist you in being comfortable and cozy. Yoga mats\, blankets\, pillows\, eye covers and water to drink on your ride home. \nThis beautiful event is free to all. We are asking a suggested love offering of $20\, or whatever you can give in support. Everyone is lovingly welcomed. \nLove offerings can be made in person or online: https://unityatl.org/donate-online/ \n  \n 
URL:https://unityatl.org/events/october-sound-bath-with-raye-andrews/
LOCATION:Unity Atlanta\, 3597 Parkway Lane\, Norcross\, 30092\, United States
GEO:33.9597203;-84.231198
X-APPLE-STRUCTURED-LOCATION;VALUE=URI;X-ADDRESS=Unity Atlanta 3597 Parkway Lane Norcross 30092 United States;X-APPLE-RADIUS=500;X-TITLE=3597 Parkway Lane:geo:-84.231198,33.9597203
END:VEVENT
BEGIN:VEVENT
DTSTART;TZID=America/New_York:20231026T193000
DTEND;TZID=America/New_York:20231026T210000
DTSTAMP:20260424T011544
CREATED:20230322T183041Z
LAST-MODIFIED:20241031T174435Z
UID:10001774-1698348600-1698354000@unityatl.org
SUMMARY:Unity Atlanta Men's Group
DESCRIPTION:Unity Atlanta Men’s Group \nThe men’s group meets onsite at the church the 1st – 3rd Thursdays of the month.  The 4th (and if applicable\, the 5th) Thursday is often a Game Night\, or one of a number of various activities. \n \nFor any questions\, including the logistics for the 4th and 5th Thursdays\, please TEXT Steve Peck at 770-639-5242 or email him at speck3053@comcast.net   \nLocation:  Unity Atlanta Room 108   Time: 7:30 – 9:00 PM \nFor any questions\,  please TEXT Steve Peck at 770-639-5242 or email him at speck3053@comcast.net/      \nThe Unity Atlanta Men’s Group Meetings begin with a brief 1-2 minute check-in during which each member shares how his week went\, what’s gong on in his life\, and any success or challenges he may be experiencing. \nWe then move on to a topic\, which either arises during the check-in or has been prepared in advance by one of the members.  Topics\, week from week\, have a wide range of subjects.  We share from our own experience rather than giving opinions or advice or telling stories.  Through this sharing\, a sense of brotherhood develops with the individual members while retaining an openness that is welcoming to all. \nOccasionally\, we also conduct public outreach\, and each fall we sponsor a men only retreat. \nMission Statement: \n\nWe are a self-supporting\, self-facilitating\, spiritually-based group\nWe remind each other that we are all connected and learn from our collective wisdom\nWe promote spirituality\, growth\, learning and community\nWe support each other and remind each other to live “in faith”\nWe share our lives\, our joy\, and our abundance to become like-minded brothers\nWe radiate our spirituality to our families\, friends and the world\nWe express our feelings and emotions through healthy communication\nRegardless of our means and circumstances\, we are friends and equals\nWe are here–join us!
URL:https://unityatl.org/events/unity-atlanta-mens-group-18/2023-10-26/
LOCATION:Unity Atlanta\, 3597 Parkway Lane\, Norcross\, 30092\, United States
GEO:33.9597203;-84.231198
X-APPLE-STRUCTURED-LOCATION;VALUE=URI;X-ADDRESS=Unity Atlanta 3597 Parkway Lane Norcross 30092 United States;X-APPLE-RADIUS=500;X-TITLE=3597 Parkway Lane:geo:-84.231198,33.9597203
END:VEVENT
BEGIN:VEVENT
DTSTART;TZID=America/New_York:20231028T083000
DTEND;TZID=America/New_York:20231028T100000
DTSTAMP:20260424T011544
CREATED:20231010T164923Z
LAST-MODIFIED:20231010T164923Z
UID:10002439-1698481800-1698487200@unityatl.org
SUMMARY:Run/Walk Club: Northside Beltline
DESCRIPTION:Join the Run/Walk Group on Saturday Morning\, October 28th on the Northside Beltline\n \nThe Run/Walk group is planning a get together to walk or run on Saturday\, October 28th on the Northside Beltline. \nWe will meet at 8:30am at the Bitsy Grant Tennis Center parking deck located at 2125 Northside Dr. Atlanta\, GA 30305 \n\nEveryone can walk or run at their own pace and meet back where we started.\nRemember to bring your fluids; water\, Powerade\, etc.\nAfterwards all who would like to can join us for breakfast.\n\nIf you would like to participate in this event but have not provided your email/phone number\, please send them to me. Chuck Speight  cesdisc@yahoo.com  770-842-4150 \n(We will provide more information within the next couple of weeks) \n 
URL:https://unityatl.org/events/run-walk-club-northside-beltline/
LOCATION:Unity Atlanta\, 3597 Parkway Lane\, Norcross\, 30092\, United States
GEO:33.9597203;-84.231198
X-APPLE-STRUCTURED-LOCATION;VALUE=URI;X-ADDRESS=Unity Atlanta 3597 Parkway Lane Norcross 30092 United States;X-APPLE-RADIUS=500;X-TITLE=3597 Parkway Lane:geo:-84.231198,33.9597203
END:VEVENT
END:VCALENDAR