BEGIN:VCALENDAR
VERSION:2.0
PRODID:-//Unity Atlanta Church - ECPv6.15.20//NONSGML v1.0//EN
CALSCALE:GREGORIAN
METHOD:PUBLISH
X-ORIGINAL-URL:https://unityatl.org
X-WR-CALDESC:Events for Unity Atlanta Church
REFRESH-INTERVAL;VALUE=DURATION:PT1H
X-Robots-Tag:noindex
X-PUBLISHED-TTL:PT1H
BEGIN:VTIMEZONE
TZID:America/New_York
BEGIN:DAYLIGHT
TZOFFSETFROM:-0500
TZOFFSETTO:-0400
TZNAME:EDT
DTSTART:20220313T070000
END:DAYLIGHT
BEGIN:STANDARD
TZOFFSETFROM:-0400
TZOFFSETTO:-0500
TZNAME:EST
DTSTART:20221106T060000
END:STANDARD
BEGIN:DAYLIGHT
TZOFFSETFROM:-0500
TZOFFSETTO:-0400
TZNAME:EDT
DTSTART:20230312T070000
END:DAYLIGHT
BEGIN:STANDARD
TZOFFSETFROM:-0400
TZOFFSETTO:-0500
TZNAME:EST
DTSTART:20231105T060000
END:STANDARD
BEGIN:DAYLIGHT
TZOFFSETFROM:-0500
TZOFFSETTO:-0400
TZNAME:EDT
DTSTART:20240310T070000
END:DAYLIGHT
BEGIN:STANDARD
TZOFFSETFROM:-0400
TZOFFSETTO:-0500
TZNAME:EST
DTSTART:20241103T060000
END:STANDARD
END:VTIMEZONE
BEGIN:VEVENT
DTSTART;TZID=America/New_York:20230827T084500
DTEND;TZID=America/New_York:20230827T103000
DTSTAMP:20260424T021554
CREATED:20220217T190434Z
LAST-MODIFIED:20221221T191822Z
UID:10001526-1693125900-1693132200@unityatl.org
SUMMARY:Practicing the Presence—A Course in Miracles with Michael Wilkinson--via Zoom
DESCRIPTION:Practicing the Presence—A Course in Miracles\nWeekly Group Study Over Zoom!\nThis course aims at removing the blocks to the awareness of love’s presence. The opposite of love is fear\, but what is all-encompassing can have no opposite. \nThis course can be summed up very simply:   Nothing real can be threatened. Nothing unreal exists. Herein lies the peace of God. \nFacilitator: Michael Wilkinson          Sunday’s at 8:45 – 10:30 AM \nThis is an open and ongoing class.  All are welcome.  Drop-in any time.\nBooks can be ordered through The Wisdom Well-Unity Atlanta’s bookstore. \nNew people are very welcome to join!  If you are interested\, please email MWilkinson@leadstrat.com in order to receive the Zoom log-in information. 
URL:https://unityatl.org/events/practicing-the-presence-a-course-in-miracles-with-michael-wilkinson-via-zoom/2023-08-27/
LOCATION:Unity Atlanta\, 3597 Parkway Lane\, Norcross\, 30092\, United States
GEO:33.9597203;-84.231198
X-APPLE-STRUCTURED-LOCATION;VALUE=URI;X-ADDRESS=Unity Atlanta 3597 Parkway Lane Norcross 30092 United States;X-APPLE-RADIUS=500;X-TITLE=3597 Parkway Lane:geo:-84.231198,33.9597203
END:VEVENT
BEGIN:VEVENT
DTSTART;TZID=America/New_York:20230827T093000
DTEND;TZID=America/New_York:20230827T104500
DTSTAMP:20260424T021554
CREATED:20230628T191907Z
LAST-MODIFIED:20230628T194734Z
UID:10002104-1693128600-1693133100@unityatl.org
SUMMARY:Small Group Onsite: Metaphysics Goes to the Movies
DESCRIPTION:Deep Dive Into The Metaphysics of Movies with Small Groups and Myrtle Fillmore with Facilitator Jan Gurr\n \nWe have three small groups during our Summer Message series\, for all who would like to dive more deeply into the metaphysical wisdom\, wonder\, and magic of each of the movies.  These themes will be accompanied each week by wisdom from Myrtle Fillmore’s Healing Letters. \nSmall groups are a wonderful opportunity for spiritual growth and fellowship with our community! We have one onsite and two zoom options. \nIn advance of each weekly themed movie\, registered participants will receive a guide (Myrtle’s Meta  Movie Memo \, 4M) sharing Myrtle’s wisdom from the book Healing Letters. \nSunday Mornings – In person only    Jan Gurr\, Facilitator   9:30 – 10:45AM   July 23 – Aug 27 \nChurch Office Small Conference Room   (no registration needed for Sunday group) \nClick here for information on the Tuesday evening and Wednesday Evening Zoom options.
URL:https://unityatl.org/events/small-group-metaphysics-goes-to-the-movies/2023-08-27/
LOCATION:Unity Atlanta\, 3597 Parkway Lane\, Norcross\, 30092\, United States
GEO:33.9597203;-84.231198
X-APPLE-STRUCTURED-LOCATION;VALUE=URI;X-ADDRESS=Unity Atlanta 3597 Parkway Lane Norcross 30092 United States;X-APPLE-RADIUS=500;X-TITLE=3597 Parkway Lane:geo:-84.231198,33.9597203
END:VEVENT
BEGIN:VEVENT
DTSTART;TZID=America/New_York:20230827T100000
DTEND;TZID=America/New_York:20230827T123000
DTSTAMP:20260424T021554
CREATED:20230713T194206Z
LAST-MODIFIED:20230713T194206Z
UID:10001701-1693130400-1693139400@unityatl.org
SUMMARY:Energy Healing Sessions
DESCRIPTION:Come Enjoy A Session in Our Healing Room!\nOur healing team\, Rob Alexander and Elisha Fields\, are joyfully ready to provide an energy healing session for you on Sunday mornings!  Rob is a Reiki Master and Elisha practices Magnified Healing. \nHealing Room Hours:  Sundays\, 10:00 – 11:00 am and for 30 minutes after services.\nLocation: Room 105\, off of the main lobby.  Sign in sheets are just inside the Healing Room.\nCost: Our healing practitioners provide healing sessions on a love offering basis. \nAbout our Healing Practitioners: \nRob Alexander:                                                                                                                                                           :\n \nRob is a certified Reiki Master who offers this Japanese technique for stress reduction and relaxation which is administered by holding the hands a few inches above the body and is based on the “life energy force” that flows through all of us. \n\nElisha Fields:\n\nElisha is a certified Magnified Healing Teacher offering chakra balancing as well as a pain-relief technique she developed in 1993 which has been successful with migraines and some localized pain. \n  \n  \n  \n 
URL:https://unityatl.org/events/reiki-healing-sessions-2-3-2-2/2023-08-27/
LOCATION:Unity Atlanta\, 3597 Parkway Lane\, Norcross\, 30092\, United States
GEO:33.9597203;-84.231198
X-APPLE-STRUCTURED-LOCATION;VALUE=URI;X-ADDRESS=Unity Atlanta 3597 Parkway Lane Norcross 30092 United States;X-APPLE-RADIUS=500;X-TITLE=3597 Parkway Lane:geo:-84.231198,33.9597203
END:VEVENT
BEGIN:VEVENT
DTSTART;TZID=America/New_York:20230827T100000
DTEND;TZID=America/New_York:20230827T130000
DTSTAMP:20260424T021554
CREATED:20220929T171101Z
LAST-MODIFIED:20240425T205921Z
UID:10001245-1693130400-1693141200@unityatl.org
SUMMARY:Wisdom Well Bookstore
DESCRIPTION:The Wisdom Well Bookstore\n\nOur metaphysical bookstore reflects the heart of Unity Atlanta Church. It offers a collection of new thought\, spiritual\, and self-help books. We know you’ll be inspired with the large selection of gift items. The bookstore also supports our  Adult Education classes with a supply of teaching materials and textbooks. Our volunteer Bookstore Angels are always eager to introduce a new book or reacquaint us with an old classic. \nWisdom Well Store Hours:  Sundays\, 10:00 AM – 1:00 PM \nLooking for a book in particular? \nTo contact:  unitywisdomwell@gmail.com  or call the church office: 770-441-0585 \n\n  \n  \n  \n  \nWe have books for diverse interests:                                                                                  We also have many gifts including:            \nSpirituality                                                                                                                                Bimonthly issues of Unity Magazine\nBibles & Bible Reference Books                                                                                              Bimonthly issues of Daily Word\nPrayer & Meditation                                                                                                                 Greeting Cards\nInspiration & Motivation                                                                                                           Affirmation and 12 power stones\nRelationships                                                                                                                          Candles\nHealth & Healing                                                                                                                     Meditative scents\nTransitioning & Grieving                                                                                                          Notepads\nAngels                                                                                                                                     T-shirts\nBooks for children                                                                                                                   Bookmarks \n  \n 
URL:https://unityatl.org/events/wisdom-well-bookstore/2023-08-27/
LOCATION:Unity Atlanta\, 3597 Parkway Lane\, Norcross\, 30092\, United States
GEO:33.9597203;-84.231198
X-APPLE-STRUCTURED-LOCATION;VALUE=URI;X-ADDRESS=Unity Atlanta 3597 Parkway Lane Norcross 30092 United States;X-APPLE-RADIUS=500;X-TITLE=3597 Parkway Lane:geo:-84.231198,33.9597203
END:VEVENT
BEGIN:VEVENT
DTSTART;TZID=America/New_York:20230827T110000
DTEND;TZID=America/New_York:20230827T120000
DTSTAMP:20260424T021554
CREATED:20230628T174444Z
LAST-MODIFIED:20230628T174444Z
UID:10002097-1693134000-1693137600@unityatl.org
SUMMARY:Sunday Message: Living Your Mission (Jerry Maguire)
DESCRIPTION:Metaphysics Goes to the Movies – Messages for Summer 2023\nStarry nights at the drive-in\, rainy-day double features\, the whole family gathered around the flat screen.  Whatever way we watch and enjoy movies\, our favorites speak to our hearts and resonate with our souls.  Each story\, character\, plot\, and setting provides a literal and metaphysical glimpse into other lives and lifetimes.  And no matter how these stories unfold\, we know we can be forever changed by their wisdom\, wonder\, and love. \nEach Sunday\, of our Summer message series\, we will explore the themes of cinema that empower us to honor the spirit within us all. \n \nDate: August 27\nTime: 11:00am\nMessage title:  Living Your Mission\nMessage Theme: This Sunday Rev. Jenn will explore the metaphysical themes in Jerry Maguire and how our true mission prospers us–and others–with all we need to thrive. \nTo Live Stream the 11:00 AM Service:\n1. Live Stream https://unityatl.org/live-stream/\n2. Face Book https://www.facebook.com/UnityAtlanta \nSee all the movies to be explored this summer here. 
URL:https://unityatl.org/events/sunday-message-living-your-mission-jerry-maguire/
LOCATION:Unity Atlanta\, 3597 Parkway Lane\, Norcross\, 30092\, United States
GEO:33.9597203;-84.231198
X-APPLE-STRUCTURED-LOCATION;VALUE=URI;X-ADDRESS=Unity Atlanta 3597 Parkway Lane Norcross 30092 United States;X-APPLE-RADIUS=500;X-TITLE=3597 Parkway Lane:geo:-84.231198,33.9597203
END:VEVENT
BEGIN:VEVENT
DTSTART;TZID=America/New_York:20230827T123000
DTEND;TZID=America/New_York:20230827T133000
DTSTAMP:20260424T021554
CREATED:20230713T154604Z
LAST-MODIFIED:20230713T154604Z
UID:10002119-1693139400-1693143000@unityatl.org
SUMMARY:Spiritual Café with Rev. Jenn
DESCRIPTION:Join Rev. Jenn for a Brown Bag Spiritual Café: August 27th at 12:30pm\n \nA time to talk\, share\, and enjoy one another!  Bring your lunch and stay after services for nourishment for body\, mind\, and soul! \nDates: Sunday\, August 27th\nTime: 12:30 pm\, bring your lunch\nLocation: Fellowship Hall \nDiscuss the weekly devotional/Sunday message • Have time together \nAnd as always with Spiritual Café\, we will conclude with prayer.
URL:https://unityatl.org/events/spiritual-cafe-with-rev-jenn-3/
LOCATION:Unity Atlanta\, 3597 Parkway Lane\, Norcross\, 30092\, United States
GEO:33.9597203;-84.231198
X-APPLE-STRUCTURED-LOCATION;VALUE=URI;X-ADDRESS=Unity Atlanta 3597 Parkway Lane Norcross 30092 United States;X-APPLE-RADIUS=500;X-TITLE=3597 Parkway Lane:geo:-84.231198,33.9597203
END:VEVENT
BEGIN:VEVENT
DTSTART;TZID=America/New_York:20230829T190000
DTEND;TZID=America/New_York:20230829T203000
DTSTAMP:20260424T021554
CREATED:20230628T192350Z
LAST-MODIFIED:20230628T194826Z
UID:10002110-1693335600-1693341000@unityatl.org
SUMMARY:Small Group on Zoom: Metaphysics Goes to the Movies
DESCRIPTION:Deep Dive Into The Metaphysics of Movies with Small Groups and Myrtle Fillmore with Facilitator Jan Gurr\n \nWe have three small groups during our Summer Message series\, for all who would like to dive more deeply into the metaphysical wisdom\, wonder\, and magic of each of the movies.  These themes will be accompanied each week by wisdom from Myrtle Fillmore’s Healing Letters. \nSmall groups are a wonderful opportunity for spiritual growth and fellowship with our community! We have one onsite and two zoom options. \nIn advance of each weekly themed movie\, registered participants will receive a guide (Myrtle’s Meta  Movie Memo \, 4M) sharing Myrtle’s wisdom from the book Healing Letters. \nTuesday Evenings        Zoom        Jan Gurr\, Facilitator   7 – 8:30PM                July 25 – Aug 29\nRegister in advance for this meeting: https://us06web.zoom.us/meeting/register/tZYlce2tqTwrE9X40FwMPdcf17Xz_vSn27B6\nAfter registering\, you will receive a confirmation email containing information about joining the meeting \nClick for details about the Sunday morning in person option and Wednesday evening Zoom option.
URL:https://unityatl.org/events/small-group-on-zoom-metaphysics-goes-to-the-movies/2023-08-29/
LOCATION:Unity Atlanta\, 3597 Parkway Lane\, Norcross\, 30092\, United States
GEO:33.9597203;-84.231198
X-APPLE-STRUCTURED-LOCATION;VALUE=URI;X-ADDRESS=Unity Atlanta 3597 Parkway Lane Norcross 30092 United States;X-APPLE-RADIUS=500;X-TITLE=3597 Parkway Lane:geo:-84.231198,33.9597203
END:VEVENT
BEGIN:VEVENT
DTSTART;TZID=America/New_York:20230830T183000
DTEND;TZID=America/New_York:20230830T203000
DTSTAMP:20260424T021554
CREATED:20230628T192834Z
LAST-MODIFIED:20230628T194907Z
UID:10002116-1693420200-1693427400@unityatl.org
SUMMARY:Small Group Zoom: Metaphysics Goes to the Movies
DESCRIPTION:Deep Dive Into The Metaphysics of Movies with Small Groups and Myrtle Fillmore with Facilitator Freda Steward\n \nWe have three small groups during our Summer Message series\, for all who would like to dive more deeply into the metaphysical wisdom\, wonder\, and magic of each of the movies.  These themes will be accompanied each week by wisdom from Myrtle Fillmore’s Healing Letters. \nSmall groups are a wonderful opportunity for spiritual growth and fellowship with our community! We have one onsite and two zoom options. \nIn advance of each weekly themed movie\, registered participants will receive a guide (Myrtle’s Meta  Movie Memo \, 4M) sharing Myrtle’s wisdom from the book Healing Letters. \nWednesday Evening   Zoom        Freda Steward\, Facilitator  6:30 – 8:30PM  July 26 – Aug 30\nRegister in advance for this meeting:\nhttps://us02web.zoom.us/meeting/register/tZIucuuvqzooHNf8xKS5ok-11GoYM2DGMkXe\nAfter registering\, you will receive a confirmation email containing information about joining the meeting. \nClick here for information on the Sunday Morning onsite and Wednesday Evening Zoom options.
URL:https://unityatl.org/events/small-group-zoom-metaphysics-goes-to-the-movies/2023-08-30/
LOCATION:Unity Atlanta\, 3597 Parkway Lane\, Norcross\, 30092\, United States
GEO:33.9597203;-84.231198
X-APPLE-STRUCTURED-LOCATION;VALUE=URI;X-ADDRESS=Unity Atlanta 3597 Parkway Lane Norcross 30092 United States;X-APPLE-RADIUS=500;X-TITLE=3597 Parkway Lane:geo:-84.231198,33.9597203
END:VEVENT
BEGIN:VEVENT
DTSTART;TZID=America/New_York:20230831T193000
DTEND;TZID=America/New_York:20230831T210000
DTSTAMP:20260424T021554
CREATED:20230322T183041Z
LAST-MODIFIED:20241031T174435Z
UID:10001766-1693510200-1693515600@unityatl.org
SUMMARY:Unity Atlanta Men's Group
DESCRIPTION:Unity Atlanta Men’s Group \nThe men’s group meets onsite at the church the 1st – 3rd Thursdays of the month.  The 4th (and if applicable\, the 5th) Thursday is often a Game Night\, or one of a number of various activities. \n \nFor any questions\, including the logistics for the 4th and 5th Thursdays\, please TEXT Steve Peck at 770-639-5242 or email him at speck3053@comcast.net   \nLocation:  Unity Atlanta Room 108   Time: 7:30 – 9:00 PM \nFor any questions\,  please TEXT Steve Peck at 770-639-5242 or email him at speck3053@comcast.net/      \nThe Unity Atlanta Men’s Group Meetings begin with a brief 1-2 minute check-in during which each member shares how his week went\, what’s gong on in his life\, and any success or challenges he may be experiencing. \nWe then move on to a topic\, which either arises during the check-in or has been prepared in advance by one of the members.  Topics\, week from week\, have a wide range of subjects.  We share from our own experience rather than giving opinions or advice or telling stories.  Through this sharing\, a sense of brotherhood develops with the individual members while retaining an openness that is welcoming to all. \nOccasionally\, we also conduct public outreach\, and each fall we sponsor a men only retreat. \nMission Statement: \n\nWe are a self-supporting\, self-facilitating\, spiritually-based group\nWe remind each other that we are all connected and learn from our collective wisdom\nWe promote spirituality\, growth\, learning and community\nWe support each other and remind each other to live “in faith”\nWe share our lives\, our joy\, and our abundance to become like-minded brothers\nWe radiate our spirituality to our families\, friends and the world\nWe express our feelings and emotions through healthy communication\nRegardless of our means and circumstances\, we are friends and equals\nWe are here–join us!
URL:https://unityatl.org/events/unity-atlanta-mens-group-18/2023-08-31/
LOCATION:Unity Atlanta\, 3597 Parkway Lane\, Norcross\, 30092\, United States
GEO:33.9597203;-84.231198
X-APPLE-STRUCTURED-LOCATION;VALUE=URI;X-ADDRESS=Unity Atlanta 3597 Parkway Lane Norcross 30092 United States;X-APPLE-RADIUS=500;X-TITLE=3597 Parkway Lane:geo:-84.231198,33.9597203
END:VEVENT
BEGIN:VEVENT
DTSTART;TZID=America/New_York:20230902T103000
DTEND;TZID=America/New_York:20230902T120000
DTSTAMP:20260424T021554
CREATED:20230817T142920Z
LAST-MODIFIED:20230817T142920Z
UID:10002063-1693650600-1693656000@unityatl.org
SUMMARY:Unity Atlanta Church Women's Circle
DESCRIPTION:Bring Your Favorite Recipe!  Saturday\, September 2nd\, 10:30am\n \nOur next Women’s Circle meeting is Saturday\, September 2nd\, at 10:30.\nPlease bring your favorite recipe and be ready to share why it’s your favorite. We would like to put together a small recipe book to be distributed to everyone\, and possibly expand tot he entire Unity community. \nWe will also be discussing ideas\, including some Bible verses\, in relation to food and spirituality.  And since we are talking about food\, hope that everyone can go to lunch afterwards! \nUnity Atlanta Church Women’s Circle:\nWe are the women of Unity Atlanta Church and we meet once a month\, on the 1st  Saturday. We practice a balance in spiritual growth\, and social activities\, sharing and support…support for each other\, our church and our community. \nDate: First Saturday of the Month\nTime: 10:30 am – 12:00 pm\nLocation: The Chapel \nFor questions please contact:  Ann Sears  decatursearsie@gmaill.com \n 
URL:https://unityatl.org/events/unity-atlanta-church-womens-circle-3/
LOCATION:Unity Atlanta\, 3597 Parkway Lane\, Norcross\, 30092\, United States
GEO:33.9597203;-84.231198
X-APPLE-STRUCTURED-LOCATION;VALUE=URI;X-ADDRESS=Unity Atlanta 3597 Parkway Lane Norcross 30092 United States;X-APPLE-RADIUS=500;X-TITLE=3597 Parkway Lane:geo:-84.231198,33.9597203
END:VEVENT
END:VCALENDAR