BEGIN:VCALENDAR
VERSION:2.0
PRODID:-//Unity Atlanta Church - ECPv6.15.20//NONSGML v1.0//EN
CALSCALE:GREGORIAN
METHOD:PUBLISH
X-WR-CALNAME:Unity Atlanta Church
X-ORIGINAL-URL:https://unityatl.org
X-WR-CALDESC:Events for Unity Atlanta Church
REFRESH-INTERVAL;VALUE=DURATION:PT1H
X-Robots-Tag:noindex
X-PUBLISHED-TTL:PT1H
BEGIN:VTIMEZONE
TZID:America/New_York
BEGIN:DAYLIGHT
TZOFFSETFROM:-0500
TZOFFSETTO:-0400
TZNAME:EDT
DTSTART:20220313T070000
END:DAYLIGHT
BEGIN:STANDARD
TZOFFSETFROM:-0400
TZOFFSETTO:-0500
TZNAME:EST
DTSTART:20221106T060000
END:STANDARD
BEGIN:DAYLIGHT
TZOFFSETFROM:-0500
TZOFFSETTO:-0400
TZNAME:EDT
DTSTART:20230312T070000
END:DAYLIGHT
BEGIN:STANDARD
TZOFFSETFROM:-0400
TZOFFSETTO:-0500
TZNAME:EST
DTSTART:20231105T060000
END:STANDARD
BEGIN:DAYLIGHT
TZOFFSETFROM:-0500
TZOFFSETTO:-0400
TZNAME:EDT
DTSTART:20240310T070000
END:DAYLIGHT
BEGIN:STANDARD
TZOFFSETFROM:-0400
TZOFFSETTO:-0500
TZNAME:EST
DTSTART:20241103T060000
END:STANDARD
END:VTIMEZONE
BEGIN:VEVENT
DTSTART;TZID=America/New_York:20230806T084500
DTEND;TZID=America/New_York:20230806T103000
DTSTAMP:20260424T050333
CREATED:20220217T190434Z
LAST-MODIFIED:20221221T191822Z
UID:10001523-1691311500-1691317800@unityatl.org
SUMMARY:Practicing the Presence—A Course in Miracles with Michael Wilkinson--via Zoom
DESCRIPTION:Practicing the Presence—A Course in Miracles\nWeekly Group Study Over Zoom!\nThis course aims at removing the blocks to the awareness of love’s presence. The opposite of love is fear\, but what is all-encompassing can have no opposite. \nThis course can be summed up very simply:   Nothing real can be threatened. Nothing unreal exists. Herein lies the peace of God. \nFacilitator: Michael Wilkinson          Sunday’s at 8:45 – 10:30 AM \nThis is an open and ongoing class.  All are welcome.  Drop-in any time.\nBooks can be ordered through The Wisdom Well-Unity Atlanta’s bookstore. \nNew people are very welcome to join!  If you are interested\, please email MWilkinson@leadstrat.com in order to receive the Zoom log-in information. 
URL:https://unityatl.org/events/practicing-the-presence-a-course-in-miracles-with-michael-wilkinson-via-zoom/2023-08-06/
LOCATION:Unity Atlanta\, 3597 Parkway Lane\, Norcross\, 30092\, United States
GEO:33.9597203;-84.231198
X-APPLE-STRUCTURED-LOCATION;VALUE=URI;X-ADDRESS=Unity Atlanta 3597 Parkway Lane Norcross 30092 United States;X-APPLE-RADIUS=500;X-TITLE=3597 Parkway Lane:geo:-84.231198,33.9597203
END:VEVENT
BEGIN:VEVENT
DTSTART;TZID=America/New_York:20230806T093000
DTEND;TZID=America/New_York:20230806T104500
DTSTAMP:20260424T050333
CREATED:20230628T191907Z
LAST-MODIFIED:20230628T194734Z
UID:10002101-1691314200-1691318700@unityatl.org
SUMMARY:Small Group Onsite: Metaphysics Goes to the Movies
DESCRIPTION:Deep Dive Into The Metaphysics of Movies with Small Groups and Myrtle Fillmore with Facilitator Jan Gurr\n \nWe have three small groups during our Summer Message series\, for all who would like to dive more deeply into the metaphysical wisdom\, wonder\, and magic of each of the movies.  These themes will be accompanied each week by wisdom from Myrtle Fillmore’s Healing Letters. \nSmall groups are a wonderful opportunity for spiritual growth and fellowship with our community! We have one onsite and two zoom options. \nIn advance of each weekly themed movie\, registered participants will receive a guide (Myrtle’s Meta  Movie Memo \, 4M) sharing Myrtle’s wisdom from the book Healing Letters. \nSunday Mornings – In person only    Jan Gurr\, Facilitator   9:30 – 10:45AM   July 23 – Aug 27 \nChurch Office Small Conference Room   (no registration needed for Sunday group) \nClick here for information on the Tuesday evening and Wednesday Evening Zoom options.
URL:https://unityatl.org/events/small-group-metaphysics-goes-to-the-movies/2023-08-06/
LOCATION:Unity Atlanta\, 3597 Parkway Lane\, Norcross\, 30092\, United States
GEO:33.9597203;-84.231198
X-APPLE-STRUCTURED-LOCATION;VALUE=URI;X-ADDRESS=Unity Atlanta 3597 Parkway Lane Norcross 30092 United States;X-APPLE-RADIUS=500;X-TITLE=3597 Parkway Lane:geo:-84.231198,33.9597203
END:VEVENT
BEGIN:VEVENT
DTSTART;TZID=America/New_York:20230806T100000
DTEND;TZID=America/New_York:20230806T123000
DTSTAMP:20260424T050333
CREATED:20230713T194206Z
LAST-MODIFIED:20230713T194206Z
UID:10001698-1691316000-1691325000@unityatl.org
SUMMARY:Energy Healing Sessions
DESCRIPTION:Come Enjoy A Session in Our Healing Room!\nOur healing team\, Rob Alexander and Elisha Fields\, are joyfully ready to provide an energy healing session for you on Sunday mornings!  Rob is a Reiki Master and Elisha practices Magnified Healing. \nHealing Room Hours:  Sundays\, 10:00 – 11:00 am and for 30 minutes after services.\nLocation: Room 105\, off of the main lobby.  Sign in sheets are just inside the Healing Room.\nCost: Our healing practitioners provide healing sessions on a love offering basis. \nAbout our Healing Practitioners: \nRob Alexander:                                                                                                                                                           :\n \nRob is a certified Reiki Master who offers this Japanese technique for stress reduction and relaxation which is administered by holding the hands a few inches above the body and is based on the “life energy force” that flows through all of us. \n\nElisha Fields:\n\nElisha is a certified Magnified Healing Teacher offering chakra balancing as well as a pain-relief technique she developed in 1993 which has been successful with migraines and some localized pain. \n  \n  \n  \n 
URL:https://unityatl.org/events/reiki-healing-sessions-2-3-2-2/2023-08-06/
LOCATION:Unity Atlanta\, 3597 Parkway Lane\, Norcross\, 30092\, United States
GEO:33.9597203;-84.231198
X-APPLE-STRUCTURED-LOCATION;VALUE=URI;X-ADDRESS=Unity Atlanta 3597 Parkway Lane Norcross 30092 United States;X-APPLE-RADIUS=500;X-TITLE=3597 Parkway Lane:geo:-84.231198,33.9597203
END:VEVENT
BEGIN:VEVENT
DTSTART;TZID=America/New_York:20230806T100000
DTEND;TZID=America/New_York:20230806T130000
DTSTAMP:20260424T050333
CREATED:20220929T171101Z
LAST-MODIFIED:20240425T205921Z
UID:10001242-1691316000-1691326800@unityatl.org
SUMMARY:Wisdom Well Bookstore
DESCRIPTION:The Wisdom Well Bookstore\n\nOur metaphysical bookstore reflects the heart of Unity Atlanta Church. It offers a collection of new thought\, spiritual\, and self-help books. We know you’ll be inspired with the large selection of gift items. The bookstore also supports our  Adult Education classes with a supply of teaching materials and textbooks. Our volunteer Bookstore Angels are always eager to introduce a new book or reacquaint us with an old classic. \nWisdom Well Store Hours:  Sundays\, 10:00 AM – 1:00 PM \nLooking for a book in particular? \nTo contact:  unitywisdomwell@gmail.com  or call the church office: 770-441-0585 \n\n  \n  \n  \n  \nWe have books for diverse interests:                                                                                  We also have many gifts including:            \nSpirituality                                                                                                                                Bimonthly issues of Unity Magazine\nBibles & Bible Reference Books                                                                                              Bimonthly issues of Daily Word\nPrayer & Meditation                                                                                                                 Greeting Cards\nInspiration & Motivation                                                                                                           Affirmation and 12 power stones\nRelationships                                                                                                                          Candles\nHealth & Healing                                                                                                                     Meditative scents\nTransitioning & Grieving                                                                                                          Notepads\nAngels                                                                                                                                     T-shirts\nBooks for children                                                                                                                   Bookmarks \n  \n 
URL:https://unityatl.org/events/wisdom-well-bookstore/2023-08-06/
LOCATION:Unity Atlanta\, 3597 Parkway Lane\, Norcross\, 30092\, United States
GEO:33.9597203;-84.231198
X-APPLE-STRUCTURED-LOCATION;VALUE=URI;X-ADDRESS=Unity Atlanta 3597 Parkway Lane Norcross 30092 United States;X-APPLE-RADIUS=500;X-TITLE=3597 Parkway Lane:geo:-84.231198,33.9597203
END:VEVENT
BEGIN:VEVENT
DTSTART;TZID=America/New_York:20230806T110000
DTEND;TZID=America/New_York:20230806T120000
DTSTAMP:20260424T050333
CREATED:20230628T170649Z
LAST-MODIFIED:20230628T170649Z
UID:10002094-1691319600-1691323200@unityatl.org
SUMMARY:Sunday Message: Empowered to Lead (Black Panther)
DESCRIPTION:Metaphysics Goes to the Movies – Messages for Summer 2023\nStarry nights at the drive-in\, rainy-day double features\, the whole family gathered around the flat screen.  Whatever way we watch and enjoy movies\, our favorites speak to our hearts and resonate with our souls.  Each story\, character\, plot\, and setting provides a literal and metaphysical glimpse into other lives and lifetimes.  And no matter how these stories unfold\, we know we can be forever changed by their wisdom\, wonder\, and love. \nEach Sunday\, of our Summer message series\, we will explore the themes of cinema that empower us to honor the spirit within us all. \n \nThis Sunday\, Rev. Jenn welcomes our own ChieStine Lawrence\, Student Minister to join her at the pulpit.  \nDate: August 6\nTime: 11:00 AM\nMessage title:  Empowered to Lead\nMessage Theme: This Sunday Rev. Jenn welcomes our own ChieStine Lawrence\, Student Minister\, as they explore the metaphysical themes in Black Panther and how being a superhero means discerning how to truly lead. \nTo Live Stream the 11:00 AM Service:\n1. Live Stream https://unityatl.org/live-stream/\n2. Face Book https://www.facebook.com/UnityAtlanta \nSee all the movies to be explored this summer here. 
URL:https://unityatl.org/events/sunday-message-empowered-to-lead-black-panther/
LOCATION:Unity Atlanta\, 3597 Parkway Lane\, Norcross\, 30092\, United States
GEO:33.9597203;-84.231198
X-APPLE-STRUCTURED-LOCATION;VALUE=URI;X-ADDRESS=Unity Atlanta 3597 Parkway Lane Norcross 30092 United States;X-APPLE-RADIUS=500;X-TITLE=3597 Parkway Lane:geo:-84.231198,33.9597203
END:VEVENT
BEGIN:VEVENT
DTSTART;TZID=America/New_York:20230806T123000
DTEND;TZID=America/New_York:20230806T133000
DTSTAMP:20260424T050333
CREATED:20230614T153259Z
LAST-MODIFIED:20230614T153259Z
UID:10002084-1691325000-1691328600@unityatl.org
SUMMARY:Master Mind Group with Rev. Jenn
DESCRIPTION:Date: Sunday\, August 6\, 2023\nTime: 12:30 pm\nLocation: The Chapel \nJoin Rev Jenn and other like-minded individuals each month as you tap into the power of the Master Mind and gain the encouragement you need to: \n\nset intentions\novercome challenges\nexperience greater fulfillment in all aspects of your life.\n\nThrough this positive\, prayerful\, practical process\, your inner strength and wisdom unite in trust with the divine creative energy of the Universe and at least one other person.  Even when you doubt yourself\, your Master Mind partners affirm and know the Truth for you so you learn to believe in yourself. \nMillions of people across the globe have used this ancient principle to transform their lives – and now you can too!
URL:https://unityatl.org/events/master-mind-group-with-rev-jenn-9/
LOCATION:Unity Atlanta\, 3597 Parkway Lane\, Norcross\, 30092\, United States
GEO:33.9597203;-84.231198
X-APPLE-STRUCTURED-LOCATION;VALUE=URI;X-ADDRESS=Unity Atlanta 3597 Parkway Lane Norcross 30092 United States;X-APPLE-RADIUS=500;X-TITLE=3597 Parkway Lane:geo:-84.231198,33.9597203
END:VEVENT
BEGIN:VEVENT
DTSTART;TZID=America/New_York:20230808T190000
DTEND;TZID=America/New_York:20230808T203000
DTSTAMP:20260424T050333
CREATED:20230628T192350Z
LAST-MODIFIED:20230628T194826Z
UID:10002107-1691521200-1691526600@unityatl.org
SUMMARY:Small Group on Zoom: Metaphysics Goes to the Movies
DESCRIPTION:Deep Dive Into The Metaphysics of Movies with Small Groups and Myrtle Fillmore with Facilitator Jan Gurr\n \nWe have three small groups during our Summer Message series\, for all who would like to dive more deeply into the metaphysical wisdom\, wonder\, and magic of each of the movies.  These themes will be accompanied each week by wisdom from Myrtle Fillmore’s Healing Letters. \nSmall groups are a wonderful opportunity for spiritual growth and fellowship with our community! We have one onsite and two zoom options. \nIn advance of each weekly themed movie\, registered participants will receive a guide (Myrtle’s Meta  Movie Memo \, 4M) sharing Myrtle’s wisdom from the book Healing Letters. \nTuesday Evenings        Zoom        Jan Gurr\, Facilitator   7 – 8:30PM                July 25 – Aug 29\nRegister in advance for this meeting: https://us06web.zoom.us/meeting/register/tZYlce2tqTwrE9X40FwMPdcf17Xz_vSn27B6\nAfter registering\, you will receive a confirmation email containing information about joining the meeting \nClick for details about the Sunday morning in person option and Wednesday evening Zoom option.
URL:https://unityatl.org/events/small-group-on-zoom-metaphysics-goes-to-the-movies/2023-08-08/
LOCATION:Unity Atlanta\, 3597 Parkway Lane\, Norcross\, 30092\, United States
GEO:33.9597203;-84.231198
X-APPLE-STRUCTURED-LOCATION;VALUE=URI;X-ADDRESS=Unity Atlanta 3597 Parkway Lane Norcross 30092 United States;X-APPLE-RADIUS=500;X-TITLE=3597 Parkway Lane:geo:-84.231198,33.9597203
END:VEVENT
BEGIN:VEVENT
DTSTART;TZID=America/New_York:20230808T200000
DTEND;TZID=America/New_York:20230808T210000
DTSTAMP:20260424T050333
CREATED:20230531T174114Z
LAST-MODIFIED:20230621T161602Z
UID:10002078-1691524800-1691528400@unityatl.org
SUMMARY:Conexión Divina – Grupo de Estudio y Oración  Divine Connection – Prayer and Study Group
DESCRIPTION:Conexión Divina – Grupo de Estudio y Oración\nDivine Connection-Prayer and Study Group\n \nTe invitamos a participar en nuestras reuniones para con la Revda. Xiomara\, para leer\, discutir\, compartir ideas y vivencias para apoyar nuestro desarrollo espiritual y personal. \nReuniones vía Zoom los martes de 8:00 a 9:00 PM EDT \nFolleto “Cómo Mantener Tu Enfoque Ante Todo” –  Lecciones que te inspirará con una comprensión más profunda de tus 12 poderes divinos y como aplicarlos en tu diario vivir. \nMartes\, mayo 23 y 30\, junio 6\, 13\, 20 y 27\, julio 11\,18 25\, y agosto 8\,15 y 22 \nPara recibir enlace Zoom por favor envíe email a xmalagon@sbcglobal.net \nDivine Connection – Prayer and Study Group \nWe are inviting you to participate in our meetings with the Rev. Xiomara to read\, discuss\, share ideas and experiences to support our spiritual and personal development. \nMeetings via Zoom on Tuesdays from 8:00 to 9:00 PM EDT \nBooklet “How to Stay Centered No Matter What” – Lessons that will uplift you with a deeper understanding of your 12 divine powers and how to apply them in your daily living. \nTuesdays\, May 23 and 30\, June 6\, 13\, 20 and 27\, July 11\, 16 25\, and August 8\, 15 and 22 \nTo receive Zoom link please email xmalagon@sbcglobal.net
URL:https://unityatl.org/events/conexion-divina-grupo-de-estudio-y-oracion-2/2023-08-08/
LOCATION:Unity Atlanta\, 3597 Parkway Lane\, Norcross\, 30092\, United States
GEO:33.9597203;-84.231198
X-APPLE-STRUCTURED-LOCATION;VALUE=URI;X-ADDRESS=Unity Atlanta 3597 Parkway Lane Norcross 30092 United States;X-APPLE-RADIUS=500;X-TITLE=3597 Parkway Lane:geo:-84.231198,33.9597203
END:VEVENT
BEGIN:VEVENT
DTSTART;TZID=America/New_York:20230809T130000
DTEND;TZID=America/New_York:20230809T150000
DTSTAMP:20260424T050333
CREATED:20230724T175605Z
LAST-MODIFIED:20230726T142939Z
UID:10002125-1691586000-1691593200@unityatl.org
SUMMARY:Movie Matinee: Rent
DESCRIPTION:“Metaphysics Goes to the Movies”: Rent on Wednesday\, August 9 at 1:00 pm\nRev. Jenn’s message series this summer will be a time to celebrate cinema’s power to honor the spirit within us all. Each Sunday message will give a metaphysical glimpse into a particular movie\, and its themes that resonate in our lives. See here for the full list \nThis Wednesday afternoon\,  we’ll watch Rent.  We’ll have our own concession stand. (Concessions are $5 for a 3 item combo.)  Join us for a movie matinee! \n \nDate: Wednesday\, August 9th\nTime: 1:00 pm\nLocation:  Fellowship Hall\nConcessions:  $5 for a 3 item combo \nJoin us Sunday\, August 13th at 11:00 am for Rev. Jenn’s Sunday Message related to themes within the movie.  She will share how dignity and love are the good measures everyone deserves.
URL:https://unityatl.org/events/movie-matinee-rent/
LOCATION:Unity Atlanta\, 3597 Parkway Lane\, Norcross\, 30092\, United States
GEO:33.9597203;-84.231198
X-APPLE-STRUCTURED-LOCATION;VALUE=URI;X-ADDRESS=Unity Atlanta 3597 Parkway Lane Norcross 30092 United States;X-APPLE-RADIUS=500;X-TITLE=3597 Parkway Lane:geo:-84.231198,33.9597203
END:VEVENT
BEGIN:VEVENT
DTSTART;TZID=America/New_York:20230809T183000
DTEND;TZID=America/New_York:20230809T203000
DTSTAMP:20260424T050333
CREATED:20230628T192834Z
LAST-MODIFIED:20230628T194907Z
UID:10002113-1691605800-1691613000@unityatl.org
SUMMARY:Small Group Zoom: Metaphysics Goes to the Movies
DESCRIPTION:Deep Dive Into The Metaphysics of Movies with Small Groups and Myrtle Fillmore with Facilitator Freda Steward\n \nWe have three small groups during our Summer Message series\, for all who would like to dive more deeply into the metaphysical wisdom\, wonder\, and magic of each of the movies.  These themes will be accompanied each week by wisdom from Myrtle Fillmore’s Healing Letters. \nSmall groups are a wonderful opportunity for spiritual growth and fellowship with our community! We have one onsite and two zoom options. \nIn advance of each weekly themed movie\, registered participants will receive a guide (Myrtle’s Meta  Movie Memo \, 4M) sharing Myrtle’s wisdom from the book Healing Letters. \nWednesday Evening   Zoom        Freda Steward\, Facilitator  6:30 – 8:30PM  July 26 – Aug 30\nRegister in advance for this meeting:\nhttps://us02web.zoom.us/meeting/register/tZIucuuvqzooHNf8xKS5ok-11GoYM2DGMkXe\nAfter registering\, you will receive a confirmation email containing information about joining the meeting. \nClick here for information on the Sunday Morning onsite and Wednesday Evening Zoom options.
URL:https://unityatl.org/events/small-group-zoom-metaphysics-goes-to-the-movies/2023-08-09/
LOCATION:Unity Atlanta\, 3597 Parkway Lane\, Norcross\, 30092\, United States
GEO:33.9597203;-84.231198
X-APPLE-STRUCTURED-LOCATION;VALUE=URI;X-ADDRESS=Unity Atlanta 3597 Parkway Lane Norcross 30092 United States;X-APPLE-RADIUS=500;X-TITLE=3597 Parkway Lane:geo:-84.231198,33.9597203
END:VEVENT
BEGIN:VEVENT
DTSTART;TZID=America/New_York:20230810T193000
DTEND;TZID=America/New_York:20230810T210000
DTSTAMP:20260424T050333
CREATED:20230322T183041Z
LAST-MODIFIED:20241031T174435Z
UID:10001763-1691695800-1691701200@unityatl.org
SUMMARY:Unity Atlanta Men's Group
DESCRIPTION:Unity Atlanta Men’s Group \nThe men’s group meets onsite at the church the 1st – 3rd Thursdays of the month.  The 4th (and if applicable\, the 5th) Thursday is often a Game Night\, or one of a number of various activities. \n \nFor any questions\, including the logistics for the 4th and 5th Thursdays\, please TEXT Steve Peck at 770-639-5242 or email him at speck3053@comcast.net   \nLocation:  Unity Atlanta Room 108   Time: 7:30 – 9:00 PM \nFor any questions\,  please TEXT Steve Peck at 770-639-5242 or email him at speck3053@comcast.net/      \nThe Unity Atlanta Men’s Group Meetings begin with a brief 1-2 minute check-in during which each member shares how his week went\, what’s gong on in his life\, and any success or challenges he may be experiencing. \nWe then move on to a topic\, which either arises during the check-in or has been prepared in advance by one of the members.  Topics\, week from week\, have a wide range of subjects.  We share from our own experience rather than giving opinions or advice or telling stories.  Through this sharing\, a sense of brotherhood develops with the individual members while retaining an openness that is welcoming to all. \nOccasionally\, we also conduct public outreach\, and each fall we sponsor a men only retreat. \nMission Statement: \n\nWe are a self-supporting\, self-facilitating\, spiritually-based group\nWe remind each other that we are all connected and learn from our collective wisdom\nWe promote spirituality\, growth\, learning and community\nWe support each other and remind each other to live “in faith”\nWe share our lives\, our joy\, and our abundance to become like-minded brothers\nWe radiate our spirituality to our families\, friends and the world\nWe express our feelings and emotions through healthy communication\nRegardless of our means and circumstances\, we are friends and equals\nWe are here–join us!
URL:https://unityatl.org/events/unity-atlanta-mens-group-18/2023-08-10/
LOCATION:Unity Atlanta\, 3597 Parkway Lane\, Norcross\, 30092\, United States
GEO:33.9597203;-84.231198
X-APPLE-STRUCTURED-LOCATION;VALUE=URI;X-ADDRESS=Unity Atlanta 3597 Parkway Lane Norcross 30092 United States;X-APPLE-RADIUS=500;X-TITLE=3597 Parkway Lane:geo:-84.231198,33.9597203
END:VEVENT
BEGIN:VEVENT
DTSTART;TZID=America/New_York:20230811T190000
DTEND;TZID=America/New_York:20230811T213000
DTSTAMP:20260424T050333
CREATED:20230705T150447Z
LAST-MODIFIED:20230705T150447Z
UID:10002117-1691780400-1691789400@unityatl.org
SUMMARY:August Coffee House: Karaoke and Game Night!
DESCRIPTION:August Coffee House is Karaoke and Game Night!\n \nDate: Friday\, August 11\nTime: 7:00 – 9:30 pm\nLocation: Fellowship Hall \nIt’s Karaoke and Game Night again at Unity Atlanta Church. Time to meet up with your friends and make new ones through games and songs. Karaoke is a wonderful way for folks to share their love of music. With thousands of songs to choose from through our Karafun.com karaoke music subscription\, we’ll have tunes for everyone. Whether you prefer singing a solo\, duet\, small group\, joining in a house song\, or just being part of the adoring audience\, we’re sure everyone will have a good time. \nRemember to bring your favorite game too! \nThis family-friendly event will also feature a pot luck dinner. With all the wonderful cooks in our Unity Atlanta Church Community\, you can expect there will be lots of yummy food to enjoy. If you would like to bring food to share or volunteer to help the evening go smoothly\, please contact Rev. Barbara Huffman at 770-596-6663. Thanks so much for your willingness to contribute!
URL:https://unityatl.org/events/august-coffee-house-karaoke-and-game-night/
LOCATION:Unity Atlanta\, 3597 Parkway Lane\, Norcross\, 30092\, United States
GEO:33.9597203;-84.231198
X-APPLE-STRUCTURED-LOCATION;VALUE=URI;X-ADDRESS=Unity Atlanta 3597 Parkway Lane Norcross 30092 United States;X-APPLE-RADIUS=500;X-TITLE=3597 Parkway Lane:geo:-84.231198,33.9597203
END:VEVENT
END:VCALENDAR