BEGIN:VCALENDAR
VERSION:2.0
PRODID:-//Unity Atlanta Church - ECPv6.15.20//NONSGML v1.0//EN
CALSCALE:GREGORIAN
METHOD:PUBLISH
X-ORIGINAL-URL:https://unityatl.org
X-WR-CALDESC:Events for Unity Atlanta Church
REFRESH-INTERVAL;VALUE=DURATION:PT1H
X-Robots-Tag:noindex
X-PUBLISHED-TTL:PT1H
BEGIN:VTIMEZONE
TZID:America/New_York
BEGIN:DAYLIGHT
TZOFFSETFROM:-0500
TZOFFSETTO:-0400
TZNAME:EDT
DTSTART:20220313T070000
END:DAYLIGHT
BEGIN:STANDARD
TZOFFSETFROM:-0400
TZOFFSETTO:-0500
TZNAME:EST
DTSTART:20221106T060000
END:STANDARD
BEGIN:DAYLIGHT
TZOFFSETFROM:-0500
TZOFFSETTO:-0400
TZNAME:EDT
DTSTART:20230312T070000
END:DAYLIGHT
BEGIN:STANDARD
TZOFFSETFROM:-0400
TZOFFSETTO:-0500
TZNAME:EST
DTSTART:20231105T060000
END:STANDARD
BEGIN:DAYLIGHT
TZOFFSETFROM:-0500
TZOFFSETTO:-0400
TZNAME:EDT
DTSTART:20240310T070000
END:DAYLIGHT
BEGIN:STANDARD
TZOFFSETFROM:-0400
TZOFFSETTO:-0500
TZNAME:EST
DTSTART:20241103T060000
END:STANDARD
END:VTIMEZONE
BEGIN:VEVENT
DTSTART;TZID=America/New_York:20230618T084500
DTEND;TZID=America/New_York:20230618T103000
DTSTAMP:20260424T064007
CREATED:20220217T190434Z
LAST-MODIFIED:20221221T191822Z
UID:10001516-1687077900-1687084200@unityatl.org
SUMMARY:Practicing the Presence—A Course in Miracles with Michael Wilkinson--via Zoom
DESCRIPTION:Practicing the Presence—A Course in Miracles\nWeekly Group Study Over Zoom!\nThis course aims at removing the blocks to the awareness of love’s presence. The opposite of love is fear\, but what is all-encompassing can have no opposite. \nThis course can be summed up very simply:   Nothing real can be threatened. Nothing unreal exists. Herein lies the peace of God. \nFacilitator: Michael Wilkinson          Sunday’s at 8:45 – 10:30 AM \nThis is an open and ongoing class.  All are welcome.  Drop-in any time.\nBooks can be ordered through The Wisdom Well-Unity Atlanta’s bookstore. \nNew people are very welcome to join!  If you are interested\, please email MWilkinson@leadstrat.com in order to receive the Zoom log-in information. 
URL:https://unityatl.org/events/practicing-the-presence-a-course-in-miracles-with-michael-wilkinson-via-zoom/2023-06-18/
LOCATION:Unity Atlanta\, 3597 Parkway Lane\, Norcross\, 30092\, United States
GEO:33.9597203;-84.231198
X-APPLE-STRUCTURED-LOCATION;VALUE=URI;X-ADDRESS=Unity Atlanta 3597 Parkway Lane Norcross 30092 United States;X-APPLE-RADIUS=500;X-TITLE=3597 Parkway Lane:geo:-84.231198,33.9597203
END:VEVENT
BEGIN:VEVENT
DTSTART;TZID=America/New_York:20230618T100000
DTEND;TZID=America/New_York:20230618T123000
DTSTAMP:20260424T064007
CREATED:20230523T132854Z
LAST-MODIFIED:20230628T142619Z
UID:10001691-1687082400-1687091400@unityatl.org
SUMMARY:Energy Healing Sessions
DESCRIPTION:Come Enjoy A Session in Our Healing Room!\nOur healing team\, Rob Alexander and Elisha Fields\, are joyfully ready to provide an energy healing session for you on Sunday mornings!  Rob is a Reiki Master and Elisha practices Magnified Healing. \nHealing Room Hours:  Sundays\,   Rob Alexander: 10:00 AM – 12:30 PM;      Elisha Fields: 12:00 AM – 12:30 PM\nLocation: Room 105\, off of the main lobby.  Sign in sheets are just inside the Healing Room.\nCost: Our healing practitioners provide healing sessions on a love offering basis. \nAbout our Healing Practitioners: \nRob Alexander:                                                                                                                                                           :\n \nRob is a certified Reiki Master who offers this Japanese technique for stress reduction and relaxation which is administered by holding the hands a few inches above the body and is based on the “life energy force” that flows through all of us.\nRob is available on Sunday mornings from 10:00 am to 12:00 pm. \n\nElisha Fields:\n\nElisha is a certified Magnified Healing Teacher offering chakra balancing as well as a pain-relief technique she developed in 1993 which has been successful with migraines and some localized pain.\nElisha is available from 12 to 12:30 \n  \n  \n  \n 
URL:https://unityatl.org/events/reiki-healing-sessions-2-3-2/2023-06-18/
LOCATION:Unity Atlanta\, 3597 Parkway Lane\, Norcross\, 30092\, United States
GEO:33.9597203;-84.231198
X-APPLE-STRUCTURED-LOCATION;VALUE=URI;X-ADDRESS=Unity Atlanta 3597 Parkway Lane Norcross 30092 United States;X-APPLE-RADIUS=500;X-TITLE=3597 Parkway Lane:geo:-84.231198,33.9597203
END:VEVENT
BEGIN:VEVENT
DTSTART;TZID=America/New_York:20230618T100000
DTEND;TZID=America/New_York:20230618T130000
DTSTAMP:20260424T064007
CREATED:20220929T171101Z
LAST-MODIFIED:20240425T205921Z
UID:10001235-1687082400-1687093200@unityatl.org
SUMMARY:Wisdom Well Bookstore
DESCRIPTION:The Wisdom Well Bookstore\n\nOur metaphysical bookstore reflects the heart of Unity Atlanta Church. It offers a collection of new thought\, spiritual\, and self-help books. We know you’ll be inspired with the large selection of gift items. The bookstore also supports our  Adult Education classes with a supply of teaching materials and textbooks. Our volunteer Bookstore Angels are always eager to introduce a new book or reacquaint us with an old classic. \nWisdom Well Store Hours:  Sundays\, 10:00 AM – 1:00 PM \nLooking for a book in particular? \nTo contact:  unitywisdomwell@gmail.com  or call the church office: 770-441-0585 \n\n  \n  \n  \n  \nWe have books for diverse interests:                                                                                  We also have many gifts including:            \nSpirituality                                                                                                                                Bimonthly issues of Unity Magazine\nBibles & Bible Reference Books                                                                                              Bimonthly issues of Daily Word\nPrayer & Meditation                                                                                                                 Greeting Cards\nInspiration & Motivation                                                                                                           Affirmation and 12 power stones\nRelationships                                                                                                                          Candles\nHealth & Healing                                                                                                                     Meditative scents\nTransitioning & Grieving                                                                                                          Notepads\nAngels                                                                                                                                     T-shirts\nBooks for children                                                                                                                   Bookmarks \n  \n 
URL:https://unityatl.org/events/wisdom-well-bookstore/2023-06-18/
LOCATION:Unity Atlanta\, 3597 Parkway Lane\, Norcross\, 30092\, United States
GEO:33.9597203;-84.231198
X-APPLE-STRUCTURED-LOCATION;VALUE=URI;X-ADDRESS=Unity Atlanta 3597 Parkway Lane Norcross 30092 United States;X-APPLE-RADIUS=500;X-TITLE=3597 Parkway Lane:geo:-84.231198,33.9597203
END:VEVENT
BEGIN:VEVENT
DTSTART;TZID=America/New_York:20230618T103000
DTEND;TZID=America/New_York:20230618T120000
DTSTAMP:20260424T064007
CREATED:20230511T154807Z
LAST-MODIFIED:20230517T124909Z
UID:10001830-1687084200-1687089600@unityatl.org
SUMMARY:Camp Confidence Session I  June 11-July 2
DESCRIPTION:Join us for our upcoming Summer Spiritual Enrichment Program for ages 5-13 (K-8th Grade)!   Camp Confidence: Believe In You!\n \nUnity Atlanta Church announces “Camp Confidence: Believe in You” for youth ages 5-13. The summer spiritual enrichment program includes two\, four-week sessions on Sundays\, June 11-July 2 and July 9-30\, 10:30am-12:00 pm. The program is designed to build self-awareness\, self-acceptance\, self-confidence\, and character. Each week includes engaging and introspective activities that encourage youth to thrive with confidence. \nSuggested Love Offering: $25 (for 4 weeks)  For more information and to pre-register\, email Leshey Williams at:leshey@unityatl.org \nCamp Confidence Dates:\nSession I:  Sundays\, June 11-July 2\, 2023\nSession II:  Sundays\, July 9-July 30\, 2023 \nCamp Confidence Time:  10:30 a.m.-12:00 p.m.  \nAge:  5-13 (K-8th grade)  \nRegistration:\nSuggested Love Offering: $25 (for 4 weeks)\nSend an email to Leshey Williams to leshey@unityatl.org \nParent Information Meeting:  May 31 at 5:30 p.m. via Zoom\nhttps://us06web.zoom.us/j/88683108197?pwd=N0x5N1k4SzY1SFdhU2s5Z1Nmb3k1dz09  \n 
URL:https://unityatl.org/events/camp-confidence-session-i-june-11-july-2/2023-06-18/
LOCATION:Unity Atlanta\, 3597 Parkway Lane\, Norcross\, 30092\, United States
GEO:33.9597203;-84.231198
X-APPLE-STRUCTURED-LOCATION;VALUE=URI;X-ADDRESS=Unity Atlanta 3597 Parkway Lane Norcross 30092 United States;X-APPLE-RADIUS=500;X-TITLE=3597 Parkway Lane:geo:-84.231198,33.9597203
END:VEVENT
BEGIN:VEVENT
DTSTART;TZID=America/New_York:20230618T110000
DTEND;TZID=America/New_York:20230618T120000
DTSTAMP:20260424T064007
CREATED:20230516T155914Z
LAST-MODIFIED:20230614T145944Z
UID:10002049-1687086000-1687089600@unityatl.org
SUMMARY:Rev. Jenn with Guest Speaker Michael Wilkinson-"I Am"
DESCRIPTION:Rev. Jenn shares the pulpit with our own Michael Wilkinson\, our guest speaker\, on Sunday\, June 18.\n \nDate: Sunday\, June 18th\nTime: 11:00 am\nMessage:  “I AM”   How would you answer the question\, “Who are you?” Would you say\, “I am…” and then give your name? Would you say\, “I am a…” and then describe what you do?  Psychologists tell us that we all want to be truly seen\, heard\, and appreciated for who we are. But\, what is the truth about who we are? And how do we live this truth on Father’s Day and every day? \n  \n  \nAbout Michael Wilkinson: \nMichael grew up in Unity\, the son of a Unity Minister.  He learned early in life who his true Father is and the importance of listening for His One Voice.  He’s been a student of A Course in Miracles for over 30 years and has brought his knowledge to us via his “Practice the Presence” class on Sunday mornings.\nMichael also is a Certified Master Facilitator who has been active in both private and public sectors.  As the founder of his company Leadership Strategies\, he provides leadership training and strategy development to leading companies both in the USA and around the world.
URL:https://unityatl.org/events/guest-speaker-michael-wilkinson-i-am/
LOCATION:Unity Atlanta\, 3597 Parkway Lane\, Norcross\, 30092\, United States
GEO:33.9597203;-84.231198
X-APPLE-STRUCTURED-LOCATION;VALUE=URI;X-ADDRESS=Unity Atlanta 3597 Parkway Lane Norcross 30092 United States;X-APPLE-RADIUS=500;X-TITLE=3597 Parkway Lane:geo:-84.231198,33.9597203
END:VEVENT
BEGIN:VEVENT
DTSTART;TZID=America/New_York:20230619T183000
DTEND;TZID=America/New_York:20230619T200000
DTSTAMP:20260424T064007
CREATED:20230523T150423Z
LAST-MODIFIED:20230830T173800Z
UID:10002054-1687199400-1687204800@unityatl.org
SUMMARY:Toastmasters Group
DESCRIPTION:Looking for an opportunity to work on your speaking and public presentation skills? We are happy to have Toastmasters meet here at the church.\n \nDates:  2nd\, 3rd\, and 4th Mondays   (No meeting the weeks of Thanksgiving or Christmas)\nTime: 6:30 – 8:00pm\nLocation: Fellowship Hall \nGuests are always welcome! \nFor more information please contact:  Ajaye Hopper 678-622-2225 info@topshelftm.com
URL:https://unityatl.org/events/toastmasters-group/2023-06-19/
END:VEVENT
BEGIN:VEVENT
DTSTART;TZID=America/New_York:20230620T200000
DTEND;TZID=America/New_York:20230620T210000
DTSTAMP:20260424T064007
CREATED:20230531T174114Z
LAST-MODIFIED:20230621T161602Z
UID:10002073-1687291200-1687294800@unityatl.org
SUMMARY:Conexión Divina – Grupo de Estudio y Oración  Divine Connection – Prayer and Study Group
DESCRIPTION:Conexión Divina – Grupo de Estudio y Oración\nDivine Connection-Prayer and Study Group\n \nTe invitamos a participar en nuestras reuniones para con la Revda. Xiomara\, para leer\, discutir\, compartir ideas y vivencias para apoyar nuestro desarrollo espiritual y personal. \nReuniones vía Zoom los martes de 8:00 a 9:00 PM EDT \nFolleto “Cómo Mantener Tu Enfoque Ante Todo” –  Lecciones que te inspirará con una comprensión más profunda de tus 12 poderes divinos y como aplicarlos en tu diario vivir. \nMartes\, mayo 23 y 30\, junio 6\, 13\, 20 y 27\, julio 11\,18 25\, y agosto 8\,15 y 22 \nPara recibir enlace Zoom por favor envíe email a xmalagon@sbcglobal.net \nDivine Connection – Prayer and Study Group \nWe are inviting you to participate in our meetings with the Rev. Xiomara to read\, discuss\, share ideas and experiences to support our spiritual and personal development. \nMeetings via Zoom on Tuesdays from 8:00 to 9:00 PM EDT \nBooklet “How to Stay Centered No Matter What” – Lessons that will uplift you with a deeper understanding of your 12 divine powers and how to apply them in your daily living. \nTuesdays\, May 23 and 30\, June 6\, 13\, 20 and 27\, July 11\, 16 25\, and August 8\, 15 and 22 \nTo receive Zoom link please email xmalagon@sbcglobal.net
URL:https://unityatl.org/events/conexion-divina-grupo-de-estudio-y-oracion-2/2023-06-20/
LOCATION:Unity Atlanta\, 3597 Parkway Lane\, Norcross\, 30092\, United States
GEO:33.9597203;-84.231198
X-APPLE-STRUCTURED-LOCATION;VALUE=URI;X-ADDRESS=Unity Atlanta 3597 Parkway Lane Norcross 30092 United States;X-APPLE-RADIUS=500;X-TITLE=3597 Parkway Lane:geo:-84.231198,33.9597203
END:VEVENT
BEGIN:VEVENT
DTSTART;TZID=America/New_York:20230621T190000
DTEND;TZID=America/New_York:20230621T200000
DTSTAMP:20260424T064007
CREATED:20230608T165446Z
LAST-MODIFIED:20230608T173648Z
UID:10002081-1687374000-1687377600@unityatl.org
SUMMARY:Summer Solstice Sound Celebration
DESCRIPTION:Unity Atlanta Church – Summer Solstice Celebration\n \nWe celebrate the summer solstice for its profound significance in marking the peak of light and the abundance of life. As the longest day of the year\, it holds a powerful energy that calls us to embrace the fullness of the sun’s rays and the vitality of nature. \nCome celebrate the radiant energy of the summer solstice in a remarkable sound bath experience led by Raye Andrews\, an inspirational vibrational sound therapist and master level Reiki practitioner. Set amidst the serene surroundings of Unity Atlanta Church\, this event invites you to immerse yourself in the transformative power of the solstice. \nWhen: Wednesday\, June 21\nTime:   7:00 pm\nLocation:  Unity Atlanta Church Sanctuary\nPrice:  This is a love offering event.  Suggested $20 but please feel free to offer what you can afford. \nThis is an In Person event and will not be live streamed. 
URL:https://unityatl.org/events/summer-solstice-sound-event/
LOCATION:Unity Atlanta\, 3597 Parkway Lane\, Norcross\, 30092\, United States
GEO:33.9597203;-84.231198
X-APPLE-STRUCTURED-LOCATION;VALUE=URI;X-ADDRESS=Unity Atlanta 3597 Parkway Lane Norcross 30092 United States;X-APPLE-RADIUS=500;X-TITLE=3597 Parkway Lane:geo:-84.231198,33.9597203
END:VEVENT
BEGIN:VEVENT
DTSTART;TZID=America/New_York:20230622T193000
DTEND;TZID=America/New_York:20230622T210000
DTSTAMP:20260424T064007
CREATED:20230322T183041Z
LAST-MODIFIED:20241031T174435Z
UID:10001756-1687462200-1687467600@unityatl.org
SUMMARY:Unity Atlanta Men's Group
DESCRIPTION:Unity Atlanta Men’s Group \nThe men’s group meets onsite at the church the 1st – 3rd Thursdays of the month.  The 4th (and if applicable\, the 5th) Thursday is often a Game Night\, or one of a number of various activities. \n \nFor any questions\, including the logistics for the 4th and 5th Thursdays\, please TEXT Steve Peck at 770-639-5242 or email him at speck3053@comcast.net   \nLocation:  Unity Atlanta Room 108   Time: 7:30 – 9:00 PM \nFor any questions\,  please TEXT Steve Peck at 770-639-5242 or email him at speck3053@comcast.net/      \nThe Unity Atlanta Men’s Group Meetings begin with a brief 1-2 minute check-in during which each member shares how his week went\, what’s gong on in his life\, and any success or challenges he may be experiencing. \nWe then move on to a topic\, which either arises during the check-in or has been prepared in advance by one of the members.  Topics\, week from week\, have a wide range of subjects.  We share from our own experience rather than giving opinions or advice or telling stories.  Through this sharing\, a sense of brotherhood develops with the individual members while retaining an openness that is welcoming to all. \nOccasionally\, we also conduct public outreach\, and each fall we sponsor a men only retreat. \nMission Statement: \n\nWe are a self-supporting\, self-facilitating\, spiritually-based group\nWe remind each other that we are all connected and learn from our collective wisdom\nWe promote spirituality\, growth\, learning and community\nWe support each other and remind each other to live “in faith”\nWe share our lives\, our joy\, and our abundance to become like-minded brothers\nWe radiate our spirituality to our families\, friends and the world\nWe express our feelings and emotions through healthy communication\nRegardless of our means and circumstances\, we are friends and equals\nWe are here–join us!
URL:https://unityatl.org/events/unity-atlanta-mens-group-18/2023-06-22/
LOCATION:Unity Atlanta\, 3597 Parkway Lane\, Norcross\, 30092\, United States
GEO:33.9597203;-84.231198
X-APPLE-STRUCTURED-LOCATION;VALUE=URI;X-ADDRESS=Unity Atlanta 3597 Parkway Lane Norcross 30092 United States;X-APPLE-RADIUS=500;X-TITLE=3597 Parkway Lane:geo:-84.231198,33.9597203
END:VEVENT
BEGIN:VEVENT
DTSTART;TZID=America/New_York:20230624T000000
DTEND;TZID=America/New_York:20230624T233000
DTSTAMP:20260424T064007
CREATED:20230531T142857Z
LAST-MODIFIED:20230531T142857Z
UID:10002068-1687564800-1687649400@unityatl.org
SUMMARY:Deadline to Register for July Food Bank Volunteer Day
DESCRIPTION:Register by end of day to participate in our Unity Atlanta Church Volunteer Morning with the Atlanta Food Bank\, on Saturday\, July 8.\nClick here to register:  http://vhub.at/unityatlantachurch\nContact Nan Smith for further information and logistics: smith1992@bellsouth.net \nDetails about the July 8 Volunteer Morning at the Atlanta Food Bank: \nThis is a wonderful opportunity to give back to and help those in food insecure homes.  We have supported the Atlanta Community Food Bank for many years and are finally able to go in person again to volunteer! \nDate:  Saturday\, July 8  (Deadline to register is June 24)\nTime: 8:30 am – 11:30 am (please arrive 10 min prior to start time)\nFurther Details:  Contact Nan Smith for further information and logistics: smith1992@bellsouth.net\nPlease note: The address to the foodbank has changed—3400 North Desert Dr\, Atlanta\, GA 30344 \nDeadline to register is June 24.  Register at:  http://vhub.at/unityatlantachurch
URL:https://unityatl.org/events/deadline-to-register-for-july-food-bank-volunteer-day/
LOCATION:Unity Atlanta\, 3597 Parkway Lane\, Norcross\, 30092\, United States
GEO:33.9597203;-84.231198
X-APPLE-STRUCTURED-LOCATION;VALUE=URI;X-ADDRESS=Unity Atlanta 3597 Parkway Lane Norcross 30092 United States;X-APPLE-RADIUS=500;X-TITLE=3597 Parkway Lane:geo:-84.231198,33.9597203
END:VEVENT
END:VCALENDAR