BEGIN:VCALENDAR
VERSION:2.0
PRODID:-//Unity Atlanta Church - ECPv6.15.20//NONSGML v1.0//EN
CALSCALE:GREGORIAN
METHOD:PUBLISH
X-ORIGINAL-URL:https://unityatl.org
X-WR-CALDESC:Events for Unity Atlanta Church
REFRESH-INTERVAL;VALUE=DURATION:PT1H
X-Robots-Tag:noindex
X-PUBLISHED-TTL:PT1H
BEGIN:VTIMEZONE
TZID:America/New_York
BEGIN:DAYLIGHT
TZOFFSETFROM:-0500
TZOFFSETTO:-0400
TZNAME:EDT
DTSTART:20220313T070000
END:DAYLIGHT
BEGIN:STANDARD
TZOFFSETFROM:-0400
TZOFFSETTO:-0500
TZNAME:EST
DTSTART:20221106T060000
END:STANDARD
BEGIN:DAYLIGHT
TZOFFSETFROM:-0500
TZOFFSETTO:-0400
TZNAME:EDT
DTSTART:20230312T070000
END:DAYLIGHT
BEGIN:STANDARD
TZOFFSETFROM:-0400
TZOFFSETTO:-0500
TZNAME:EST
DTSTART:20231105T060000
END:STANDARD
BEGIN:DAYLIGHT
TZOFFSETFROM:-0500
TZOFFSETTO:-0400
TZNAME:EDT
DTSTART:20240310T070000
END:DAYLIGHT
BEGIN:STANDARD
TZOFFSETFROM:-0400
TZOFFSETTO:-0500
TZNAME:EST
DTSTART:20241103T060000
END:STANDARD
END:VTIMEZONE
BEGIN:VEVENT
DTSTART;TZID=America/New_York:20230505T160000
DTEND;TZID=America/New_York:20230507T120000
DTSTAMP:20260424T094133
CREATED:20230105T183530Z
LAST-MODIFIED:20230427T144455Z
UID:10001615-1683302400-1683460800@unityatl.org
SUMMARY:Women's Retreat at Amicalola Falls State Park and Lodge
DESCRIPTION:Women’s Retreat 2023\nWomen’s Retreat – Amicalola Falls State Park and Lodge \nMay 5\, 6\, and 7\, 2023 \nAll of the rooms\, the dining hall and the meeting rooms are all in one building\, contained in the lodge. \nThe lodge rooms have all the luxuries of a hotel. \nA single room is an all -inclusive weekend price of $ 575 per person. There are 5 available. \nA double room (two people and two beds) is an all- inclusive price of $ $ 375\, per person. \nA $ 50.00 deposit holds your space and you can make payments in any increments needed\, as long as you pay in full by May 1st. (Please let Pam know your roommate preference\, when you pay your deposit.) \nYou can stay in the lodge the entire weekend and enjoy the beautiful mountain views or you hike\, view water falls\, tour a winery (at your own expense)\, etc. And based on feedback from last year\, there will be more free time on Saturday to enjoy all the things… or just sleep! \nTo register\, or for more information\, contact Pam Johnson at pam@unityatl.org
URL:https://unityatl.org/events/womens-retreat-at-amicalola-falls-state-park-and-lodge/
LOCATION:Unity Atlanta\, 3597 Parkway Lane\, Norcross\, 30092\, United States
GEO:33.9597203;-84.231198
X-APPLE-STRUCTURED-LOCATION;VALUE=URI;X-ADDRESS=Unity Atlanta 3597 Parkway Lane Norcross 30092 United States;X-APPLE-RADIUS=500;X-TITLE=3597 Parkway Lane:geo:-84.231198,33.9597203
END:VEVENT
BEGIN:VEVENT
DTSTART;TZID=America/New_York:20230507T084500
DTEND;TZID=America/New_York:20230507T103000
DTSTAMP:20260424T094133
CREATED:20220217T190434Z
LAST-MODIFIED:20221221T191822Z
UID:10001510-1683449100-1683455400@unityatl.org
SUMMARY:Practicing the Presence—A Course in Miracles with Michael Wilkinson--via Zoom
DESCRIPTION:Practicing the Presence—A Course in Miracles\nWeekly Group Study Over Zoom!\nThis course aims at removing the blocks to the awareness of love’s presence. The opposite of love is fear\, but what is all-encompassing can have no opposite. \nThis course can be summed up very simply:   Nothing real can be threatened. Nothing unreal exists. Herein lies the peace of God. \nFacilitator: Michael Wilkinson          Sunday’s at 8:45 – 10:30 AM \nThis is an open and ongoing class.  All are welcome.  Drop-in any time.\nBooks can be ordered through The Wisdom Well-Unity Atlanta’s bookstore. \nNew people are very welcome to join!  If you are interested\, please email MWilkinson@leadstrat.com in order to receive the Zoom log-in information. 
URL:https://unityatl.org/events/practicing-the-presence-a-course-in-miracles-with-michael-wilkinson-via-zoom/2023-05-07/
LOCATION:Unity Atlanta\, 3597 Parkway Lane\, Norcross\, 30092\, United States
GEO:33.9597203;-84.231198
X-APPLE-STRUCTURED-LOCATION;VALUE=URI;X-ADDRESS=Unity Atlanta 3597 Parkway Lane Norcross 30092 United States;X-APPLE-RADIUS=500;X-TITLE=3597 Parkway Lane:geo:-84.231198,33.9597203
END:VEVENT
BEGIN:VEVENT
DTSTART;TZID=America/New_York:20230507T100000
DTEND;TZID=America/New_York:20230507T123000
DTSTAMP:20260424T094133
CREATED:20230503T153525Z
LAST-MODIFIED:20230503T153525Z
UID:10001685-1683453600-1683462600@unityatl.org
SUMMARY:Reiki Healing Sessions--Unavailable May 7th
DESCRIPTION:The Healing Room Is Not Available This Sunday\, May 7th.  But Will Be Back The Following Sunday.\n 
URL:https://unityatl.org/events/reiki-healing-sessions-2-2/
LOCATION:Unity Atlanta\, 3597 Parkway Lane\, Norcross\, 30092\, United States
GEO:33.9597203;-84.231198
X-APPLE-STRUCTURED-LOCATION;VALUE=URI;X-ADDRESS=Unity Atlanta 3597 Parkway Lane Norcross 30092 United States;X-APPLE-RADIUS=500;X-TITLE=3597 Parkway Lane:geo:-84.231198,33.9597203
END:VEVENT
BEGIN:VEVENT
DTSTART;TZID=America/New_York:20230507T100000
DTEND;TZID=America/New_York:20230507T130000
DTSTAMP:20260424T094133
CREATED:20220929T171101Z
LAST-MODIFIED:20240425T205921Z
UID:10001229-1683453600-1683464400@unityatl.org
SUMMARY:Wisdom Well Bookstore
DESCRIPTION:The Wisdom Well Bookstore\n\nOur metaphysical bookstore reflects the heart of Unity Atlanta Church. It offers a collection of new thought\, spiritual\, and self-help books. We know you’ll be inspired with the large selection of gift items. The bookstore also supports our  Adult Education classes with a supply of teaching materials and textbooks. Our volunteer Bookstore Angels are always eager to introduce a new book or reacquaint us with an old classic. \nWisdom Well Store Hours:  Sundays\, 10:00 AM – 1:00 PM \nLooking for a book in particular? \nTo contact:  unitywisdomwell@gmail.com  or call the church office: 770-441-0585 \n\n  \n  \n  \n  \nWe have books for diverse interests:                                                                                  We also have many gifts including:            \nSpirituality                                                                                                                                Bimonthly issues of Unity Magazine\nBibles & Bible Reference Books                                                                                              Bimonthly issues of Daily Word\nPrayer & Meditation                                                                                                                 Greeting Cards\nInspiration & Motivation                                                                                                           Affirmation and 12 power stones\nRelationships                                                                                                                          Candles\nHealth & Healing                                                                                                                     Meditative scents\nTransitioning & Grieving                                                                                                          Notepads\nAngels                                                                                                                                     T-shirts\nBooks for children                                                                                                                   Bookmarks \n  \n 
URL:https://unityatl.org/events/wisdom-well-bookstore/2023-05-07/
LOCATION:Unity Atlanta\, 3597 Parkway Lane\, Norcross\, 30092\, United States
GEO:33.9597203;-84.231198
X-APPLE-STRUCTURED-LOCATION;VALUE=URI;X-ADDRESS=Unity Atlanta 3597 Parkway Lane Norcross 30092 United States;X-APPLE-RADIUS=500;X-TITLE=3597 Parkway Lane:geo:-84.231198,33.9597203
END:VEVENT
BEGIN:VEVENT
DTSTART;TZID=America/New_York:20230507T110000
DTEND;TZID=America/New_York:20230507T120000
DTSTAMP:20260424T094133
CREATED:20230413T131457Z
LAST-MODIFIED:20230426T180139Z
UID:10001814-1683457200-1683460800@unityatl.org
SUMMARY:Guest Minister: Rev. Lawrence E. Bergmann
DESCRIPTION:Stepping Stones of Spirit: Messages for Spring 2023\nChallenges of life aren’t God’s punishments or holy tests. They’re part of our journey as spiritual beings living a human experience. The truth is: God doesn’t give us any trials to handle. God is the One Presence and One Power in the Universe and in our lives which helps us overcome and soar. \nSo\, as we live our faith\, we get to choose whether what happens—the seeming struggles and difficulties—will bring us down. Or whether they’ll become stepping stones to new places of wonder\, joy\, and fulfillment. \nJoin us this Sunday\, April 7th\, at 11:00 Eastern time\, in person or via livestream\, as we welcome our own Rev. Larry Bergmann\, as our guest minister. \n \nRev. Larry’s message\, “Re-Lighting the Light” will share how we can see the difficult aspects of our life as stepping stones on our path\, instead of stumbling blocks.  That they can show us the path of self-realization for which we were born. \nMessage: “Re-Lighting the Light” – Rev. Lawrence E. Bergmann\, Guest Minister \nTo Live Stream the 11:00 AM Service:\n1. Live Stream https://unityatl.org/live-stream/\n2. Face Book https://www.facebook.com/UnityAtlanta \nSee the entire Spring Series Sunday message titles here.
URL:https://unityatl.org/events/guest-minister-rev-lawrence-e-bergmann/
LOCATION:Unity Atlanta\, 3597 Parkway Lane\, Norcross\, 30092\, United States
GEO:33.9597203;-84.231198
X-APPLE-STRUCTURED-LOCATION;VALUE=URI;X-ADDRESS=Unity Atlanta 3597 Parkway Lane Norcross 30092 United States;X-APPLE-RADIUS=500;X-TITLE=3597 Parkway Lane:geo:-84.231198,33.9597203
END:VEVENT
BEGIN:VEVENT
DTSTART;TZID=America/New_York:20230509T200000
DTEND;TZID=America/New_York:20230509T210000
DTSTAMP:20260424T094133
CREATED:20230412T145206Z
LAST-MODIFIED:20230412T145206Z
UID:10001812-1683662400-1683666000@unityatl.org
SUMMARY:Conexión Divina – Grupo de Estudio y Oración via Zoom
DESCRIPTION:Conexión Divina – Grupo de Estudio y Oración via Zoom\n \n2023 un año nuevo cargado de bendiciones e inmensas oportunidades para continuar explorando y practicando las enseñanzas espirituales de grandes maestros como Jesús\, Buda\, Gandhi y otros. Únete a nosotros para con la Revda. Xiomara\, leer\, discutir\, compartir ideas y vivencias que apoyan nuestro desarrollo espiritual y personal \n  \nReuniones vía Zoom los martes de 8:00 a 9:00 PM EDT \nFolleto Unity “El Sendero Hacia La Paz Interna” – Los temas de este folleto nos revelan como otras personas encontraron su camino hacia la paz superando los retos comunes en la vida diaria. \nMartes\, enero 3\, 10\, 17\, 24\, 31 y febrero 7.14 y 21 \nFolleto Unity “El Poder de la Oración” – Nos invita a vivir experiencias maravillosas a medida que aportamos nuestra energía a la de otras personas para orar por sanación\, paz\, guía\, amor y gratitud. \nMartes\, marzo 21\, 28\, abril 4\,11\, 18\, 25 mayo 2\, 9 y 16 \nEn receso del 28 de febrero al 21 de marzo \nPara recibir Enlace Zoom por favor envíe Email a  xmalagon@sbcglobal.net
URL:https://unityatl.org/events/conexion-divina-grupo-de-estudio-y-oracion-via-zoom-2/2023-05-09/
LOCATION:Unity Atlanta\, 3597 Parkway Lane\, Norcross\, 30092\, United States
GEO:33.9597203;-84.231198
X-APPLE-STRUCTURED-LOCATION;VALUE=URI;X-ADDRESS=Unity Atlanta 3597 Parkway Lane Norcross 30092 United States;X-APPLE-RADIUS=500;X-TITLE=3597 Parkway Lane:geo:-84.231198,33.9597203
END:VEVENT
BEGIN:VEVENT
DTSTART;TZID=America/New_York:20230511T193000
DTEND;TZID=America/New_York:20230511T210000
DTSTAMP:20260424T094133
CREATED:20230321T163902Z
LAST-MODIFIED:20230322T182741Z
UID:10001742-1683833400-1683838800@unityatl.org
SUMMARY:Unity Atlanta Men's Group
DESCRIPTION:Unity Atlanta Men’s Group \nThe men’s group meets onsite at the church the 1st – 3rd Thursdays of the month.  The 4th (and if applicable\, the 5th) Thursday is often a Game Night\, or one of a\nnumber of various activities. \nFor any questions\, including the logistics for the 4th and 5th Thursdays\, please TEXT Steve Peck at 770-639-5242 or email him at speck3053@comcast.net/   \n \nLocation:  Unity Atlanta Room 108   Time: 7:30 – 9:00 PM \nFor any questions\,  please TEXT Steve Peck at 770-639-5242 or email him at speck3053@comcast.net/      \nThe Unity Atlanta Men’s Group Meetings begin with a brief 1-2 minute check-in during which each member shares how his week went\, what’s gong on in his life\, and any success or challenges he may be experiencing. \nWe then move on to a topic\, which either arises during the check-in or has been prepared in advance by one of the members.  Topics\, week from week\, have a wide range of subjects.  We share from our own experience rather than giving opinions or advice or telling stories.  Through this sharing\, a sense of brotherhood develops with the individual members while retaining an openness that is welcoming to all. \nOccasionally\, we also conduct public outreach\, and each fall we sponsor a men only retreat. \nMission Statement: \n\nWe are a self-supporting\, self-facilitating\, spiritually-based group\nWe remind each other that we are all connected and learn from our collective wisdom\nWe promote spirituality\, growth\, learning and community\nWe support each other and remind each other to live “in faith”\nWe share our lives\, our joy\, and our abundance to become like-minded brothers\nWe radiate our spirituality to our families\, friends and the world\nWe express our feelings and emotions through healthy communication\nRegardless of our means and circumstances\, we are friends and equals\nWe are here–join us!
URL:https://unityatl.org/events/unity-atlanta-mens-group-17/2023-05-11/
LOCATION:Unity Atlanta\, 3597 Parkway Lane\, Norcross\, 30092\, United States
GEO:33.9597203;-84.231198
X-APPLE-STRUCTURED-LOCATION;VALUE=URI;X-ADDRESS=Unity Atlanta 3597 Parkway Lane Norcross 30092 United States;X-APPLE-RADIUS=500;X-TITLE=3597 Parkway Lane:geo:-84.231198,33.9597203
END:VEVENT
BEGIN:VEVENT
DTSTART;TZID=America/New_York:20230511T193000
DTEND;TZID=America/New_York:20230511T210000
DTSTAMP:20260424T094133
CREATED:20230322T183041Z
LAST-MODIFIED:20241031T174435Z
UID:10001750-1683833400-1683838800@unityatl.org
SUMMARY:Unity Atlanta Men's Group
DESCRIPTION:Unity Atlanta Men’s Group \nThe men’s group meets onsite at the church the 1st – 3rd Thursdays of the month.  The 4th (and if applicable\, the 5th) Thursday is often a Game Night\, or one of a number of various activities. \n \nFor any questions\, including the logistics for the 4th and 5th Thursdays\, please TEXT Steve Peck at 770-639-5242 or email him at speck3053@comcast.net   \nLocation:  Unity Atlanta Room 108   Time: 7:30 – 9:00 PM \nFor any questions\,  please TEXT Steve Peck at 770-639-5242 or email him at speck3053@comcast.net/      \nThe Unity Atlanta Men’s Group Meetings begin with a brief 1-2 minute check-in during which each member shares how his week went\, what’s gong on in his life\, and any success or challenges he may be experiencing. \nWe then move on to a topic\, which either arises during the check-in or has been prepared in advance by one of the members.  Topics\, week from week\, have a wide range of subjects.  We share from our own experience rather than giving opinions or advice or telling stories.  Through this sharing\, a sense of brotherhood develops with the individual members while retaining an openness that is welcoming to all. \nOccasionally\, we also conduct public outreach\, and each fall we sponsor a men only retreat. \nMission Statement: \n\nWe are a self-supporting\, self-facilitating\, spiritually-based group\nWe remind each other that we are all connected and learn from our collective wisdom\nWe promote spirituality\, growth\, learning and community\nWe support each other and remind each other to live “in faith”\nWe share our lives\, our joy\, and our abundance to become like-minded brothers\nWe radiate our spirituality to our families\, friends and the world\nWe express our feelings and emotions through healthy communication\nRegardless of our means and circumstances\, we are friends and equals\nWe are here–join us!
URL:https://unityatl.org/events/unity-atlanta-mens-group-18/2023-05-11/
LOCATION:Unity Atlanta\, 3597 Parkway Lane\, Norcross\, 30092\, United States
GEO:33.9597203;-84.231198
X-APPLE-STRUCTURED-LOCATION;VALUE=URI;X-ADDRESS=Unity Atlanta 3597 Parkway Lane Norcross 30092 United States;X-APPLE-RADIUS=500;X-TITLE=3597 Parkway Lane:geo:-84.231198,33.9597203
END:VEVENT
BEGIN:VEVENT
DTSTART;TZID=America/New_York:20230512T190000
DTEND;TZID=America/New_York:20230512T213000
DTSTAMP:20260424T094133
CREATED:20230406T164017Z
LAST-MODIFIED:20230509T133528Z
UID:10001807-1683918000-1683927000@unityatl.org
SUMMARY:POSTPONED ONE WEEK May Coffee House: Celebrating Diversity
DESCRIPTION:Due to matters beyond our control\, our May Coffee House is being moved back one week to Friday\, May 19th.\n\nJoin Unity Atlanta Church in celebrating diversity at our May Coffee House!\n \nWe believe that every individual has a unique and positive contribution to make in society and in our church. We respect and appreciate individuals’ differences in race\, nationality\, culture\, language\, beliefs\, sexual orientation\, age and more. \nDate: Friday\, May 19   POSTPONED TO NEXT FRIDAY THE 19TH\nTime; 7:00 – 9:30 pm\nLocation: Fellowship Hall \nOur May Coffee House will honor the diversity of our beloved community. As friends and family share their various histories\, traditions\, customs\, experiences\, journeys\, ways of life\, or wisdom\, we gain greater understanding and acceptance of one another. Come connect with your Unity brothers and sisters through a “show and tell” of arts\, crafts\, photography\, readings\, writings\, dance\, dress\, music and more. \nFood will include a hot meal with salad and fruit and hot and cold beverages. This family-friendly event is provided on a love offering basis. We are grateful for donations to help cover expenses. \nIf you would like to participate as a presenter/entertainer\, contributor of food or volunteer to help the evening go smoothly\, please contact Rev. Barbara Huffman at 770-596-6663.
URL:https://unityatl.org/events/may-coffee-house-celebrating-diversity/
LOCATION:Unity Atlanta\, 3597 Parkway Lane\, Norcross\, 30092\, United States
GEO:33.9597203;-84.231198
X-APPLE-STRUCTURED-LOCATION;VALUE=URI;X-ADDRESS=Unity Atlanta 3597 Parkway Lane Norcross 30092 United States;X-APPLE-RADIUS=500;X-TITLE=3597 Parkway Lane:geo:-84.231198,33.9597203
END:VEVENT
END:VCALENDAR