BEGIN:VCALENDAR
VERSION:2.0
PRODID:-//Unity Atlanta Church - ECPv6.15.20//NONSGML v1.0//EN
CALSCALE:GREGORIAN
METHOD:PUBLISH
X-ORIGINAL-URL:https://unityatl.org
X-WR-CALDESC:Events for Unity Atlanta Church
REFRESH-INTERVAL;VALUE=DURATION:PT1H
X-Robots-Tag:noindex
X-PUBLISHED-TTL:PT1H
BEGIN:VTIMEZONE
TZID:America/New_York
BEGIN:DAYLIGHT
TZOFFSETFROM:-0500
TZOFFSETTO:-0400
TZNAME:EDT
DTSTART:20220313T070000
END:DAYLIGHT
BEGIN:STANDARD
TZOFFSETFROM:-0400
TZOFFSETTO:-0500
TZNAME:EST
DTSTART:20221106T060000
END:STANDARD
BEGIN:DAYLIGHT
TZOFFSETFROM:-0500
TZOFFSETTO:-0400
TZNAME:EDT
DTSTART:20230312T070000
END:DAYLIGHT
BEGIN:STANDARD
TZOFFSETFROM:-0400
TZOFFSETTO:-0500
TZNAME:EST
DTSTART:20231105T060000
END:STANDARD
BEGIN:DAYLIGHT
TZOFFSETFROM:-0500
TZOFFSETTO:-0400
TZNAME:EDT
DTSTART:20240310T070000
END:DAYLIGHT
BEGIN:STANDARD
TZOFFSETFROM:-0400
TZOFFSETTO:-0500
TZNAME:EST
DTSTART:20241103T060000
END:STANDARD
END:VTIMEZONE
BEGIN:VEVENT
DTSTART;TZID=America/New_York:20230430T084500
DTEND;TZID=America/New_York:20230430T103000
DTSTAMP:20260424T080818
CREATED:20220217T190434Z
LAST-MODIFIED:20221221T191822Z
UID:10001509-1682844300-1682850600@unityatl.org
SUMMARY:Practicing the Presence—A Course in Miracles with Michael Wilkinson--via Zoom
DESCRIPTION:Practicing the Presence—A Course in Miracles\nWeekly Group Study Over Zoom!\nThis course aims at removing the blocks to the awareness of love’s presence. The opposite of love is fear\, but what is all-encompassing can have no opposite. \nThis course can be summed up very simply:   Nothing real can be threatened. Nothing unreal exists. Herein lies the peace of God. \nFacilitator: Michael Wilkinson          Sunday’s at 8:45 – 10:30 AM \nThis is an open and ongoing class.  All are welcome.  Drop-in any time.\nBooks can be ordered through The Wisdom Well-Unity Atlanta’s bookstore. \nNew people are very welcome to join!  If you are interested\, please email MWilkinson@leadstrat.com in order to receive the Zoom log-in information. 
URL:https://unityatl.org/events/practicing-the-presence-a-course-in-miracles-with-michael-wilkinson-via-zoom/2023-04-30/
LOCATION:Unity Atlanta\, 3597 Parkway Lane\, Norcross\, 30092\, United States
GEO:33.9597203;-84.231198
X-APPLE-STRUCTURED-LOCATION;VALUE=URI;X-ADDRESS=Unity Atlanta 3597 Parkway Lane Norcross 30092 United States;X-APPLE-RADIUS=500;X-TITLE=3597 Parkway Lane:geo:-84.231198,33.9597203
END:VEVENT
BEGIN:VEVENT
DTSTART;TZID=America/New_York:20230430T100000
DTEND;TZID=America/New_York:20230430T123000
DTSTAMP:20260424T080818
CREATED:20230302T172042Z
LAST-MODIFIED:20230403T151043Z
UID:10001684-1682848800-1682857800@unityatl.org
SUMMARY:Reiki Healing Sessions
DESCRIPTION:Come Enjoy A Session in Our Healing Room!\nOur healing team\, Rob and Elisha\, are joyfully ready to provide a healing session for you on Sunday mornings! \nThe Sacred Space of the healing room has been carefully created with Prayer and Sacred Symbols to help you better enjoy an energy session as you relax to soft music. \n  \nHealing Room Hours:  Sundays\, 10:00 AM – 12:30 PM\nLocation: Room 105\, off of the main lobby.  Sign in sheets are just inside the Healing Room.\nCost: Our healing practitioners provide healing sessions on a love offering basis.
URL:https://unityatl.org/events/reiki-healing-sessions-2/2023-04-30/
LOCATION:Unity Atlanta\, 3597 Parkway Lane\, Norcross\, 30092\, United States
GEO:33.9597203;-84.231198
X-APPLE-STRUCTURED-LOCATION;VALUE=URI;X-ADDRESS=Unity Atlanta 3597 Parkway Lane Norcross 30092 United States;X-APPLE-RADIUS=500;X-TITLE=3597 Parkway Lane:geo:-84.231198,33.9597203
END:VEVENT
BEGIN:VEVENT
DTSTART;TZID=America/New_York:20230430T100000
DTEND;TZID=America/New_York:20230430T130000
DTSTAMP:20260424T080818
CREATED:20220929T171101Z
LAST-MODIFIED:20240425T205921Z
UID:10001228-1682848800-1682859600@unityatl.org
SUMMARY:Wisdom Well Bookstore
DESCRIPTION:The Wisdom Well Bookstore\n\nOur metaphysical bookstore reflects the heart of Unity Atlanta Church. It offers a collection of new thought\, spiritual\, and self-help books. We know you’ll be inspired with the large selection of gift items. The bookstore also supports our  Adult Education classes with a supply of teaching materials and textbooks. Our volunteer Bookstore Angels are always eager to introduce a new book or reacquaint us with an old classic. \nWisdom Well Store Hours:  Sundays\, 10:00 AM – 1:00 PM \nLooking for a book in particular? \nTo contact:  unitywisdomwell@gmail.com  or call the church office: 770-441-0585 \n\n  \n  \n  \n  \nWe have books for diverse interests:                                                                                  We also have many gifts including:            \nSpirituality                                                                                                                                Bimonthly issues of Unity Magazine\nBibles & Bible Reference Books                                                                                              Bimonthly issues of Daily Word\nPrayer & Meditation                                                                                                                 Greeting Cards\nInspiration & Motivation                                                                                                           Affirmation and 12 power stones\nRelationships                                                                                                                          Candles\nHealth & Healing                                                                                                                     Meditative scents\nTransitioning & Grieving                                                                                                          Notepads\nAngels                                                                                                                                     T-shirts\nBooks for children                                                                                                                   Bookmarks \n  \n 
URL:https://unityatl.org/events/wisdom-well-bookstore/2023-04-30/
LOCATION:Unity Atlanta\, 3597 Parkway Lane\, Norcross\, 30092\, United States
GEO:33.9597203;-84.231198
X-APPLE-STRUCTURED-LOCATION;VALUE=URI;X-ADDRESS=Unity Atlanta 3597 Parkway Lane Norcross 30092 United States;X-APPLE-RADIUS=500;X-TITLE=3597 Parkway Lane:geo:-84.231198,33.9597203
END:VEVENT
BEGIN:VEVENT
DTSTART;TZID=America/New_York:20230430T110000
DTEND;TZID=America/New_York:20230430T120000
DTSTAMP:20260424T080818
CREATED:20230426T173727Z
LAST-MODIFIED:20230426T173727Z
UID:10001816-1682852400-1682856000@unityatl.org
SUMMARY:Sunday Message: "The Strength to Stretch"
DESCRIPTION:Stepping Stones of Spirit: Messages for Spring 2023\nChallenges of life aren’t God’s punishments or holy tests. They’re part of our journey as spiritual beings living a human experience. The truth is: God doesn’t give us any trials to handle. God is the One Presence and One Power in the Universe and in our lives which helps us overcome and soar. \nSo\, as we live our faith\, we get to choose whether what happens—the seeming struggles and difficulties—will bring us down. Or whether they’ll become stepping stones to new places of wonder\, joy\, and fulfillment. \nJoin us each Sunday at 11:00 am Eastern time as we compassionately and lovingly encourage one another in transforming stumbling blocks into stepping stones. \n \nThis Sunday\, April 30th\,  Rev. Jenn shares how resilience helps us stretch ourselves so we can thrive. \nMessage: “The Strength to Stretch” – Rev. Jenn \nTo Live Stream the 11:00 AM Service:\n1. Live Stream https://unityatl.org/live-stream/\n2. Face Book https://www.facebook.com/UnityAtlanta \nSee the entire Spring Series Sunday message titles here.
URL:https://unityatl.org/events/sunday-message-the-strength-to-stretch/
LOCATION:Unity Atlanta\, 3597 Parkway Lane\, Norcross\, 30092\, United States
GEO:33.9597203;-84.231198
X-APPLE-STRUCTURED-LOCATION;VALUE=URI;X-ADDRESS=Unity Atlanta 3597 Parkway Lane Norcross 30092 United States;X-APPLE-RADIUS=500;X-TITLE=3597 Parkway Lane:geo:-84.231198,33.9597203
END:VEVENT
BEGIN:VEVENT
DTSTART;TZID=America/New_York:20230502T200000
DTEND;TZID=America/New_York:20230502T210000
DTSTAMP:20260424T080818
CREATED:20230412T145206Z
LAST-MODIFIED:20230412T145206Z
UID:10001811-1683057600-1683061200@unityatl.org
SUMMARY:Conexión Divina – Grupo de Estudio y Oración via Zoom
DESCRIPTION:Conexión Divina – Grupo de Estudio y Oración via Zoom\n \n2023 un año nuevo cargado de bendiciones e inmensas oportunidades para continuar explorando y practicando las enseñanzas espirituales de grandes maestros como Jesús\, Buda\, Gandhi y otros. Únete a nosotros para con la Revda. Xiomara\, leer\, discutir\, compartir ideas y vivencias que apoyan nuestro desarrollo espiritual y personal \n  \nReuniones vía Zoom los martes de 8:00 a 9:00 PM EDT \nFolleto Unity “El Sendero Hacia La Paz Interna” – Los temas de este folleto nos revelan como otras personas encontraron su camino hacia la paz superando los retos comunes en la vida diaria. \nMartes\, enero 3\, 10\, 17\, 24\, 31 y febrero 7.14 y 21 \nFolleto Unity “El Poder de la Oración” – Nos invita a vivir experiencias maravillosas a medida que aportamos nuestra energía a la de otras personas para orar por sanación\, paz\, guía\, amor y gratitud. \nMartes\, marzo 21\, 28\, abril 4\,11\, 18\, 25 mayo 2\, 9 y 16 \nEn receso del 28 de febrero al 21 de marzo \nPara recibir Enlace Zoom por favor envíe Email a  xmalagon@sbcglobal.net
URL:https://unityatl.org/events/conexion-divina-grupo-de-estudio-y-oracion-via-zoom-2/2023-05-02/
LOCATION:Unity Atlanta\, 3597 Parkway Lane\, Norcross\, 30092\, United States
GEO:33.9597203;-84.231198
X-APPLE-STRUCTURED-LOCATION;VALUE=URI;X-ADDRESS=Unity Atlanta 3597 Parkway Lane Norcross 30092 United States;X-APPLE-RADIUS=500;X-TITLE=3597 Parkway Lane:geo:-84.231198,33.9597203
END:VEVENT
BEGIN:VEVENT
DTSTART;TZID=America/New_York:20230504T193000
DTEND;TZID=America/New_York:20230504T210000
DTSTAMP:20260424T080818
CREATED:20230321T163902Z
LAST-MODIFIED:20230322T182741Z
UID:10001741-1683228600-1683234000@unityatl.org
SUMMARY:Unity Atlanta Men's Group
DESCRIPTION:Unity Atlanta Men’s Group \nThe men’s group meets onsite at the church the 1st – 3rd Thursdays of the month.  The 4th (and if applicable\, the 5th) Thursday is often a Game Night\, or one of a\nnumber of various activities. \nFor any questions\, including the logistics for the 4th and 5th Thursdays\, please TEXT Steve Peck at 770-639-5242 or email him at speck3053@comcast.net/   \n \nLocation:  Unity Atlanta Room 108   Time: 7:30 – 9:00 PM \nFor any questions\,  please TEXT Steve Peck at 770-639-5242 or email him at speck3053@comcast.net/      \nThe Unity Atlanta Men’s Group Meetings begin with a brief 1-2 minute check-in during which each member shares how his week went\, what’s gong on in his life\, and any success or challenges he may be experiencing. \nWe then move on to a topic\, which either arises during the check-in or has been prepared in advance by one of the members.  Topics\, week from week\, have a wide range of subjects.  We share from our own experience rather than giving opinions or advice or telling stories.  Through this sharing\, a sense of brotherhood develops with the individual members while retaining an openness that is welcoming to all. \nOccasionally\, we also conduct public outreach\, and each fall we sponsor a men only retreat. \nMission Statement: \n\nWe are a self-supporting\, self-facilitating\, spiritually-based group\nWe remind each other that we are all connected and learn from our collective wisdom\nWe promote spirituality\, growth\, learning and community\nWe support each other and remind each other to live “in faith”\nWe share our lives\, our joy\, and our abundance to become like-minded brothers\nWe radiate our spirituality to our families\, friends and the world\nWe express our feelings and emotions through healthy communication\nRegardless of our means and circumstances\, we are friends and equals\nWe are here–join us!
URL:https://unityatl.org/events/unity-atlanta-mens-group-17/2023-05-04/
LOCATION:Unity Atlanta\, 3597 Parkway Lane\, Norcross\, 30092\, United States
GEO:33.9597203;-84.231198
X-APPLE-STRUCTURED-LOCATION;VALUE=URI;X-ADDRESS=Unity Atlanta 3597 Parkway Lane Norcross 30092 United States;X-APPLE-RADIUS=500;X-TITLE=3597 Parkway Lane:geo:-84.231198,33.9597203
END:VEVENT
BEGIN:VEVENT
DTSTART;TZID=America/New_York:20230504T193000
DTEND;TZID=America/New_York:20230504T210000
DTSTAMP:20260424T080818
CREATED:20230322T183041Z
LAST-MODIFIED:20241031T174435Z
UID:10001749-1683228600-1683234000@unityatl.org
SUMMARY:Unity Atlanta Men's Group
DESCRIPTION:Unity Atlanta Men’s Group \nThe men’s group meets onsite at the church the 1st – 3rd Thursdays of the month.  The 4th (and if applicable\, the 5th) Thursday is often a Game Night\, or one of a number of various activities. \n \nFor any questions\, including the logistics for the 4th and 5th Thursdays\, please TEXT Steve Peck at 770-639-5242 or email him at speck3053@comcast.net   \nLocation:  Unity Atlanta Room 108   Time: 7:30 – 9:00 PM \nFor any questions\,  please TEXT Steve Peck at 770-639-5242 or email him at speck3053@comcast.net/      \nThe Unity Atlanta Men’s Group Meetings begin with a brief 1-2 minute check-in during which each member shares how his week went\, what’s gong on in his life\, and any success or challenges he may be experiencing. \nWe then move on to a topic\, which either arises during the check-in or has been prepared in advance by one of the members.  Topics\, week from week\, have a wide range of subjects.  We share from our own experience rather than giving opinions or advice or telling stories.  Through this sharing\, a sense of brotherhood develops with the individual members while retaining an openness that is welcoming to all. \nOccasionally\, we also conduct public outreach\, and each fall we sponsor a men only retreat. \nMission Statement: \n\nWe are a self-supporting\, self-facilitating\, spiritually-based group\nWe remind each other that we are all connected and learn from our collective wisdom\nWe promote spirituality\, growth\, learning and community\nWe support each other and remind each other to live “in faith”\nWe share our lives\, our joy\, and our abundance to become like-minded brothers\nWe radiate our spirituality to our families\, friends and the world\nWe express our feelings and emotions through healthy communication\nRegardless of our means and circumstances\, we are friends and equals\nWe are here–join us!
URL:https://unityatl.org/events/unity-atlanta-mens-group-18/2023-05-04/
LOCATION:Unity Atlanta\, 3597 Parkway Lane\, Norcross\, 30092\, United States
GEO:33.9597203;-84.231198
X-APPLE-STRUCTURED-LOCATION;VALUE=URI;X-ADDRESS=Unity Atlanta 3597 Parkway Lane Norcross 30092 United States;X-APPLE-RADIUS=500;X-TITLE=3597 Parkway Lane:geo:-84.231198,33.9597203
END:VEVENT
BEGIN:VEVENT
DTSTART;TZID=America/New_York:20230505T160000
DTEND;TZID=America/New_York:20230507T120000
DTSTAMP:20260424T080818
CREATED:20230105T183530Z
LAST-MODIFIED:20230427T144455Z
UID:10001615-1683302400-1683460800@unityatl.org
SUMMARY:Women's Retreat at Amicalola Falls State Park and Lodge
DESCRIPTION:Women’s Retreat 2023\nWomen’s Retreat – Amicalola Falls State Park and Lodge \nMay 5\, 6\, and 7\, 2023 \nAll of the rooms\, the dining hall and the meeting rooms are all in one building\, contained in the lodge. \nThe lodge rooms have all the luxuries of a hotel. \nA single room is an all -inclusive weekend price of $ 575 per person. There are 5 available. \nA double room (two people and two beds) is an all- inclusive price of $ $ 375\, per person. \nA $ 50.00 deposit holds your space and you can make payments in any increments needed\, as long as you pay in full by May 1st. (Please let Pam know your roommate preference\, when you pay your deposit.) \nYou can stay in the lodge the entire weekend and enjoy the beautiful mountain views or you hike\, view water falls\, tour a winery (at your own expense)\, etc. And based on feedback from last year\, there will be more free time on Saturday to enjoy all the things… or just sleep! \nTo register\, or for more information\, contact Pam Johnson at pam@unityatl.org
URL:https://unityatl.org/events/womens-retreat-at-amicalola-falls-state-park-and-lodge/
LOCATION:Unity Atlanta\, 3597 Parkway Lane\, Norcross\, 30092\, United States
GEO:33.9597203;-84.231198
X-APPLE-STRUCTURED-LOCATION;VALUE=URI;X-ADDRESS=Unity Atlanta 3597 Parkway Lane Norcross 30092 United States;X-APPLE-RADIUS=500;X-TITLE=3597 Parkway Lane:geo:-84.231198,33.9597203
END:VEVENT
END:VCALENDAR