BEGIN:VCALENDAR
VERSION:2.0
PRODID:-//Unity Atlanta Church - ECPv6.15.20//NONSGML v1.0//EN
CALSCALE:GREGORIAN
METHOD:PUBLISH
X-WR-CALNAME:Unity Atlanta Church
X-ORIGINAL-URL:https://unityatl.org
X-WR-CALDESC:Events for Unity Atlanta Church
REFRESH-INTERVAL;VALUE=DURATION:PT1H
X-Robots-Tag:noindex
X-PUBLISHED-TTL:PT1H
BEGIN:VTIMEZONE
TZID:America/New_York
BEGIN:DAYLIGHT
TZOFFSETFROM:-0500
TZOFFSETTO:-0400
TZNAME:EDT
DTSTART:20250309T070000
END:DAYLIGHT
BEGIN:STANDARD
TZOFFSETFROM:-0400
TZOFFSETTO:-0500
TZNAME:EST
DTSTART:20251102T060000
END:STANDARD
BEGIN:DAYLIGHT
TZOFFSETFROM:-0500
TZOFFSETTO:-0400
TZNAME:EDT
DTSTART:20260308T070000
END:DAYLIGHT
BEGIN:STANDARD
TZOFFSETFROM:-0400
TZOFFSETTO:-0500
TZNAME:EST
DTSTART:20261101T060000
END:STANDARD
BEGIN:DAYLIGHT
TZOFFSETFROM:-0500
TZOFFSETTO:-0400
TZNAME:EDT
DTSTART:20270314T070000
END:DAYLIGHT
BEGIN:STANDARD
TZOFFSETFROM:-0400
TZOFFSETTO:-0500
TZNAME:EST
DTSTART:20271107T060000
END:STANDARD
END:VTIMEZONE
BEGIN:VEVENT
DTSTART;TZID=America/New_York:20260420T183000
DTEND;TZID=America/New_York:20260420T200000
DTSTAMP:20260420T054806
CREATED:20260108T174638Z
LAST-MODIFIED:20260108T174656Z
UID:10004755-1776709800-1776715200@unityatl.org
SUMMARY:Toastmasters
DESCRIPTION:Looking for an opportunity to work on your speaking and public presentation skills? We are happy to have Toastmasters meet here at the church.\n \nDates:  2nd\, 3rd\, and 4th Mondays  (No meeting the weeks of Memorial Day\, Thanksgiving\, Christmas)\nTime: 6:30 – 8:00pm\nLocation: Fellowship Hall \nGuests are always welcome! \nFor more information please contact:  Ajaye Hopper 678-622-2225 info@topshelftm.com \nUnity Atlanta Church rents space to Toastmasters but is not affiliated with them.  We post this on our calendar as an event that some of our congregants may find useful. 
URL:https://unityatl.org/events/toastmasters-29/2026-04-20/
LOCATION:Unity Atlanta\, 3597 Parkway Lane\, Norcross\, 30092\, United States
GEO:33.9597203;-84.231198
X-APPLE-STRUCTURED-LOCATION;VALUE=URI;X-ADDRESS=Unity Atlanta 3597 Parkway Lane Norcross 30092 United States;X-APPLE-RADIUS=500;X-TITLE=3597 Parkway Lane:geo:-84.231198,33.9597203
END:VEVENT
END:VCALENDAR